Workbook

Sheet Admin Sheet
A1: Administration Sheet | F1: Tournament | G1: Date | H1: Time | I1: Venue
A2: League: | C2: Division 2 (Yorks) | F2: Tournament 1 | G2: 40810 | H2: 12:00 - 17:00 | I2: Kingston Kayak Club
A3: Organiser: | C3: Andrew Lowthorpe | F3: Tournament 2 | G3: 40845 | H3: 17:00 - 21:00 | I3: York (Yearsley)
F4: Tournament 3 | G4: 40887 | H4: 17:00 - 21:00 | I4: York (Yearsley)
F5: Tournament 4 | G5: 40929 | H5: 17:00 - 21:00 | I5: York (Yearsley)
F6: Tournament 5 | G6: 40957 | H6: 17:00 - 21:00 | I6: York (Yearsley)
A10: Teams | C10: Tournaments to Miss | D10: Tournaments To Attend
A11: Leeds Canoe Club | C11: =AttMapN!B3 -> T2 | D11: =AttMapY!B3 -> T1, T3, T4, T5
A12: White Rose C | C12: =AttMapN!B4 -> T2 | D12: =AttMapY!B4 -> T1, T3, T4, T5
A13: Kingston Kaos | C13: =AttMapN!B5 -> T5 | D13: =AttMapY!B5 -> T1, T2, T3, T4
A14: FOA B | C14: =AttMapN!B6 -> T5 | D14: =AttMapY!B6 -> T1, T2, T3, T4
A15: Kingston B | C15: =AttMapN!B7 -> T3 | D15: =AttMapY!B7 -> T1, T2, T4, T5
A16: Leeds University | C16: =AttMapN!B8 -> T4 | D16: =AttMapY!B8 -> T1, T2, T3, T5
A17: Pennine C | C17: =AttMapN!B9 -> T1, T3 | D17: =AttMapY!B9 -> T2, T4, T5
A18: Team D | C18: =AttMapN!B10 -> T1 | D18: =AttMapY!B10 -> T2, T3, T4, T5

Sheet Teams Attendance
B1: 40810 | C1: 40845 | D1: 40887 | E1: 40929 | F1: 40958
B2: T1 | C2: T2 | D2: T3 | E2: T4 | F2: T5
A3: Leeds canoe club | C3: N
A4: White Rose C | C4: N
A5: Kingston kaos | F5: N
A6: FOA B | F6: N
A7: Kingston B | D7: N
A8: Leeds university | E8: N
A9: Pennine C | B9: N | D9: N
A10: Team D | B10: N

Sheet AttMapN
B1: ALL | C1: ='Teams Attendance'!B1 -> 40810 | D1: ='Teams Attendance'!C1 -> 40845 | E1: ='Teams Attendance'!D1 -> 40887 | F1: ='Teams Attendance'!E1 -> 40929 | G1: ='Teams Attendance'!F1 -> 40958
C2: ='Teams Attendance'!B2 -> T1 | D2: ='Teams Attendance'!C2 -> T2 | E2: ='Teams Attendance'!D2 -> T3 | F2: ='Teams Attendance'!E2 -> T4 | G2: ='Teams Attendance'!F2 -> T5
A3: ='Teams Attendance'!A3 -> Leeds canoe club | B3: =LEFT(CONCATENATE(C3,D3,E3,F3,G3,),LEN(CONCATENATE(C3,D3,E3,F3,G3,))-2) -> T2 | C3: =IF('Teams Attendance'!B3=0,"",C$2 & ", ") | D3: =IF('Teams Attendance'!C3=0,"",D$2 & ", ") -> T2, | E3: =IF('Teams Attendance'!D3=0,"",E$2 & ", ") | F3: =IF('Teams Attendance'!E3=0,"",F$2 & ", ") | G3: =IF('Teams Attendance'!F3=0,"",G$2 & ", ")
A4: ='Teams Attendance'!A4 -> White Rose C | B4: =LEFT(CONCATENATE(C4,D4,E4,F4,G4,),LEN(CONCATENATE(C4,D4,E4,F4,G4,))-2) -> T2 | C4: =IF('Teams Attendance'!B4=0,"",C$2 & ", ") | D4: =IF('Teams Attendance'!C4=0,"",D$2 & ", ") -> T2, | E4: =IF('Teams Attendance'!D4=0,"",E$2 & ", ") | F4: =IF('Teams Attendance'!E4=0,"",F$2 & ", ") | G4: =IF('Teams Attendance'!F4=0,"",G$2 & ", ")
A5: ='Teams Attendance'!A5 -> Kingston kaos | B5: =LEFT(CONCATENATE(C5,D5,E5,F5,G5,),LEN(CONCATENATE(C5,D5,E5,F5,G5,))-2) -> T5 | C5: =IF('Teams Attendance'!B5=0,"",C$2 & ", ") | D5: =IF('Teams Attendance'!C5=0,"",D$2 & ", ") | E5: =IF('Teams Attendance'!D5=0,"",E$2 & ", ") | F5: =IF('Teams Attendance'!E5=0,"",F$2 & ", ") | G5: =IF('Teams Attendance'!F5=0,"",G$2 & ", ") -> T5,
A6: ='Teams Attendance'!A6 -> FOA B | B6: =LEFT(CONCATENATE(C6,D6,E6,F6,G6,),LEN(CONCATENATE(C6,D6,E6,F6,G6,))-2) -> T5 | C6: =IF('Teams Attendance'!B6=0,"",C$2 & ", ") | D6: =IF('Teams Attendance'!C6=0,"",D$2 & ", ") | E6: =IF('Teams Attendance'!D6=0,"",E$2 & ", ") | F6: =IF('Teams Attendance'!E6=0,"",F$2 & ", ") | G6: =IF('Teams Attendance'!F6=0,"",G$2 & ", ") -> T5,
A7: ='Teams Attendance'!A7 -> Kingston B | B7: =LEFT(CONCATENATE(C7,D7,E7,F7,G7,),LEN(CONCATENATE(C7,D7,E7,F7,G7,))-2) -> T3 | C7: =IF('Teams Attendance'!B7=0,"",C$2 & ", ") | D7: =IF('Teams Attendance'!C7=0,"",D$2 & ", ") | E7: =IF('Teams Attendance'!D7=0,"",E$2 & ", ") -> T3, | F7: =IF('Teams Attendance'!E7=0,"",F$2 & ", ") | G7: =IF('Teams Attendance'!F7=0,"",G$2 & ", ")
A8: ='Teams Attendance'!A8 -> Leeds university | B8: =LEFT(CONCATENATE(C8,D8,E8,F8,G8,),LEN(CONCATENATE(C8,D8,E8,F8,G8,))-2) -> T4 | C8: =IF('Teams Attendance'!B8=0,"",C$2 & ", ") | D8: =IF('Teams Attendance'!C8=0,"",D$2 & ", ") | E8: =IF('Teams Attendance'!D8=0,"",E$2 & ", ") | F8: =IF('Teams Attendance'!E8=0,"",F$2 & ", ") -> T4, | G8: =IF('Teams Attendance'!F8=0,"",G$2 & ", ")
A9: ='Teams Attendance'!A9 -> Pennine C | B9: =LEFT(CONCATENATE(C9,D9,E9,F9,G9,),LEN(CONCATENATE(C9,D9,E9,F9,G9,))-2) -> T1, T3 | C9: =IF('Teams Attendance'!B9=0,"",C$2 & ", ") -> T1, | D9: =IF('Teams Attendance'!C9=0,"",D$2 & ", ") | E9: =IF('Teams Attendance'!D9=0,"",E$2 & ", ") -> T3, | F9: =IF('Teams Attendance'!E9=0,"",F$2 & ", ") | G9: =IF('Teams Attendance'!F9=0,"",G$2 & ", ")
A10: ='Teams Attendance'!A10 -> Team D | B10: =LEFT(CONCATENATE(C10,D10,E10,F10,G10,),LEN(CONCATENATE(C10,D10,E10,F10,G10,))-2) -> T1 | C10: =IF('Teams Attendance'!B10=0,"",C$2 & ", ") -> T1, | D10: =IF('Teams Attendance'!C10=0,"",D$2 & ", ") | E10: =IF('Teams Attendance'!D10=0,"",E$2 & ", ") | F10: =IF('Teams Attendance'!E10=0,"",F$2 & ", ") | G10: =IF('Teams Attendance'!F10=0,"",G$2 & ", ")
C11: =IF('Teams Attendance'!B11=0,"",C$2) | D11: =IF('Teams Attendance'!C11=0,"",D$2) | E11: =IF('Teams Attendance'!D11=0,"",E$2) | F11: =IF('Teams Attendance'!E11=0,"",F$2) | G11: =IF('Teams Attendance'!F11=0,"",G$2)

Sheet AttMapY
B1: ALL | C1: ='Teams Attendance'!B1 -> 40810 | D1: ='Teams Attendance'!C1 -> 40845 | E1: ='Teams Attendance'!D1 -> 40887 | F1: ='Teams Attendance'!E1 -> 40929 | G1: ='Teams Attendance'!F1 -> 40958
C2: ='Teams Attendance'!B2 -> T1 | D2: ='Teams Attendance'!C2 -> T2 | E2: ='Teams Attendance'!D2 -> T3 | F2: ='Teams Attendance'!E2 -> T4 | G2: ='Teams Attendance'!F2 -> T5
A3: ='Teams Attendance'!A3 -> Leeds canoe club | B3: =LEFT(CONCATENATE(C3,D3,E3,F3,G3,),LEN(CONCATENATE(C3,D3,E3,F3,G3,))-2) -> T1, T3, T4, T5 | C3: =IF('Teams Attendance'!B3=0,C$2 & ", ","") -> T1, | D3: =IF('Teams Attendance'!C3=0,D$2 & ", ","") | E3: =IF('Teams Attendance'!D3=0,E$2 & ", ","") -> T3, | F3: =IF('Teams Attendance'!E3=0,F$2 & ", ","") -> T4, | G3: =IF('Teams Attendance'!F3=0,G$2 & ", ","") -> T5,
A4: ='Teams Attendance'!A4 -> White Rose C | B4: =LEFT(CONCATENATE(C4,D4,E4,F4,G4,),LEN(CONCATENATE(C4,D4,E4,F4,G4,))-2) -> T1, T3, T4, T5 | C4: =IF('Teams Attendance'!B4=0,C$2 & ", ","") -> T1, | D4: =IF('Teams Attendance'!C4=0,D$2 & ", ","") | E4: =IF('Teams Attendance'!D4=0,E$2 & ", ","") -> T3, | F4: =IF('Teams Attendance'!E4=0,F$2 & ", ","") -> T4, | G4: =IF('Teams Attendance'!F4=0,G$2 & ", ","") -> T5,
A5: ='Teams Attendance'!A5 -> Kingston kaos | B5: =LEFT(CONCATENATE(C5,D5,E5,F5,G5,),LEN(CONCATENATE(C5,D5,E5,F5,G5,))-2) -> T1, T2, T3, T4 | C5: =IF('Teams Attendance'!B5=0,C$2 & ", ","") -> T1, | D5: =IF('Teams Attendance'!C5=0,D$2 & ", ","") -> T2, | E5: =IF('Teams Attendance'!D5=0,E$2 & ", ","") -> T3, | F5: =IF('Teams Attendance'!E5=0,F$2 & ", ","") -> T4, | G5: =IF('Teams Attendance'!F5=0,G$2 & ", ","")
A6: ='Teams Attendance'!A6 -> FOA B | B6: =LEFT(CONCATENATE(C6,D6,E6,F6,G6,),LEN(CONCATENATE(C6,D6,E6,F6,G6,))-2) -> T1, T2, T3, T4 | C6: =IF('Teams Attendance'!B6=0,C$2 & ", ","") -> T1, | D6: =IF('Teams Attendance'!C6=0,D$2 & ", ","") -> T2, | E6: =IF('Teams Attendance'!D6=0,E$2 & ", ","") -> T3, | F6: =IF('Teams Attendance'!E6=0,F$2 & ", ","") -> T4, | G6: =IF('Teams Attendance'!F6=0,G$2 & ", ","")
A7: ='Teams Attendance'!A7 -> Kingston B | B7: =LEFT(CONCATENATE(C7,D7,E7,F7,G7,),LEN(CONCATENATE(C7,D7,E7,F7,G7,))-2) -> T1, T2, T4, T5 | C7: =IF('Teams Attendance'!B7=0,C$2 & ", ","") -> T1, | D7: =IF('Teams Attendance'!C7=0,D$2 & ", ","") -> T2, | E7: =IF('Teams Attendance'!D7=0,E$2 & ", ","") | F7: =IF('Teams Attendance'!E7=0,F$2 & ", ","") -> T4, | G7: =IF('Teams Attendance'!F7=0,G$2 & ", ","") -> T5,
A8: ='Teams Attendance'!A8 -> Leeds university | B8: =LEFT(CONCATENATE(C8,D8,E8,F8,G8,),LEN(CONCATENATE(C8,D8,E8,F8,G8,))-2) -> T1, T2, T3, T5 | C8: =IF('Teams Attendance'!B8=0,C$2 & ", ","") -> T1, | D8: =IF('Teams Attendance'!C8=0,D$2 & ", ","") -> T2, | E8: =IF('Teams Attendance'!D8=0,E$2 & ", ","") -> T3, | F8: =IF('Teams Attendance'!E8=0,F$2 & ", ","") | G8: =IF('Teams Attendance'!F8=0,G$2 & ", ","") -> T5,
A9: ='Teams Attendance'!A9 -> Pennine C | B9: =LEFT(CONCATENATE(C9,D9,E9,F9,G9,),LEN(CONCATENATE(C9,D9,E9,F9,G9,))-2) -> T2, T4, T5 | C9: =IF('Teams Attendance'!B9=0,C$2 & ", ","") | D9: =IF('Teams Attendance'!C9=0,D$2 & ", ","") -> T2, | E9: =IF('Teams Attendance'!D9=0,E$2 & ", ","") | F9: =IF('Teams Attendance'!E9=0,F$2 & ", ","") -> T4, | G9: =IF('Teams Attendance'!F9=0,G$2 & ", ","") -> T5,
A10: ='Teams Attendance'!A10 -> Team D | B10: =LEFT(CONCATENATE(C10,D10,E10,F10,G10,),LEN(CONCATENATE(C10,D10,E10,F10,G10,))-2) -> T2, T3, T4, T5 | C10: =IF('Teams Attendance'!B10=0,C$2 & ", ","") | D10: =IF('Teams Attendance'!C10=0,D$2 & ", ","") -> T2, | E10: =IF('Teams Attendance'!D10=0,E$2 & ", ","") -> T3, | F10: =IF('Teams Attendance'!E10=0,F$2 & ", ","") -> T4, | G10: =IF('Teams Attendance'!F10=0,G$2 & ", ","") -> T5,
C11: =IF('Teams Attendance'!B11=0,"",C$2) | D11: =IF('Teams Attendance'!C11=0,"",D$2) | E11: =IF('Teams Attendance'!D11=0,"",E$2) | F11: =IF('Teams Attendance'!E11=0,"",F$2) | G11: =IF('Teams Attendance'!F11=0,"",G$2)
