Workbook

Sheet Data
E1: Data!$A | F1: :$F$13
A3: reg | B3: Ad No | C3: Sur | D3: Fore | E3: Att | F3: Row+1
A4: 7X1 | B4: 5 | C4: Sur1 | D4: Fore1 | E4: 60 | F4: =ROW()+1 -> 5
A5: 7X2 | B5: 4 | C5: Sur2 | D5: Fore2 | E5: 70 | F5: =ROW()+1 -> 6
A6: 7X1 | B6: 2 | C6: Sur3 | D6: Fore3 | E6: 80 | F6: =ROW()+1 -> 7
A7: 7X1 | B7: 3 | C7: Sur4 | D7: Fore4 | E7: 90 | F7: =ROW()+1 -> 8
A8: 7X3 | B8: 1 | C8: Sur5 | D8: Fore5 | E8: 100 | F8: =ROW()+1 -> 9
A9: 7X4 | B9: 6 | C9: Sur6 | D9: Fore6 | E9: 65 | F9: =ROW()+1 -> 10
A10: 7X3 | B10: 8 | C10: Sur7 | D10: Fore7 | E10: 75 | F10: =ROW()+1 -> 11
A11: 7X2 | B11: 7 | C11: Sur8 | D11: Fore8 | E11: 85 | F11: =ROW()+1 -> 12
A12: 7X4 | B12: 9 | C12: Sur9 | D12: Fore9 | E12: 95 | F12: =ROW()+1 -> 13

Sheet 7X1
B1: 7X1 | F1: =Data!E1 -> Data!$A | G1: =Data!F1 -> :$F$13
A2: 1 | B2: 2 | C2: 3 | D2: 4 | E2: 5 | F2: 6
A3: reg | B3: Ad No | C3: Sur | D3: Fore | E3: Att | F3: Row | G3: =F1&4&G1 -> Data!$A4:$F$13
A4: =IFERROR(VLOOKUP($B$1,INDIRECT($G3,TRUE),A$2,FALSE),"") -> 7X1 | B4: =IFERROR(VLOOKUP($B$1,INDIRECT($G3,TRUE),B$2,FALSE),"") -> 5 | C4: =IFERROR(VLOOKUP($B$1,INDIRECT($G3,TRUE),C$2,FALSE),"") -> Sur1 | D4: =IFERROR(VLOOKUP($B$1,INDIRECT($G3,TRUE),D$2,FALSE),"") -> Fore1 | E4: =IFERROR(VLOOKUP($B$1,INDIRECT($G3,TRUE),E$2,FALSE),"") -> 60 | F4: =IFERROR(VLOOKUP($B$1,INDIRECT($G3,TRUE),F$2,FALSE),"") -> 5 | G4: =IF(F4="","",F$1&F4&G$1) -> Data!$A5:$F$13
A5: =IFERROR(VLOOKUP($B$1,INDIRECT($G4,TRUE),A$2,FALSE),"") -> 7X1 | B5: =IFERROR(VLOOKUP($B$1,INDIRECT($G4,TRUE),B$2,FALSE),"") -> 2 | C5: =IFERROR(VLOOKUP($B$1,INDIRECT($G4,TRUE),C$2,FALSE),"") -> Sur3 | D5: =IFERROR(VLOOKUP($B$1,INDIRECT($G4,TRUE),D$2,FALSE),"") -> Fore3 | E5: =IFERROR(VLOOKUP($B$1,INDIRECT($G4,TRUE),E$2,FALSE),"") -> 80 | F5: =IFERROR(VLOOKUP($B$1,INDIRECT($G4,TRUE),F$2,FALSE),"") -> 7 | G5: =IF(F5="","",F$1&F5&G$1) -> Data!$A7:$F$13
A6: =IFERROR(VLOOKUP($B$1,INDIRECT($G5,TRUE),A$2,FALSE),"") -> 7X1 | B6: =IFERROR(VLOOKUP($B$1,INDIRECT($G5,TRUE),B$2,FALSE),"") -> 3 | C6: =IFERROR(VLOOKUP($B$1,INDIRECT($G5,TRUE),C$2,FALSE),"") -> Sur4 | D6: =IFERROR(VLOOKUP($B$1,INDIRECT($G5,TRUE),D$2,FALSE),"") -> Fore4 | E6: =IFERROR(VLOOKUP($B$1,INDIRECT($G5,TRUE),E$2,FALSE),"") -> 90 | F6: =IFERROR(VLOOKUP($B$1,INDIRECT($G5,TRUE),F$2,FALSE),"") -> 8 | G6: =IF(F6="","",F$1&F6&G$1) -> Data!$A8:$F$13
A7: =IFERROR(VLOOKUP($B$1,INDIRECT(Data!$G7,TRUE),A$2,FALSE),"") | B7: =IFERROR(VLOOKUP($B$1,INDIRECT(Data!$G7,TRUE),B$2,FALSE),"") | C7: =IFERROR(VLOOKUP($B$1,INDIRECT(Data!$G7,TRUE),C$2,FALSE),"") | D7: =IFERROR(VLOOKUP($B$1,INDIRECT(Data!$G7,TRUE),D$2,FALSE),"") | E7: =IFERROR(VLOOKUP($B$1,INDIRECT(Data!$G7,TRUE),E$2,FALSE),"") | G7: =IF(F7="","",F$1&F7&G$1)
A8: =IFERROR(VLOOKUP($B$1,INDIRECT(Data!$G8,TRUE),A$2,FALSE),"") | B8: =IFERROR(VLOOKUP($B$1,INDIRECT(Data!$G8,TRUE),B$2,FALSE),"") | C8: =IFERROR(VLOOKUP($B$1,INDIRECT(Data!$G8,TRUE),C$2,FALSE),"") | D8: =IFERROR(VLOOKUP($B$1,INDIRECT(Data!$G8,TRUE),D$2,FALSE),"") | E8: =IFERROR(VLOOKUP($B$1,INDIRECT(Data!$G8,TRUE),E$2,FALSE),"") | G8: =IF(F8="","",F$1&F8&G$1)
A9: =IFERROR(VLOOKUP($B$1,INDIRECT(Data!$G9,TRUE),A$2,FALSE),"") | B9: =IFERROR(VLOOKUP($B$1,INDIRECT(Data!$G9,TRUE),B$2,FALSE),"") | C9: =IFERROR(VLOOKUP($B$1,INDIRECT(Data!$G9,TRUE),C$2,FALSE),"") | D9: =IFERROR(VLOOKUP($B$1,INDIRECT(Data!$G9,TRUE),D$2,FALSE),"") | E9: =IFERROR(VLOOKUP($B$1,INDIRECT(Data!$G9,TRUE),E$2,FALSE),"") | G9: =IF(F9="","",F$1&F9&G$1)
A10: =IFERROR(VLOOKUP($B$1,INDIRECT(Data!$G10,TRUE),A$2,FALSE),"") | B10: =IFERROR(VLOOKUP($B$1,INDIRECT(Data!$G10,TRUE),B$2,FALSE),"") | C10: =IFERROR(VLOOKUP($B$1,INDIRECT(Data!$G10,TRUE),C$2,FALSE),"") | D10: =IFERROR(VLOOKUP($B$1,INDIRECT(Data!$G10,TRUE),D$2,FALSE),"") | E10: =IFERROR(VLOOKUP($B$1,INDIRECT(Data!$G10,TRUE),E$2,FALSE),"") | G10: =IF(F10="","",F$1&F10&G$1)
A11: =IFERROR(VLOOKUP($B$1,INDIRECT(Data!$G11,TRUE),A$2,FALSE),"") | B11: =IFERROR(VLOOKUP($B$1,INDIRECT(Data!$G11,TRUE),B$2,FALSE),"") | C11: =IFERROR(VLOOKUP($B$1,INDIRECT(Data!$G11,TRUE),C$2,FALSE),"") | D11: =IFERROR(VLOOKUP($B$1,INDIRECT(Data!$G11,TRUE),D$2,FALSE),"") | E11: =IFERROR(VLOOKUP($B$1,INDIRECT(Data!$G11,TRUE),E$2,FALSE),"") | G11: =IF(F11="","",F$1&F11&G$1)
A12: =IFERROR(VLOOKUP($B$1,INDIRECT(Data!$G12,TRUE),A$2,FALSE),"") | B12: =IFERROR(VLOOKUP($B$1,INDIRECT(Data!$G12,TRUE),B$2,FALSE),"") | C12: =IFERROR(VLOOKUP($B$1,INDIRECT(Data!$G12,TRUE),C$2,FALSE),"") | D12: =IFERROR(VLOOKUP($B$1,INDIRECT(Data!$G12,TRUE),D$2,FALSE),"") | E12: =IFERROR(VLOOKUP($B$1,INDIRECT(Data!$G12,TRUE),E$2,FALSE),"") | G12: =IF(F12="","",F$1&F12&G$1)
A13: =IFERROR(VLOOKUP($B$1,INDIRECT(Data!$G13,TRUE),A$2,FALSE),"") | B13: =IFERROR(VLOOKUP($B$1,INDIRECT(Data!$G13,TRUE),B$2,FALSE),"") | C13: =IFERROR(VLOOKUP($B$1,INDIRECT(Data!$G13,TRUE),C$2,FALSE),"") | D13: =IFERROR(VLOOKUP($B$1,INDIRECT(Data!$G13,TRUE),D$2,FALSE),"") | E13: =IFERROR(VLOOKUP($B$1,INDIRECT(Data!$G13,TRUE),E$2,FALSE),"") | G13: =IF(F13="","","Data!$A"&F13&":$F$12")
A14: =IFERROR(VLOOKUP($B$1,INDIRECT(Data!$G14,TRUE),A$2,FALSE),"") | B14: =IFERROR(VLOOKUP($B$1,INDIRECT(Data!$G14,TRUE),B$2,FALSE),"") | C14: =IFERROR(VLOOKUP($B$1,INDIRECT(Data!$G14,TRUE),C$2,FALSE),"") | D14: =IFERROR(VLOOKUP($B$1,INDIRECT(Data!$G14,TRUE),D$2,FALSE),"") | E14: =IFERROR(VLOOKUP($B$1,INDIRECT(Data!$G14,TRUE),E$2,FALSE),"") | G14: =IF(F14="","","Data!$A"&F14&":$F$12")
A15: =IFERROR(VLOOKUP($B$1,INDIRECT(Data!$G15,TRUE),A$2,FALSE),"") | B15: =IFERROR(VLOOKUP($B$1,INDIRECT(Data!$G15,TRUE),B$2,FALSE),"") | C15: =IFERROR(VLOOKUP($B$1,INDIRECT(Data!$G15,TRUE),C$2,FALSE),"") | D15: =IFERROR(VLOOKUP($B$1,INDIRECT(Data!$G15,TRUE),D$2,FALSE),"") | E15: =IFERROR(VLOOKUP($B$1,INDIRECT(Data!$G15,TRUE),E$2,FALSE),"") | G15: =IF(F15="","","Data!$A"&F15&":$F$12")
A16: =IFERROR(VLOOKUP($B$1,INDIRECT(Data!$G16,TRUE),A$2,FALSE),"") | B16: =IFERROR(VLOOKUP($B$1,INDIRECT(Data!$G16,TRUE),B$2,FALSE),"") | C16: =IFERROR(VLOOKUP($B$1,INDIRECT(Data!$G16,TRUE),C$2,FALSE),"") | D16: =IFERROR(VLOOKUP($B$1,INDIRECT(Data!$G16,TRUE),D$2,FALSE),"") | E16: =IFERROR(VLOOKUP($B$1,INDIRECT(Data!$G16,TRUE),E$2,FALSE),"") | G16: =IF(F16="","","Data!$A"&F16&":$F$12")
A17: =IFERROR(VLOOKUP($B$1,INDIRECT(Data!$G17,TRUE),A$2,FALSE),"") | B17: =IFERROR(VLOOKUP($B$1,INDIRECT(Data!$G17,TRUE),B$2,FALSE),"") | C17: =IFERROR(VLOOKUP($B$1,INDIRECT(Data!$G17,TRUE),C$2,FALSE),"") | D17: =IFERROR(VLOOKUP($B$1,INDIRECT(Data!$G17,TRUE),D$2,FALSE),"") | E17: =IFERROR(VLOOKUP($B$1,INDIRECT(Data!$G17,TRUE),E$2,FALSE),"")
A18: =IFERROR(VLOOKUP($B$1,INDIRECT(Data!$G18,TRUE),A$2,FALSE),"") | B18: =IFERROR(VLOOKUP($B$1,INDIRECT(Data!$G18,TRUE),B$2,FALSE),"") | C18: =IFERROR(VLOOKUP($B$1,INDIRECT(Data!$G18,TRUE),C$2,FALSE),"") | D18: =IFERROR(VLOOKUP($B$1,INDIRECT(Data!$G18,TRUE),D$2,FALSE),"") | E18: =IFERROR(VLOOKUP($B$1,INDIRECT(Data!$G18,TRUE),E$2,FALSE),"")

Sheet 7X2
B1: 7X2 | F1: =Data!E1 -> Data!$A | G1: =Data!F1 -> :$F$13
A2: 1 | B2: 2 | C2: 3 | D2: 4 | E2: 5 | F2: 6
A3: reg | B3: Ad No | C3: Sur | D3: Fore | E3: Att | F3: Row | G3: =F1&4&G1 -> Data!$A4:$F$13
A4: =IFERROR(VLOOKUP($B$1,INDIRECT($G3,TRUE),A$2,FALSE),"") -> 7X2 | B4: =IFERROR(VLOOKUP($B$1,INDIRECT($G3,TRUE),B$2,FALSE),"") -> 4 | C4: =IFERROR(VLOOKUP($B$1,INDIRECT($G3,TRUE),C$2,FALSE),"") -> Sur2 | D4: =IFERROR(VLOOKUP($B$1,INDIRECT($G3,TRUE),D$2,FALSE),"") -> Fore2 | E4: =IFERROR(VLOOKUP($B$1,INDIRECT($G3,TRUE),E$2,FALSE),"") -> 70 | F4: =IFERROR(VLOOKUP($B$1,INDIRECT($G3,TRUE),F$2,FALSE),"") -> 6 | G4: =IF(F4="","",F$1&F4&G$1) -> Data!$A6:$F$13
A5: =IFERROR(VLOOKUP($B$1,INDIRECT($G4,TRUE),A$2,FALSE),"") -> 7X2 | B5: =IFERROR(VLOOKUP($B$1,INDIRECT($G4,TRUE),B$2,FALSE),"") -> 7 | C5: =IFERROR(VLOOKUP($B$1,INDIRECT($G4,TRUE),C$2,FALSE),"") -> Sur8 | D5: =IFERROR(VLOOKUP($B$1,INDIRECT($G4,TRUE),D$2,FALSE),"") -> Fore8 | E5: =IFERROR(VLOOKUP($B$1,INDIRECT($G4,TRUE),E$2,FALSE),"") -> 85 | F5: =IFERROR(VLOOKUP($B$1,INDIRECT($G4,TRUE),F$2,FALSE),"") -> 12 | G5: =IF(F5="","",F$1&F5&G$1) -> Data!$A12:$F$13
A6: =IFERROR(VLOOKUP($B$1,INDIRECT($G5,TRUE),A$2,FALSE),"") | B6: =IFERROR(VLOOKUP($B$1,INDIRECT($G5,TRUE),B$2,FALSE),"") | C6: =IFERROR(VLOOKUP($B$1,INDIRECT($G5,TRUE),C$2,FALSE),"") | D6: =IFERROR(VLOOKUP($B$1,INDIRECT($G5,TRUE),D$2,FALSE),"") | E6: =IFERROR(VLOOKUP($B$1,INDIRECT($G5,TRUE),E$2,FALSE),"") | F6: =IFERROR(VLOOKUP($B$1,INDIRECT($G5,TRUE),F$2,FALSE),"") | G6: =IF(F6="","",F$1&F6&G$1)
A7: =IFERROR(VLOOKUP($B$1,INDIRECT(Data!$G7,TRUE),A$2,FALSE),"") | B7: =IFERROR(VLOOKUP($B$1,INDIRECT(Data!$G7,TRUE),B$2,FALSE),"") | C7: =IFERROR(VLOOKUP($B$1,INDIRECT(Data!$G7,TRUE),C$2,FALSE),"") | D7: =IFERROR(VLOOKUP($B$1,INDIRECT(Data!$G7,TRUE),D$2,FALSE),"") | E7: =IFERROR(VLOOKUP($B$1,INDIRECT(Data!$G7,TRUE),E$2,FALSE),"") | G7: =IF(F7="","",F$1&F7&G$1)
A8: =IFERROR(VLOOKUP($B$1,INDIRECT(Data!$G8,TRUE),A$2,FALSE),"") | B8: =IFERROR(VLOOKUP($B$1,INDIRECT(Data!$G8,TRUE),B$2,FALSE),"") | C8: =IFERROR(VLOOKUP($B$1,INDIRECT(Data!$G8,TRUE),C$2,FALSE),"") | D8: =IFERROR(VLOOKUP($B$1,INDIRECT(Data!$G8,TRUE),D$2,FALSE),"") | E8: =IFERROR(VLOOKUP($B$1,INDIRECT(Data!$G8,TRUE),E$2,FALSE),"") | G8: =IF(F8="","",F$1&F8&G$1)
A9: =IFERROR(VLOOKUP($B$1,INDIRECT(Data!$G9,TRUE),A$2,FALSE),"") | B9: =IFERROR(VLOOKUP($B$1,INDIRECT(Data!$G9,TRUE),B$2,FALSE),"") | C9: =IFERROR(VLOOKUP($B$1,INDIRECT(Data!$G9,TRUE),C$2,FALSE),"") | D9: =IFERROR(VLOOKUP($B$1,INDIRECT(Data!$G9,TRUE),D$2,FALSE),"") | E9: =IFERROR(VLOOKUP($B$1,INDIRECT(Data!$G9,TRUE),E$2,FALSE),"") | G9: =IF(F9="","",F$1&F9&G$1)
A10: =IFERROR(VLOOKUP($B$1,INDIRECT(Data!$G10,TRUE),A$2,FALSE),"") | B10: =IFERROR(VLOOKUP($B$1,INDIRECT(Data!$G10,TRUE),B$2,FALSE),"") | C10: =IFERROR(VLOOKUP($B$1,INDIRECT(Data!$G10,TRUE),C$2,FALSE),"") | D10: =IFERROR(VLOOKUP($B$1,INDIRECT(Data!$G10,TRUE),D$2,FALSE),"") | E10: =IFERROR(VLOOKUP($B$1,INDIRECT(Data!$G10,TRUE),E$2,FALSE),"") | G10: =IF(F10="","",F$1&F10&G$1)
A11: =IFERROR(VLOOKUP($B$1,INDIRECT(Data!$G11,TRUE),A$2,FALSE),"") | B11: =IFERROR(VLOOKUP($B$1,INDIRECT(Data!$G11,TRUE),B$2,FALSE),"") | C11: =IFERROR(VLOOKUP($B$1,INDIRECT(Data!$G11,TRUE),C$2,FALSE),"") | D11: =IFERROR(VLOOKUP($B$1,INDIRECT(Data!$G11,TRUE),D$2,FALSE),"") | E11: =IFERROR(VLOOKUP($B$1,INDIRECT(Data!$G11,TRUE),E$2,FALSE),"") | G11: =IF(F11="","",F$1&F11&G$1)
A12: =IFERROR(VLOOKUP($B$1,INDIRECT(Data!$G12,TRUE),A$2,FALSE),"") | B12: =IFERROR(VLOOKUP($B$1,INDIRECT(Data!$G12,TRUE),B$2,FALSE),"") | C12: =IFERROR(VLOOKUP($B$1,INDIRECT(Data!$G12,TRUE),C$2,FALSE),"") | D12: =IFERROR(VLOOKUP($B$1,INDIRECT(Data!$G12,TRUE),D$2,FALSE),"") | E12: =IFERROR(VLOOKUP($B$1,INDIRECT(Data!$G12,TRUE),E$2,FALSE),"") | G12: =IF(F12="","",F$1&F12&G$1)
A13: =IFERROR(VLOOKUP($B$1,INDIRECT(Data!$G13,TRUE),A$2,FALSE),"") | B13: =IFERROR(VLOOKUP($B$1,INDIRECT(Data!$G13,TRUE),B$2,FALSE),"") | C13: =IFERROR(VLOOKUP($B$1,INDIRECT(Data!$G13,TRUE),C$2,FALSE),"") | D13: =IFERROR(VLOOKUP($B$1,INDIRECT(Data!$G13,TRUE),D$2,FALSE),"") | E13: =IFERROR(VLOOKUP($B$1,INDIRECT(Data!$G13,TRUE),E$2,FALSE),"") | G13: =IF(F13="","","Data!$A"&F13&":$F$12")
A14: =IFERROR(VLOOKUP($B$1,INDIRECT(Data!$G14,TRUE),A$2,FALSE),"") | B14: =IFERROR(VLOOKUP($B$1,INDIRECT(Data!$G14,TRUE),B$2,FALSE),"") | C14: =IFERROR(VLOOKUP($B$1,INDIRECT(Data!$G14,TRUE),C$2,FALSE),"") | D14: =IFERROR(VLOOKUP($B$1,INDIRECT(Data!$G14,TRUE),D$2,FALSE),"") | E14: =IFERROR(VLOOKUP($B$1,INDIRECT(Data!$G14,TRUE),E$2,FALSE),"") | G14: =IF(F14="","","Data!$A"&F14&":$F$12")
A15: =IFERROR(VLOOKUP($B$1,INDIRECT(Data!$G15,TRUE),A$2,FALSE),"") | B15: =IFERROR(VLOOKUP($B$1,INDIRECT(Data!$G15,TRUE),B$2,FALSE),"") | C15: =IFERROR(VLOOKUP($B$1,INDIRECT(Data!$G15,TRUE),C$2,FALSE),"") | D15: =IFERROR(VLOOKUP($B$1,INDIRECT(Data!$G15,TRUE),D$2,FALSE),"") | E15: =IFERROR(VLOOKUP($B$1,INDIRECT(Data!$G15,TRUE),E$2,FALSE),"") | G15: =IF(F15="","","Data!$A"&F15&":$F$12")
A16: =IFERROR(VLOOKUP($B$1,INDIRECT(Data!$G16,TRUE),A$2,FALSE),"") | B16: =IFERROR(VLOOKUP($B$1,INDIRECT(Data!$G16,TRUE),B$2,FALSE),"") | C16: =IFERROR(VLOOKUP($B$1,INDIRECT(Data!$G16,TRUE),C$2,FALSE),"") | D16: =IFERROR(VLOOKUP($B$1,INDIRECT(Data!$G16,TRUE),D$2,FALSE),"") | E16: =IFERROR(VLOOKUP($B$1,INDIRECT(Data!$G16,TRUE),E$2,FALSE),"") | G16: =IF(F16="","","Data!$A"&F16&":$F$12")
A17: =IFERROR(VLOOKUP($B$1,INDIRECT(Data!$G17,TRUE),A$2,FALSE),"") | B17: =IFERROR(VLOOKUP($B$1,INDIRECT(Data!$G17,TRUE),B$2,FALSE),"") | C17: =IFERROR(VLOOKUP($B$1,INDIRECT(Data!$G17,TRUE),C$2,FALSE),"") | D17: =IFERROR(VLOOKUP($B$1,INDIRECT(Data!$G17,TRUE),D$2,FALSE),"") | E17: =IFERROR(VLOOKUP($B$1,INDIRECT(Data!$G17,TRUE),E$2,FALSE),"")
A18: =IFERROR(VLOOKUP($B$1,INDIRECT(Data!$G18,TRUE),A$2,FALSE),"") | B18: =IFERROR(VLOOKUP($B$1,INDIRECT(Data!$G18,TRUE),B$2,FALSE),"") | C18: =IFERROR(VLOOKUP($B$1,INDIRECT(Data!$G18,TRUE),C$2,FALSE),"") | D18: =IFERROR(VLOOKUP($B$1,INDIRECT(Data!$G18,TRUE),D$2,FALSE),"") | E18: =IFERROR(VLOOKUP($B$1,INDIRECT(Data!$G18,TRUE),E$2,FALSE),"")

Sheet 7X3
B1: 7X3 | F1: =Data!E1 -> Data!$A | G1: =Data!F1 -> :$F$13
A2: 1 | B2: 2 | C2: 3 | D2: 4 | E2: 5 | F2: 6
A3: reg | B3: Ad No | C3: Sur | D3: Fore | E3: Att | F3: Row | G3: =F1&4&G1 -> Data!$A4:$F$13
A4: =IFERROR(VLOOKUP($B$1,INDIRECT($G3,TRUE),A$2,FALSE),"") -> 7X3 | B4: =IFERROR(VLOOKUP($B$1,INDIRECT($G3,TRUE),B$2,FALSE),"") -> 1 | C4: =IFERROR(VLOOKUP($B$1,INDIRECT($G3,TRUE),C$2,FALSE),"") -> Sur5 | D4: =IFERROR(VLOOKUP($B$1,INDIRECT($G3,TRUE),D$2,FALSE),"") -> Fore5 | E4: =IFERROR(VLOOKUP($B$1,INDIRECT($G3,TRUE),E$2,FALSE),"") -> 100 | F4: =IFERROR(VLOOKUP($B$1,INDIRECT($G3,TRUE),F$2,FALSE),"") -> 9 | G4: =IF(F4="","",F$1&F4&G$1) -> Data!$A9:$F$13
A5: =IFERROR(VLOOKUP($B$1,INDIRECT($G4,TRUE),A$2,FALSE),"") -> 7X3 | B5: =IFERROR(VLOOKUP($B$1,INDIRECT($G4,TRUE),B$2,FALSE),"") -> 8 | C5: =IFERROR(VLOOKUP($B$1,INDIRECT($G4,TRUE),C$2,FALSE),"") -> Sur7 | D5: =IFERROR(VLOOKUP($B$1,INDIRECT($G4,TRUE),D$2,FALSE),"") -> Fore7 | E5: =IFERROR(VLOOKUP($B$1,INDIRECT($G4,TRUE),E$2,FALSE),"") -> 75 | F5: =IFERROR(VLOOKUP($B$1,INDIRECT($G4,TRUE),F$2,FALSE),"") -> 11 | G5: =IF(F5="","",F$1&F5&G$1) -> Data!$A11:$F$13
A6: =IFERROR(VLOOKUP($B$1,INDIRECT($G5,TRUE),A$2,FALSE),"") | B6: =IFERROR(VLOOKUP($B$1,INDIRECT($G5,TRUE),B$2,FALSE),"") | C6: =IFERROR(VLOOKUP($B$1,INDIRECT($G5,TRUE),C$2,FALSE),"") | D6: =IFERROR(VLOOKUP($B$1,INDIRECT($G5,TRUE),D$2,FALSE),"") | E6: =IFERROR(VLOOKUP($B$1,INDIRECT($G5,TRUE),E$2,FALSE),"") | F6: =IFERROR(VLOOKUP($B$1,INDIRECT($G5,TRUE),F$2,FALSE),"") | G6: =IF(F6="","",F$1&F6&G$1)
A7: =IFERROR(VLOOKUP($B$1,INDIRECT(Data!$G7,TRUE),A$2,FALSE),"") | B7: =IFERROR(VLOOKUP($B$1,INDIRECT(Data!$G7,TRUE),B$2,FALSE),"") | C7: =IFERROR(VLOOKUP($B$1,INDIRECT(Data!$G7,TRUE),C$2,FALSE),"") | D7: =IFERROR(VLOOKUP($B$1,INDIRECT(Data!$G7,TRUE),D$2,FALSE),"") | E7: =IFERROR(VLOOKUP($B$1,INDIRECT(Data!$G7,TRUE),E$2,FALSE),"") | G7: =IF(F7="","",F$1&F7&G$1)
A8: =IFERROR(VLOOKUP($B$1,INDIRECT(Data!$G8,TRUE),A$2,FALSE),"") | B8: =IFERROR(VLOOKUP($B$1,INDIRECT(Data!$G8,TRUE),B$2,FALSE),"") | C8: =IFERROR(VLOOKUP($B$1,INDIRECT(Data!$G8,TRUE),C$2,FALSE),"") | D8: =IFERROR(VLOOKUP($B$1,INDIRECT(Data!$G8,TRUE),D$2,FALSE),"") | E8: =IFERROR(VLOOKUP($B$1,INDIRECT(Data!$G8,TRUE),E$2,FALSE),"") | G8: =IF(F8="","",F$1&F8&G$1)
A9: =IFERROR(VLOOKUP($B$1,INDIRECT(Data!$G9,TRUE),A$2,FALSE),"") | B9: =IFERROR(VLOOKUP($B$1,INDIRECT(Data!$G9,TRUE),B$2,FALSE),"") | C9: =IFERROR(VLOOKUP($B$1,INDIRECT(Data!$G9,TRUE),C$2,FALSE),"") | D9: =IFERROR(VLOOKUP($B$1,INDIRECT(Data!$G9,TRUE),D$2,FALSE),"") | E9: =IFERROR(VLOOKUP($B$1,INDIRECT(Data!$G9,TRUE),E$2,FALSE),"") | G9: =IF(F9="","",F$1&F9&G$1)
A10: =IFERROR(VLOOKUP($B$1,INDIRECT(Data!$G10,TRUE),A$2,FALSE),"") | B10: =IFERROR(VLOOKUP($B$1,INDIRECT(Data!$G10,TRUE),B$2,FALSE),"") | C10: =IFERROR(VLOOKUP($B$1,INDIRECT(Data!$G10,TRUE),C$2,FALSE),"") | D10: =IFERROR(VLOOKUP($B$1,INDIRECT(Data!$G10,TRUE),D$2,FALSE),"") | E10: =IFERROR(VLOOKUP($B$1,INDIRECT(Data!$G10,TRUE),E$2,FALSE),"") | G10: =IF(F10="","",F$1&F10&G$1)
A11: =IFERROR(VLOOKUP($B$1,INDIRECT(Data!$G11,TRUE),A$2,FALSE),"") | B11: =IFERROR(VLOOKUP($B$1,INDIRECT(Data!$G11,TRUE),B$2,FALSE),"") | C11: =IFERROR(VLOOKUP($B$1,INDIRECT(Data!$G11,TRUE),C$2,FALSE),"") | D11: =IFERROR(VLOOKUP($B$1,INDIRECT(Data!$G11,TRUE),D$2,FALSE),"") | E11: =IFERROR(VLOOKUP($B$1,INDIRECT(Data!$G11,TRUE),E$2,FALSE),"") | G11: =IF(F11="","",F$1&F11&G$1)
A12: =IFERROR(VLOOKUP($B$1,INDIRECT(Data!$G12,TRUE),A$2,FALSE),"") | B12: =IFERROR(VLOOKUP($B$1,INDIRECT(Data!$G12,TRUE),B$2,FALSE),"") | C12: =IFERROR(VLOOKUP($B$1,INDIRECT(Data!$G12,TRUE),C$2,FALSE),"") | D12: =IFERROR(VLOOKUP($B$1,INDIRECT(Data!$G12,TRUE),D$2,FALSE),"") | E12: =IFERROR(VLOOKUP($B$1,INDIRECT(Data!$G12,TRUE),E$2,FALSE),"") | G12: =IF(F12="","",F$1&F12&G$1)
A13: =IFERROR(VLOOKUP($B$1,INDIRECT(Data!$G13,TRUE),A$2,FALSE),"") | B13: =IFERROR(VLOOKUP($B$1,INDIRECT(Data!$G13,TRUE),B$2,FALSE),"") | C13: =IFERROR(VLOOKUP($B$1,INDIRECT(Data!$G13,TRUE),C$2,FALSE),"") | D13: =IFERROR(VLOOKUP($B$1,INDIRECT(Data!$G13,TRUE),D$2,FALSE),"") | E13: =IFERROR(VLOOKUP($B$1,INDIRECT(Data!$G13,TRUE),E$2,FALSE),"") | G13: =IF(F13="","","Data!$A"&F13&":$F$12")
A14: =IFERROR(VLOOKUP($B$1,INDIRECT(Data!$G14,TRUE),A$2,FALSE),"") | B14: =IFERROR(VLOOKUP($B$1,INDIRECT(Data!$G14,TRUE),B$2,FALSE),"") | C14: =IFERROR(VLOOKUP($B$1,INDIRECT(Data!$G14,TRUE),C$2,FALSE),"") | D14: =IFERROR(VLOOKUP($B$1,INDIRECT(Data!$G14,TRUE),D$2,FALSE),"") | E14: =IFERROR(VLOOKUP($B$1,INDIRECT(Data!$G14,TRUE),E$2,FALSE),"") | G14: =IF(F14="","","Data!$A"&F14&":$F$12")
A15: =IFERROR(VLOOKUP($B$1,INDIRECT(Data!$G15,TRUE),A$2,FALSE),"") | B15: =IFERROR(VLOOKUP($B$1,INDIRECT(Data!$G15,TRUE),B$2,FALSE),"") | C15: =IFERROR(VLOOKUP($B$1,INDIRECT(Data!$G15,TRUE),C$2,FALSE),"") | D15: =IFERROR(VLOOKUP($B$1,INDIRECT(Data!$G15,TRUE),D$2,FALSE),"") | E15: =IFERROR(VLOOKUP($B$1,INDIRECT(Data!$G15,TRUE),E$2,FALSE),"") | G15: =IF(F15="","","Data!$A"&F15&":$F$12")
A16: =IFERROR(VLOOKUP($B$1,INDIRECT(Data!$G16,TRUE),A$2,FALSE),"") | B16: =IFERROR(VLOOKUP($B$1,INDIRECT(Data!$G16,TRUE),B$2,FALSE),"") | C16: =IFERROR(VLOOKUP($B$1,INDIRECT(Data!$G16,TRUE),C$2,FALSE),"") | D16: =IFERROR(VLOOKUP($B$1,INDIRECT(Data!$G16,TRUE),D$2,FALSE),"") | E16: =IFERROR(VLOOKUP($B$1,INDIRECT(Data!$G16,TRUE),E$2,FALSE),"") | G16: =IF(F16="","","Data!$A"&F16&":$F$12")
A17: =IFERROR(VLOOKUP($B$1,INDIRECT(Data!$G17,TRUE),A$2,FALSE),"") | B17: =IFERROR(VLOOKUP($B$1,INDIRECT(Data!$G17,TRUE),B$2,FALSE),"") | C17: =IFERROR(VLOOKUP($B$1,INDIRECT(Data!$G17,TRUE),C$2,FALSE),"") | D17: =IFERROR(VLOOKUP($B$1,INDIRECT(Data!$G17,TRUE),D$2,FALSE),"") | E17: =IFERROR(VLOOKUP($B$1,INDIRECT(Data!$G17,TRUE),E$2,FALSE),"")
A18: =IFERROR(VLOOKUP($B$1,INDIRECT(Data!$G18,TRUE),A$2,FALSE),"") | B18: =IFERROR(VLOOKUP($B$1,INDIRECT(Data!$G18,TRUE),B$2,FALSE),"") | C18: =IFERROR(VLOOKUP($B$1,INDIRECT(Data!$G18,TRUE),C$2,FALSE),"") | D18: =IFERROR(VLOOKUP($B$1,INDIRECT(Data!$G18,TRUE),D$2,FALSE),"") | E18: =IFERROR(VLOOKUP($B$1,INDIRECT(Data!$G18,TRUE),E$2,FALSE),"")

Sheet 7X4
B1: 7X4 | F1: =Data!E1 -> Data!$A | G1: =Data!F1 -> :$F$13
A2: 1 | B2: 2 | C2: 3 | D2: 4 | E2: 5 | F2: 6
A3: reg | B3: Ad No | C3: Sur | D3: Fore | E3: Att | F3: Row | G3: =F1&4&G1 -> Data!$A4:$F$13
A4: =IFERROR(VLOOKUP($B$1,INDIRECT($G3,TRUE),A$2,FALSE),"") -> 7X4 | B4: =IFERROR(VLOOKUP($B$1,INDIRECT($G3,TRUE),B$2,FALSE),"") -> 6 | C4: =IFERROR(VLOOKUP($B$1,INDIRECT($G3,TRUE),C$2,FALSE),"") -> Sur6 | D4: =IFERROR(VLOOKUP($B$1,INDIRECT($G3,TRUE),D$2,FALSE),"") -> Fore6 | E4: =IFERROR(VLOOKUP($B$1,INDIRECT($G3,TRUE),E$2,FALSE),"") -> 65 | F4: =IFERROR(VLOOKUP($B$1,INDIRECT($G3,TRUE),F$2,FALSE),"") -> 10 | G4: =IF(F4="","",F$1&F4&G$1) -> Data!$A10:$F$13
A5: =IFERROR(VLOOKUP($B$1,INDIRECT($G4,TRUE),A$2,FALSE),"") -> 7X4 | B5: =IFERROR(VLOOKUP($B$1,INDIRECT($G4,TRUE),B$2,FALSE),"") -> 9 | C5: =IFERROR(VLOOKUP($B$1,INDIRECT($G4,TRUE),C$2,FALSE),"") -> Sur9 | D5: =IFERROR(VLOOKUP($B$1,INDIRECT($G4,TRUE),D$2,FALSE),"") -> Fore9 | E5: =IFERROR(VLOOKUP($B$1,INDIRECT($G4,TRUE),E$2,FALSE),"") -> 95 | F5: =IFERROR(VLOOKUP($B$1,INDIRECT($G4,TRUE),F$2,FALSE),"") -> 13 | G5: =IF(F5="","",F$1&F5&G$1) -> Data!$A13:$F$13
A6: =IFERROR(VLOOKUP($B$1,INDIRECT($G5,TRUE),A$2,FALSE),"") | B6: =IFERROR(VLOOKUP($B$1,INDIRECT($G5,TRUE),B$2,FALSE),"") | C6: =IFERROR(VLOOKUP($B$1,INDIRECT($G5,TRUE),C$2,FALSE),"") | D6: =IFERROR(VLOOKUP($B$1,INDIRECT($G5,TRUE),D$2,FALSE),"") | E6: =IFERROR(VLOOKUP($B$1,INDIRECT($G5,TRUE),E$2,FALSE),"") | F6: =IFERROR(VLOOKUP($B$1,INDIRECT($G5,TRUE),F$2,FALSE),"") | G6: =IF(F6="","",F$1&F6&G$1)
A7: =IFERROR(VLOOKUP($B$1,INDIRECT(Data!$G7,TRUE),A$2,FALSE),"") | B7: =IFERROR(VLOOKUP($B$1,INDIRECT(Data!$G7,TRUE),B$2,FALSE),"") | C7: =IFERROR(VLOOKUP($B$1,INDIRECT(Data!$G7,TRUE),C$2,FALSE),"") | D7: =IFERROR(VLOOKUP($B$1,INDIRECT(Data!$G7,TRUE),D$2,FALSE),"") | E7: =IFERROR(VLOOKUP($B$1,INDIRECT(Data!$G7,TRUE),E$2,FALSE),"") | G7: =IF(F7="","",F$1&F7&G$1)
A8: =IFERROR(VLOOKUP($B$1,INDIRECT(Data!$G8,TRUE),A$2,FALSE),"") | B8: =IFERROR(VLOOKUP($B$1,INDIRECT(Data!$G8,TRUE),B$2,FALSE),"") | C8: =IFERROR(VLOOKUP($B$1,INDIRECT(Data!$G8,TRUE),C$2,FALSE),"") | D8: =IFERROR(VLOOKUP($B$1,INDIRECT(Data!$G8,TRUE),D$2,FALSE),"") | E8: =IFERROR(VLOOKUP($B$1,INDIRECT(Data!$G8,TRUE),E$2,FALSE),"") | G8: =IF(F8="","",F$1&F8&G$1)
A9: =IFERROR(VLOOKUP($B$1,INDIRECT(Data!$G9,TRUE),A$2,FALSE),"") | B9: =IFERROR(VLOOKUP($B$1,INDIRECT(Data!$G9,TRUE),B$2,FALSE),"") | C9: =IFERROR(VLOOKUP($B$1,INDIRECT(Data!$G9,TRUE),C$2,FALSE),"") | D9: =IFERROR(VLOOKUP($B$1,INDIRECT(Data!$G9,TRUE),D$2,FALSE),"") | E9: =IFERROR(VLOOKUP($B$1,INDIRECT(Data!$G9,TRUE),E$2,FALSE),"") | G9: =IF(F9="","",F$1&F9&G$1)
A10: =IFERROR(VLOOKUP($B$1,INDIRECT(Data!$G10,TRUE),A$2,FALSE),"") | B10: =IFERROR(VLOOKUP($B$1,INDIRECT(Data!$G10,TRUE),B$2,FALSE),"") | C10: =IFERROR(VLOOKUP($B$1,INDIRECT(Data!$G10,TRUE),C$2,FALSE),"") | D10: =IFERROR(VLOOKUP($B$1,INDIRECT(Data!$G10,TRUE),D$2,FALSE),"") | E10: =IFERROR(VLOOKUP($B$1,INDIRECT(Data!$G10,TRUE),E$2,FALSE),"") | G10: =IF(F10="","",F$1&F10&G$1)
A11: =IFERROR(VLOOKUP($B$1,INDIRECT(Data!$G11,TRUE),A$2,FALSE),"") | B11: =IFERROR(VLOOKUP($B$1,INDIRECT(Data!$G11,TRUE),B$2,FALSE),"") | C11: =IFERROR(VLOOKUP($B$1,INDIRECT(Data!$G11,TRUE),C$2,FALSE),"") | D11: =IFERROR(VLOOKUP($B$1,INDIRECT(Data!$G11,TRUE),D$2,FALSE),"") | E11: =IFERROR(VLOOKUP($B$1,INDIRECT(Data!$G11,TRUE),E$2,FALSE),"") | G11: =IF(F11="","",F$1&F11&G$1)
A12: =IFERROR(VLOOKUP($B$1,INDIRECT(Data!$G12,TRUE),A$2,FALSE),"") | B12: =IFERROR(VLOOKUP($B$1,INDIRECT(Data!$G12,TRUE),B$2,FALSE),"") | C12: =IFERROR(VLOOKUP($B$1,INDIRECT(Data!$G12,TRUE),C$2,FALSE),"") | D12: =IFERROR(VLOOKUP($B$1,INDIRECT(Data!$G12,TRUE),D$2,FALSE),"") | E12: =IFERROR(VLOOKUP($B$1,INDIRECT(Data!$G12,TRUE),E$2,FALSE),"") | G12: =IF(F12="","",F$1&F12&G$1)
A13: =IFERROR(VLOOKUP($B$1,INDIRECT(Data!$G13,TRUE),A$2,FALSE),"") | B13: =IFERROR(VLOOKUP($B$1,INDIRECT(Data!$G13,TRUE),B$2,FALSE),"") | C13: =IFERROR(VLOOKUP($B$1,INDIRECT(Data!$G13,TRUE),C$2,FALSE),"") | D13: =IFERROR(VLOOKUP($B$1,INDIRECT(Data!$G13,TRUE),D$2,FALSE),"") | E13: =IFERROR(VLOOKUP($B$1,INDIRECT(Data!$G13,TRUE),E$2,FALSE),"") | G13: =IF(F13="","","Data!$A"&F13&":$F$12")
A14: =IFERROR(VLOOKUP($B$1,INDIRECT(Data!$G14,TRUE),A$2,FALSE),"") | B14: =IFERROR(VLOOKUP($B$1,INDIRECT(Data!$G14,TRUE),B$2,FALSE),"") | C14: =IFERROR(VLOOKUP($B$1,INDIRECT(Data!$G14,TRUE),C$2,FALSE),"") | D14: =IFERROR(VLOOKUP($B$1,INDIRECT(Data!$G14,TRUE),D$2,FALSE),"") | E14: =IFERROR(VLOOKUP($B$1,INDIRECT(Data!$G14,TRUE),E$2,FALSE),"") | G14: =IF(F14="","","Data!$A"&F14&":$F$12")
A15: =IFERROR(VLOOKUP($B$1,INDIRECT(Data!$G15,TRUE),A$2,FALSE),"") | B15: =IFERROR(VLOOKUP($B$1,INDIRECT(Data!$G15,TRUE),B$2,FALSE),"") | C15: =IFERROR(VLOOKUP($B$1,INDIRECT(Data!$G15,TRUE),C$2,FALSE),"") | D15: =IFERROR(VLOOKUP($B$1,INDIRECT(Data!$G15,TRUE),D$2,FALSE),"") | E15: =IFERROR(VLOOKUP($B$1,INDIRECT(Data!$G15,TRUE),E$2,FALSE),"") | G15: =IF(F15="","","Data!$A"&F15&":$F$12")
A16: =IFERROR(VLOOKUP($B$1,INDIRECT(Data!$G16,TRUE),A$2,FALSE),"") | B16: =IFERROR(VLOOKUP($B$1,INDIRECT(Data!$G16,TRUE),B$2,FALSE),"") | C16: =IFERROR(VLOOKUP($B$1,INDIRECT(Data!$G16,TRUE),C$2,FALSE),"") | D16: =IFERROR(VLOOKUP($B$1,INDIRECT(Data!$G16,TRUE),D$2,FALSE),"") | E16: =IFERROR(VLOOKUP($B$1,INDIRECT(Data!$G16,TRUE),E$2,FALSE),"") | G16: =IF(F16="","","Data!$A"&F16&":$F$12")
A17: =IFERROR(VLOOKUP($B$1,INDIRECT(Data!$G17,TRUE),A$2,FALSE),"") | B17: =IFERROR(VLOOKUP($B$1,INDIRECT(Data!$G17,TRUE),B$2,FALSE),"") | C17: =IFERROR(VLOOKUP($B$1,INDIRECT(Data!$G17,TRUE),C$2,FALSE),"") | D17: =IFERROR(VLOOKUP($B$1,INDIRECT(Data!$G17,TRUE),D$2,FALSE),"") | E17: =IFERROR(VLOOKUP($B$1,INDIRECT(Data!$G17,TRUE),E$2,FALSE),"")
A18: =IFERROR(VLOOKUP($B$1,INDIRECT(Data!$G18,TRUE),A$2,FALSE),"") | B18: =IFERROR(VLOOKUP($B$1,INDIRECT(Data!$G18,TRUE),B$2,FALSE),"") | C18: =IFERROR(VLOOKUP($B$1,INDIRECT(Data!$G18,TRUE),C$2,FALSE),"") | D18: =IFERROR(VLOOKUP($B$1,INDIRECT(Data!$G18,TRUE),D$2,FALSE),"") | E18: =IFERROR(VLOOKUP($B$1,INDIRECT(Data!$G18,TRUE),E$2,FALSE),"")
