Workbook

Sheet Welcome Sheet
A2: =Data!A2 -> text 1 | B2: =Data!D1 -> d
A3: =Data!A3 -> text 2 | B3: =Data!D2 -> *
A4: =Data!A4 -> text 3 | B4: =Data!D3 -> *
A5: =Data!A5 -> text 4 | B5: =Data!D4 -> *
A6: =Data!A6 -> text 5 | B6: =Data!D5 -> *
A7: =Data!A7 -> text 6 | B7: =Data!D6 -> 0
A8: =Data!A8 -> text 7 | B8: =Data!D7 -> 0
A9: =Data!A9 -> text 8 | B9: =Data!D8 -> 0
A10: =Data!A10 -> text 9 | B10: =Data!D9 -> 0
A11: =Data!A11 -> text 10 | B11: =Data!D10 -> 0
A12: =Data!A12 -> text 11 | B12: =Data!D11 -> *
A13: =Data!A13 -> text 12 | B13: =Data!D12 -> *
... A37: =Data!A37 -> 0 | B37: =Data!D36 -> 0
B38: =Data!D37 -> 0

Sheet Data
B1: b | C1: c | D1: d
A2: text 1 | B2: * | D2: *
A3: text 2 | C3: * | D3: *
A4: text 3 | C4: * | D4: *
A5: text 4 | C5: * | D5: *
A6: text 5
A7: text 6 | B7: *
A8: text 7
A9: text 8 | B9: *
A10: text 9 | B10: *
A11: text 10 | B11: * | D11: *
A12: text 11 | B12: * | D12: *
A13: text 12 | D13: *
A14: text 13 | B14: *
A15: text 14
A16: text 15
A17: text 16
A18: text 17 | D18: *
A19: text 18 | D19: *
A20: text 19 | D20: *
A21: text 20
A22: text 21
A23: text 22 | B23: *
A24: text 23
A25: text 24 | C25: *
A26: text 25
A27: text 26
A28: text 27 | B28: *
A29: text 28
A30: text 29
A31: text 30
A32: text 31

Sheet Sheet3
