Workbook
Name Project_Start: Gantt!$L$3
Name Scrolling_Increment: Gantt!$L$4
Name Today: TODAY()

Sheet Gantt
A1: Create a Gantt Chart in this worksheet. Enter title of this project in cell B1. Legend title is in cell I1. Information about how to use this worksheet, including instructions for screen readers and the author of this workbook is in the About worksheet. Continue navigating down column A to hear further instructions. | B1: PROJECT TITLE
A2: Enter Company Name in cell B2. A legend is in cells I2 through AC2.
A3: Enter the name of the Project Lead in cell B3. Enter the Project Start date in cell F3 or allow the sample formula to find the smallest date value from the Gantt Data table. Project Start Date: label is in cell D3. | J3: Project Start Date: | L3: =IFERROR(IF(MIN(Gantt!$F$8:$L$9)=0,TODAY(),MIN(Gantt!$F$8:$L$9)),TODAY()) -> 43779
A4: A Scrolling Increment is in cell F4. Months for the dates in row 5 are displayed starting in cells I4 through cell BL4. Do not modify these cells. They are auto updated based on the project start date in cell F3. | J4: Scrolling Increment: | L4: 0 | O4: =TEXT(O5,"mmmm") -> November | V4: =IF(TEXT(V5,"mmmm")=O4,"",TEXT(V5,"mmmm")) | AC4: =IF(OR(TEXT(AC5,"mmmm")=V4,TEXT(AC5,"mmmm")=O4),"",TEXT(AC5,"mmmm")) | AJ4: =IF(OR(TEXT(AJ5,"mmmm")=AC4,TEXT(AJ5,"mmmm")=V4,TEXT(AJ5,"mmmm")=O4),"",TEXT(AJ5,"mmmm")) -> December | AQ4: =IF(OR(TEXT(AQ5,"mmmm")=AJ4,TEXT(AQ5,"mmmm")=AC4,TEXT(AQ5,"mmmm")=V4,TEXT(AQ5,"mmmm")=O4),"",TEXT(AQ5,"mmmm")) | AX4: =IF(OR(TEXT(AX5,"mmmm")=AQ4,TEXT(AX5,"mmmm")=AJ4,TEXT(AX5,"mmmm")=AC4,TEXT(AX5,"mmmm")=V4),"",TEXT(AX5,"mmmm")) | BE4: =IF(OR(TEXT(BE5,"mmmm")=AX4,TEXT(BE5,"mmmm")=AQ4,TEXT(BE5,"mmmm")=AJ4,TEXT(BE5,"mmmm")=AC4),"",TEXT(BE5,"mmmm")) | BL4: =IF(OR(TEXT(BL5,"mmmm")=BE4,TEXT(BL5,"mmmm")=AX4,TEXT(BL5,"mmmm")=AQ4,TEXT(BL5,"mmmm")=AJ4),"",TEXT(BL5,"mmmm"))
A5: Cells I5 through BL5 contain the day number of the month for the Month represented in the cell block above each date cell and are auto calculated. Do not modify these cells. Today's date is outlined in Red (hex #AD3815) from today's date in row 5 through the entire date column to the end of the project schedule. | O5: =IFERROR(Project_Start+Scrolling_Increment,TODAY()) -> 43779 | P5: =O5+1 -> 43780 | Q5: =P5+1 -> 43781 | R5: =Q5+1 -> 43782 | S5: =R5+1 -> 43783 | T5: =S5+1 -> 43784 | U5: =T5+1 -> 43785 | V5: =U5+1 -> 43786 | W5: =V5+1 -> 43787 | ... BR5: =BQ5+1 -> 43834
A6: A scrollbar is in cells I6 through BL6. The increment for paging through the data is defined as 2 pages at a time and can be configured in the settings for the control bar. To jump forward or backward in the timeline, enter a value of 0 or higher in cell F4. A value of 0 takes you to the beginning of the chart. | F6: LEGEND
A7: This row contains headers for the project schedule that follows below them. Navigate from B7 through BL7 to hear the content. The first letter of each day of the week for the date above that heading, starts in cell I7 and continues through cell BL7. All project timeline charting is auto generated based on the category, start date and number of days entered in the Milestones table. | B7: Project Title | C7: Category | D7: Project Owner | E7: Progress | F7: Initial Business Plan Submission Date | G7: Decision date for trial | H7: Trial begins | I7: Trial ends | J7: Decision for Roll Out | K7: Roll Out begins | L7: Roll Out Ends | M7: Days | O7: =LEFT(TEXT(O5,"ddd"),1) -> S | P7: =LEFT(TEXT(P5,"ddd"),1) -> M | Q7: =LEFT(TEXT(Q5,"ddd"),1) -> T | R7: =LEFT(TEXT(R5,"ddd"),1) -> W | S7: =LEFT(TEXT(S5,"ddd"),1) -> T | T7: =LEFT(TEXT(T5,"ddd"),1) -> F | U7: =LEFT(TEXT(U5,"ddd"),1) -> S | V7: =LEFT(TEXT(V5,"ddd"),1) -> S | ... BR7: =LEFT(TEXT(BR5,"ddd"),1) -> S
A8: Do not delete this row. This row is hidden to preserve a formula that is used to highlight the current day within the project schedule. | B8: =Info!A2 -> Test Title 1 | C8: =INDEX(Info!$A:$O,MATCH(B8,Info!$A:$A,0),3) -> Test Cat 1 | D8: =INDEX(Info!$A:$O,MATCH(B8,Info!$A:$A,0),5) -> Test Own 1 | E8: 0.6 | F8: =INDEX(Info!$A:$O,MATCH(B8,Info!$A:$A,0),9) -> 43779 | G8: =INDEX(Info!$A:$O,MATCH(B8,Info!$A:$A,0),10) -> 43780 | H8: =INDEX(Info!$A:$O,MATCH(B8,Info!$A:$A,0),11) -> 43781 | I8: =INDEX(Info!$A:$O,MATCH(B8,Info!$A:$A,0),12) -> 43782 | J8: =INDEX(Info!$A:$O,MATCH(B8,Info!$A:$A,0),13) -> 43783 | K8: =INDEX(Info!$A:$O,MATCH(B8,Info!$A:$A,0),14) -> 43784 | L8: =INDEX(Info!$A:$O,MATCH(B8,Info!$A:$A,0),15) -> 43785 | M8: =L8-F8 -> 6
A9: Do not delete this row. This row is hidden to preserve a formula that is used to highlight the current day within the project schedule. | B9: =Info!A3 -> Test Title 2 | C9: =INDEX(Info!$A:$O,MATCH(B9,Info!$A:$A,0),3) -> Test Cat 2 | D9: =INDEX(Info!$A:$O,MATCH(B9,Info!$A:$A,0),5) -> Test Own 2 | E9: 0.6 | F9: =INDEX(Info!$A:$O,MATCH(B9,Info!$A:$A,0),9) -> 43809 | G9: =INDEX(Info!$A:$O,MATCH(B9,Info!$A:$A,0),10) -> 43810 | H9: =INDEX(Info!$A:$O,MATCH(B9,Info!$A:$A,0),11) -> 43811 | I9: =INDEX(Info!$A:$O,MATCH(B9,Info!$A:$A,0),12) -> 43812 | J9: =INDEX(Info!$A:$O,MATCH(B9,Info!$A:$A,0),13) -> 43813 | K9: =INDEX(Info!$A:$O,MATCH(B9,Info!$A:$A,0),14) -> 43814 | L9: =INDEX(Info!$A:$O,MATCH(B9,Info!$A:$A,0),15) -> 43815 | M9: =L9-F9 -> 6
A10: This row marks the end of the Gantt milestone data. DO NOT enter anything in this row. To add more items, insert new rows above this one. | B10: To add more data, Insert new rows ABOVE this one

Sheet Info
A1: Project Title | B1: Project Description | C1: Category | D1: Department | E1: Project owner | F1: Level of recources allocated | G1: Business impact | H1: Comms Plan submitted | I1: Initial Business Plan Submission Date | J1: Decision date for trial | K1: Trial begins | L1: Trial ends | M1: Decision for roll out | N1: Roll out begins | O1: roll out ends | P1: Last Updated
A2: Test Title 1 | B2: Test Desc 1 | C2: Test Cat 1 | D2: Test Dept 1 | E2: Test Own 1 | F2: Test Resources 1 | G2: Test Impact 1 | H2: Test Plan 1 | I2: 43779 | J2: 43780 | K2: 43781 | L2: 43782 | M2: 43783 | N2: 43784 | O2: 43785 | P2: 43780
A3: Test Title 2 | B3: Test Desc 2 | C3: Test Cat 2 | D3: Test Dept 2 | E3: Test Own 2 | F3: Test Resources 2 | G3: Test Impact 2 | H3: Test Plan 2 | I3: 43809 | J3: 43810 | K3: 43811 | L3: 43812 | M3: 43813 | N3: 43814 | O3: 43815 | P3: 43780
