Workbook
Name ingredients: Ingredients!$A$2:$A$119

Sheet Protein Granola (3)
A1: Recipe | B1: Ingredients | C1: Quantity | D1: Measurement | E1: Macros for Entire Recipe
E2: Cals | F2: P | G2: F | H2: C
A4: Protein Granola | B4: Oats | C4: 1.6 | D4: /100g | E4: =Ingredients!C4*$C$4 -> 1040 | F4: =Ingredients!D4*$C$4 -> 40.64 | G4: =Ingredients!E4*$C$4 -> 89.28 | H4: =Ingredients!F4*$C$4 -> 10.4
B5: vanilla whey protein powder | C5: 0.5 | D5: /100g | E5: =Ingredients!C5*$C$5 -> 6.5 | F5: =Ingredients!D5*$C$5 -> 0.25 | G5: =Ingredients!E5*$C$5 -> 0.55 | H5: =Ingredients!F5*$C$5 -> 0.1
B6: coconut oil | C6: 0.5 | D6: /100g | E6: =Ingredients!C18*$C$6 -> 0.15 | F6: =Ingredients!D18*$C$6 -> 0 | G6: =Ingredients!E18*$C$6 -> 0 | H6: =Ingredients!F18*$C$6 -> 0.05
B7: maple syrup | C7: 0.3 | D7: /100ml | E7: =Ingredients!C19*$C$7 -> 31.38 | F7: =Ingredients!D19*$C$7 -> 0.03 | G7: =Ingredients!E19*$C$7 -> 3.45 | H7: =Ingredients!F19*$C$7 -> 0.06
B8: apple juice | C8: 0.9 | D8: /100ml | E8: =Ingredients!C20*$C$8 -> 33.3 | F8: =Ingredients!D20*$C$8 -> 0 | G8: =Ingredients!E20*$C$8 -> 3.6 | H8: =Ingredients!F20*$C$8 -> 0
B9: mixed nuts & seeds | C9: 1.5 | D9: /100g | E9: =Ingredients!C21*$C$9 -> 63 | F9: =Ingredients!D21*$C$9 -> 1.65 | G9: =Ingredients!E21*$C$9 -> 0.15 | H9: =Ingredients!F21*$C$9 -> 12.45
B10: dessicated coconut | C10: 0.1 | D10: /100g | E10: =Ingredients!C22*$C$10 -> 4.2 | F10: =Ingredients!D22*$C$10 -> 0.06 | G10: =Ingredients!E22*$C$10 -> 0.03 | H10: =Ingredients!F22*$C$10 -> 0.79
B12: Total - Entire Recipe | E12: =SUM(E4:E10) -> 1178.53 | F12: =SUM(F4:F10) -> 42.63 | G12: =SUM(G4:G10) -> 97.06 | H12: =SUM(H4:H10) -> 23.85
B14: No. Of Servings | C14: 8
B16: Per Serving | E16: =E12/8 -> 147.31625 | F16: =F12/8 -> 5.32875 | G16: =G12/8 -> 12.1325 | H16: =H12/8 -> 2.98125
B18: Check | E18: =F18 + G18 +H18 -> 142.4325 | F18: =F16*4 -> 21.315 | G18: =G16*9 -> 109.1925 | H18: =H16*4 -> 11.925
B20: Rounded | E20: 370 | F20: 11 | G20: 27 | H20: 19

Sheet About
B2: THP (Team High Protein) Macro Calculator
B4: Created by : Wil Wong, Louise Kang
B6: Version : 1.0
B8: Date : March 2017

Sheet Instructions

Sheet Recipe Template
A2: Test Recipe
B5: Ingredients | C5: QTY | D5: Measurement | E5: Macros calculated from Quantity
E6: CAL | F6: P | G6: F | H6: C
B7: =Ingredients!A4 -> almond butter | C7: =Ingredients!B4 -> 100g | D7: =Ingredients!C4 -> 650 | E7: =Ingredients!D4 -> 25.4 | F7: =Ingredients!E4 -> 55.8 | G7: =Ingredients!F4 -> 6.5 | H7: =Ingredients!G4 -> -20.2 | I7: =Ingredients!H4 -> Tesco - Meridian Smooth | ... K7: =Ingredients!J4 -> 0
B8: =Ingredients!A5 -> almond milk | C8: =Ingredients!B5 -> 100ml | D8: =Ingredients!C5 -> 13 | E8: =Ingredients!D5 -> 0.5 | F8: =Ingredients!E5 -> 1.1 | G8: =Ingredients!F5 -> 0.2 | H8: =Ingredients!G5 -> -0.3 | I8: =Ingredients!H5 -> Tesco - Almond Breeze Unswetened | ... K8: =Ingredients!J5 -> 0
B9: =Ingredients!A6 -> apple | C9: =Ingredients!B6 -> 1 typical granny smith | D9: =Ingredients!C6 -> 71 | E9: =Ingredients!D6 -> 0.5 | F9: =Ingredients!E6 -> 0.1 | G9: =Ingredients!F6 -> 15.7 | H9: =Ingredients!G6 -> -5.3 | I9: =Ingredients!H6 -> Tesco - a typical | ... K9: =Ingredients!J6 -> 0
B10: =Ingredients!A7 -> Apple Cordial | C10: =Ingredients!B7 -> 100ml | D10: =Ingredients!C7 -> 2 | E10: =Ingredients!D7 -> 0.1 | F10: =Ingredients!E7 -> 0.1 | G10: =Ingredients!F7 -> 0.3 | H10: =Ingredients!G7 -> 0.5 | I10: =Ingredients!H7 -> Tesco Double Strength Apple Squash No added suger | ... K10: =Ingredients!J7 -> 0
B11: =Ingredients!A8 -> apple juice | C11: =Ingredients!B8 -> 100ml | D11: =Ingredients!C8 -> 49 | E11: =Ingredients!D8 -> 0.1 | F11: =Ingredients!E8 -> 0 | G11: =Ingredients!F8 -> 11.2 | H11: =Ingredients!G8 -> -3.8 | I11: =Ingredients!H8 -> Tesco Apple Juice Not from Concentrate | ... K11: =Ingredients!J8 -> 0
B12: =Ingredients!A9 -> Asparagus | C12: =Ingredients!B9 -> 100g | D12: =Ingredients!C9 -> 29 | E12: =Ingredients!D9 -> 2.9 | F12: =Ingredients!E9 -> 0.6 | G12: =Ingredients!F9 -> 2 | H12: =Ingredients!G9 -> -4 | I12: =Ingredients!H9 -> Tescos Fine Asparagus 125g | ... K12: =Ingredients!J9 -> 0
B13: =Ingredients!A10 -> Aubergine | C13: =Ingredients!B10 -> 100g | D13: =Ingredients!C10 -> 24 | E13: =Ingredients!D10 -> 1 | F13: =Ingredients!E10 -> 0.2 | G13: =Ingredients!F10 -> 5.7 | H13: =Ingredients!G10 -> 4.6 | I13: =Ingredients!H10 -> fatsecret.com | ... K13: =Ingredients!J10 -> 0
B14: =Ingredients!A11 -> Avacado | C14: =Ingredients!B11 -> 100g (med approx 120g) | D14: =Ingredients!C11 -> 198 | E14: =Ingredients!D11 -> 1.9 | F14: =Ingredients!E11 -> 19.5 | G14: =Ingredients!F11 -> 1.9 | H14: =Ingredients!G11 -> -7.3 | I14: =Ingredients!H11 -> Tesco Ready to eat Med Avocados | ... K14: =Ingredients!J11 -> 0
B15: =Ingredients!A12 -> Baked Beans | C15: =Ingredients!B12 -> 100g | D15: =Ingredients!C12 -> 78 | E15: =Ingredients!D12 -> 4.7 | F15: =Ingredients!E12 -> 0.2 | G15: =Ingredients!F12 -> 12.5 | H15: =Ingredients!G12 -> -7.4 | I15: =Ingredients!H12 -> Heinz tinned baked beans | ... K15: =Ingredients!J12 -> 0
B16: =Ingredients!A13 -> Baking Powder | C16: =Ingredients!B13 -> tsp | D16: =Ingredients!C13 -> 2 | E16: =Ingredients!D13 -> 0 | F16: =Ingredients!E13 -> 0 | G16: =Ingredients!F13 -> 1.27 | H16: =Ingredients!G13 -> 3.08 | I16: =Ingredients!H13 -> fatsecret.com | ... K16: =Ingredients!J13 -> 0
B17: =Ingredients!A14 -> balsamic vinegar | C17: =Ingredients!B14 -> tbsp | D17: =Ingredients!C14 -> 15 | E17: =Ingredients!D14 -> 1 | F17: =Ingredients!E14 -> 0 | G17: =Ingredients!F14 -> 3.6 | H17: =Ingredients!G14 -> 3.4 | I17: =Ingredients!H14 -> Tesco Balsamic Vinegar of Modena 250ml | ... K17: =Ingredients!J14 -> 0
B18: =Ingredients!A15 -> banana | C18: =Ingredients!B15 -> 1 medium | D18: =Ingredients!C15 -> 154 | E18: =Ingredients!D15 -> 1.8 | F18: =Ingredients!E15 -> 0.5 | G18: =Ingredients!F15 -> 34.8 | H18: =Ingredients!G15 -> -3.1 | I18: =Ingredients!H15 -> Tesco - a typical medium banana (150g) | ... K18: =Ingredients!J15 -> 0
... B20: =Ingredients!A17 -> blueberries | C20: =Ingredients!B17 -> 96ml | D20: =Ingredients!C17 -> 68 | E20: =Ingredients!D17 -> 0.7 | F20: =Ingredients!E17 -> 0.3 | G20: =Ingredients!F17 -> 14.5 | H20: =Ingredients!G17 -> -4.5 | I20: =Ingredients!H17 -> Tesco | ... K20: =Ingredients!J17 -> 0
B21: Total - Entire Recipe | E21: =SUM(E7:E20) -> 41.48 | F21: =SUM(F7:F20) -> 87.94 | G21: =SUM(G7:G20) -> 116.23 | H21: =SUM(H7:H20) -> -35.7
B23: No. Of Servings | C23: 1 | E23: CAL | F23: P | G23: F | H23: C
B25: Per Serving | E25: =E21/$C$23 -> 41.48 | F25: =F21/$C$23 -> 87.94 | G25: =G21/$C$23 -> 116.23 | H25: =H21/$C$23 -> -35.7
B27: Check | E27: =F27 + G27 +H27 -> 1255.03 | F27: =F25*4 -> 351.76 | G27: =G25*9 -> 1046.07 | H27: =H25*4 -> -142.8
B29: Rounded | E29: =ROUND(E25/5,0)*5 -> 40 | F29: =ROUND(F25/5,0)*5 -> 90 | G29: =ROUND(G25/5,0)*5 -> 115 | H29: =ROUND(H25/5,0)*5 -> -35

Sheet Test Recipe
A2: Test Recipe
B5: Ingredients | C5: QTY | D5: Measurement | E5: Macros calculated from Quantity
E6: Cals | F6: P | G6: F | H6: C
B8: Olive oil | C8: 1 | D8: =IF($B8="","",INDEX(Ingredients!B:B,MATCH($B8,Ingredients!$A:$A,0))) -> Tsp (6ml) | E8: =IF($B8="","",$C8*INDEX(Ingredients!C:C,MATCH($B8,Ingredients!$A:$A,0))) -> 50 | F8: =IF($B8="","",$C8*INDEX(Ingredients!D:D,MATCH($B8,Ingredients!$A:$A,0))) -> 0 | G8: =IF($B8="","",$C8*INDEX(Ingredients!E:E,MATCH($B8,Ingredients!$A:$A,0))) -> 5.46 | H8: =IF($B8="","",$C8*INDEX(Ingredients!F:F,MATCH($B8,Ingredients!$A:$A,0))) -> 0
B9: dessicated coconut | C9: 0.1 | D9: =IF($B9="","",INDEX(Ingredients!B:B,MATCH($B9,Ingredients!$A:$A,0))) -> 100g | E9: =IF($B9="","",$C9*INDEX(Ingredients!C:C,MATCH($B9,Ingredients!$A:$A,0))) -> 63.3 | F9: =IF($B9="","",$C9*INDEX(Ingredients!D:D,MATCH($B9,Ingredients!$A:$A,0))) -> 0.56 | G9: =IF($B9="","",$C9*INDEX(Ingredients!E:E,MATCH($B9,Ingredients!$A:$A,0))) -> 6.2 | H9: =IF($B9="","",$C9*INDEX(Ingredients!F:F,MATCH($B9,Ingredients!$A:$A,0))) -> 0.64
B10: Turmeric | C10: 1.7 | D10: =IF($B10="","",INDEX(Ingredients!B:B,MATCH($B10,Ingredients!$A:$A,0))) -> tsp | E10: =IF($B10="","",$C10*INDEX(Ingredients!C:C,MATCH($B10,Ingredients!$A:$A,0))) -> 13.6 | F10: =IF($B10="","",$C10*INDEX(Ingredients!D:D,MATCH($B10,Ingredients!$A:$A,0))) -> 0.289 | G10: =IF($B10="","",$C10*INDEX(Ingredients!E:E,MATCH($B10,Ingredients!$A:$A,0))) -> 0.374 | H10: =IF($B10="","",$C10*INDEX(Ingredients!F:F,MATCH($B10,Ingredients!$A:$A,0))) -> 2.431
B11: Chickpeas, canned | C11: 0.1 | D11: =IF($B11="","",INDEX(Ingredients!B:B,MATCH($B11,Ingredients!$A:$A,0))) -> Tsp | E11: =IF($B11="","",$C11*INDEX(Ingredients!C:C,MATCH($B11,Ingredients!$A:$A,0))) -> 12.8 | F11: =IF($B11="","",$C11*INDEX(Ingredients!D:D,MATCH($B11,Ingredients!$A:$A,0))) -> 0.72 | G11: =IF($B11="","",$C11*INDEX(Ingredients!E:E,MATCH($B11,Ingredients!$A:$A,0))) -> 0.29 | H11: =IF($B11="","",$C11*INDEX(Ingredients!F:F,MATCH($B11,Ingredients!$A:$A,0))) -> 1.61
B12: Aubergine | C12: 3 | D12: =IF($B12="","",INDEX(Ingredients!B:B,MATCH($B12,Ingredients!$A:$A,0))) -> 100g | E12: =IF($B12="","",$C12*INDEX(Ingredients!C:C,MATCH($B12,Ingredients!$A:$A,0))) -> 72 | F12: =IF($B12="","",$C12*INDEX(Ingredients!D:D,MATCH($B12,Ingredients!$A:$A,0))) -> 3 | G12: =IF($B12="","",$C12*INDEX(Ingredients!E:E,MATCH($B12,Ingredients!$A:$A,0))) -> 0.6 | H12: =IF($B12="","",$C12*INDEX(Ingredients!F:F,MATCH($B12,Ingredients!$A:$A,0))) -> 17.1
B13: chilli powder | C13: 2 | D13: =IF($B13="","",INDEX(Ingredients!B:B,MATCH($B13,Ingredients!$A:$A,0))) -> 1 tsp | E13: =IF($B13="","",$C13*INDEX(Ingredients!C:C,MATCH($B13,Ingredients!$A:$A,0))) -> 16 | F13: =IF($B13="","",$C13*INDEX(Ingredients!D:D,MATCH($B13,Ingredients!$A:$A,0))) -> 0.64 | G13: =IF($B13="","",$C13*INDEX(Ingredients!E:E,MATCH($B13,Ingredients!$A:$A,0))) -> 0.88 | H13: =IF($B13="","",$C13*INDEX(Ingredients!F:F,MATCH($B13,Ingredients!$A:$A,0))) -> 2.84
B14: Avacado | C14: 1.2 | D14: =IF($B14="","",INDEX(Ingredients!B:B,MATCH($B14,Ingredients!$A:$A,0))) -> 100g (med approx 120g) | E14: =IF($B14="","",$C14*INDEX(Ingredients!C:C,MATCH($B14,Ingredients!$A:$A,0))) -> 237.6 | F14: =IF($B14="","",$C14*INDEX(Ingredients!D:D,MATCH($B14,Ingredients!$A:$A,0))) -> 2.28 | G14: =IF($B14="","",$C14*INDEX(Ingredients!E:E,MATCH($B14,Ingredients!$A:$A,0))) -> 23.4 | H14: =IF($B14="","",$C14*INDEX(Ingredients!F:F,MATCH($B14,Ingredients!$A:$A,0))) -> 2.28
B15: Parma Ham | C15: 0.2 | D15: =IF($B15="","",INDEX(Ingredients!B:B,MATCH($B15,Ingredients!$A:$A,0))) -> 100g | E15: =IF($B15="","",$C15*INDEX(Ingredients!C:C,MATCH($B15,Ingredients!$A:$A,0))) -> 50 | F15: =IF($B15="","",$C15*INDEX(Ingredients!D:D,MATCH($B15,Ingredients!$A:$A,0))) -> 5.6 | G15: =IF($B15="","",$C15*INDEX(Ingredients!E:E,MATCH($B15,Ingredients!$A:$A,0))) -> 3.02 | H15: =IF($B15="","",$C15*INDEX(Ingredients!F:F,MATCH($B15,Ingredients!$A:$A,0))) -> 0.1
D16: =IF($B16="","",INDEX(Ingredients!B:B,MATCH($B16,Ingredients!$A:$A,0))) | E16: =IF($B16="","",$C16*INDEX(Ingredients!C:C,MATCH($B16,Ingredients!$A:$A,0))) | F16: =IF($B16="","",$C16*INDEX(Ingredients!D:D,MATCH($B16,Ingredients!$A:$A,0))) | G16: =IF($B16="","",$C16*INDEX(Ingredients!E:E,MATCH($B16,Ingredients!$A:$A,0))) | H16: =IF($B16="","",$C16*INDEX(Ingredients!F:F,MATCH($B16,Ingredients!$A:$A,0)))
D17: =IF($B17="","",INDEX(Ingredients!B:B,MATCH($B17,Ingredients!$A:$A,0))) | E17: =IF($B17="","",$C17*INDEX(Ingredients!C:C,MATCH($B17,Ingredients!$A:$A,0))) | F17: =IF($B17="","",$C17*INDEX(Ingredients!D:D,MATCH($B17,Ingredients!$A:$A,0))) | G17: =IF($B17="","",$C17*INDEX(Ingredients!E:E,MATCH($B17,Ingredients!$A:$A,0))) | H17: =IF($B17="","",$C17*INDEX(Ingredients!F:F,MATCH($B17,Ingredients!$A:$A,0)))
D18: =IF($B18="","",INDEX(Ingredients!B:B,MATCH($B18,Ingredients!$A:$A,0))) | E18: =IF($B18="","",$C18*INDEX(Ingredients!C:C,MATCH($B18,Ingredients!$A:$A,0))) | F18: =IF($B18="","",$C18*INDEX(Ingredients!D:D,MATCH($B18,Ingredients!$A:$A,0))) | G18: =IF($B18="","",$C18*INDEX(Ingredients!E:E,MATCH($B18,Ingredients!$A:$A,0))) | H18: =IF($B18="","",$C18*INDEX(Ingredients!F:F,MATCH($B18,Ingredients!$A:$A,0)))
D19: =IF($B19="","",INDEX(Ingredients!B:B,MATCH($B19,Ingredients!$A:$A,0))) | E19: =IF($B19="","",$C19*INDEX(Ingredients!C:C,MATCH($B19,Ingredients!$A:$A,0))) | F19: =IF($B19="","",$C19*INDEX(Ingredients!D:D,MATCH($B19,Ingredients!$A:$A,0))) | G19: =IF($B19="","",$C19*INDEX(Ingredients!E:E,MATCH($B19,Ingredients!$A:$A,0))) | H19: =IF($B19="","",$C19*INDEX(Ingredients!F:F,MATCH($B19,Ingredients!$A:$A,0)))
D20: =IF($B20="","",INDEX(Ingredients!B:B,MATCH($B20,Ingredients!$A:$A,0))) | E20: =IF($B20="","",$C20*INDEX(Ingredients!C:C,MATCH($B20,Ingredients!$A:$A,0))) | F20: =IF($B20="","",$C20*INDEX(Ingredients!D:D,MATCH($B20,Ingredients!$A:$A,0))) | G20: =IF($B20="","",$C20*INDEX(Ingredients!E:E,MATCH($B20,Ingredients!$A:$A,0))) | H20: =IF($B20="","",$C20*INDEX(Ingredients!F:F,MATCH($B20,Ingredients!$A:$A,0)))
B21: Total - Entire Recipe | E21: =SUM(E7:E20) -> 515.3 | F21: =SUM(F7:F20) -> 13.089 | G21: =SUM(G7:G20) -> 40.224 | H21: =SUM(H7:H20) -> 27.001
B23: No. Of Servings | C23: 1 | E23: CAL | F23: P | G23: F | H23: C
B25: Per Serving | E25: =E21/$C$23 -> 515.3 | F25: =F21/$C$23 -> 13.089 | G25: =G21/$C$23 -> 40.224 | H25: =H21/$C$23 -> 27.001
B27: Check | E27: =F27 + G27 +H27 -> 522.376 | F27: =F25*4 -> 52.356 | G27: =G25*9 -> 362.016 | H27: =H25*4 -> 108.004
B29: Rounded | E29: =ROUND(E25/5,0)*5 -> 515 | F29: =ROUND(F25/5,0)*5 -> 15 | G29: =ROUND(G25/5,0)*5 -> 40 | H29: =ROUND(H25/5,0)*5 -> 25

Sheet Test Recipe (2)
A2: Test Recipe
B5: Ingredients | C5: QTY | D5: Measurement | E5: Macros calculated from Quantity
E6: Cals | F6: P | G6: F | H6: C
B8: Oyster Sauce | C8: 1 | D8: =IF($B8="","",INDEX(Ingredients!B:B,MATCH($B8,Ingredients!$A:$A,0))) -> 100g | E8: =IF($B8="","",$C8*INDEX(Ingredients!C:C,MATCH($B8,Ingredients!$A:$A,0))) -> 129 | F8: =IF($B8="","",$C8*INDEX(Ingredients!D:D,MATCH($B8,Ingredients!$A:$A,0))) -> 2.2 | G8: =IF($B8="","",$C8*INDEX(Ingredients!E:E,MATCH($B8,Ingredients!$A:$A,0))) -> 0.5 | H8: =IF($B8="","",$C8*INDEX(Ingredients!F:F,MATCH($B8,Ingredients!$A:$A,0))) -> 30
B9: Feta cheese | C9: 0.5 | D9: =IF($B9="","",INDEX(Ingredients!B:B,MATCH($B9,Ingredients!$A:$A,0))) -> 100g | E9: =IF($B9="","",$C9*INDEX(Ingredients!C:C,MATCH($B9,Ingredients!$A:$A,0))) -> 145.5 | F9: =IF($B9="","",$C9*INDEX(Ingredients!D:D,MATCH($B9,Ingredients!$A:$A,0))) -> 8.45 | G9: =IF($B9="","",$C9*INDEX(Ingredients!E:E,MATCH($B9,Ingredients!$A:$A,0))) -> 12.2 | H9: =IF($B9="","",$C9*INDEX(Ingredients!F:F,MATCH($B9,Ingredients!$A:$A,0))) -> 0.45
B10: tomato puree | C10: 2 | D10: =IF($B10="","",INDEX(Ingredients!B:B,MATCH($B10,Ingredients!$A:$A,0))) -> 1 Tbsp | E10: =IF($B10="","",$C10*INDEX(Ingredients!C:C,MATCH($B10,Ingredients!$A:$A,0))) -> 26 | F10: =IF($B10="","",$C10*INDEX(Ingredients!D:D,MATCH($B10,Ingredients!$A:$A,0))) -> 1.4 | G10: =IF($B10="","",$C10*INDEX(Ingredients!E:E,MATCH($B10,Ingredients!$A:$A,0))) -> 0.2 | H10: =IF($B10="","",$C10*INDEX(Ingredients!F:F,MATCH($B10,Ingredients!$A:$A,0))) -> 6
B11: Corn Tortilla | C11: 1 | D11: =IF($B11="","",INDEX(Ingredients!B:B,MATCH($B11,Ingredients!$A:$A,0))) -> Each (40g) | E11: =IF($B11="","",$C11*INDEX(Ingredients!C:C,MATCH($B11,Ingredients!$A:$A,0))) -> 126 | F11: =IF($B11="","",$C11*INDEX(Ingredients!D:D,MATCH($B11,Ingredients!$A:$A,0))) -> 3.5 | G11: =IF($B11="","",$C11*INDEX(Ingredients!E:E,MATCH($B11,Ingredients!$A:$A,0))) -> 2.3 | H11: =IF($B11="","",$C11*INDEX(Ingredients!F:F,MATCH($B11,Ingredients!$A:$A,0))) -> 56
B12: Baked Beans | C12: 2 | D12: =IF($B12="","",INDEX(Ingredients!B:B,MATCH($B12,Ingredients!$A:$A,0))) -> 100g | E12: =IF($B12="","",$C12*INDEX(Ingredients!C:C,MATCH($B12,Ingredients!$A:$A,0))) -> 156 | F12: =IF($B12="","",$C12*INDEX(Ingredients!D:D,MATCH($B12,Ingredients!$A:$A,0))) -> 9.4 | G12: =IF($B12="","",$C12*INDEX(Ingredients!E:E,MATCH($B12,Ingredients!$A:$A,0))) -> 0.4 | H12: =IF($B12="","",$C12*INDEX(Ingredients!F:F,MATCH($B12,Ingredients!$A:$A,0))) -> 25
B13: nutritional yeast | C13: 1 | D13: =IF($B13="","",INDEX(Ingredients!B:B,MATCH($B13,Ingredients!$A:$A,0))) -> tbsp(5g) | E13: =IF($B13="","",$C13*INDEX(Ingredients!C:C,MATCH($B13,Ingredients!$A:$A,0))) -> 17 | F13: =IF($B13="","",$C13*INDEX(Ingredients!D:D,MATCH($B13,Ingredients!$A:$A,0))) -> 2.6 | G13: =IF($B13="","",$C13*INDEX(Ingredients!E:E,MATCH($B13,Ingredients!$A:$A,0))) -> 0.2 | H13: =IF($B13="","",$C13*INDEX(Ingredients!F:F,MATCH($B13,Ingredients!$A:$A,0))) -> 1.9
B14: butter | C14: 1 | D14: =IF($B14="","",INDEX(Ingredients!B:B,MATCH($B14,Ingredients!$A:$A,0))) -> 1 Tbsp (15g) | E14: =IF($B14="","",$C14*INDEX(Ingredients!C:C,MATCH($B14,Ingredients!$A:$A,0))) -> 104.6 | F14: =IF($B14="","",$C14*INDEX(Ingredients!D:D,MATCH($B14,Ingredients!$A:$A,0))) -> 0.1 | G14: =IF($B14="","",$C14*INDEX(Ingredients!E:E,MATCH($B14,Ingredients!$A:$A,0))) -> 11.5 | H14: =IF($B14="","",$C14*INDEX(Ingredients!F:F,MATCH($B14,Ingredients!$A:$A,0))) -> 0.2
B15: Quinoa | C15: 0.5 | D15: =IF($B15="","",INDEX(Ingredients!B:B,MATCH($B15,Ingredients!$A:$A,0))) -> 100g | E15: =IF($B15="","",$C15*INDEX(Ingredients!C:C,MATCH($B15,Ingredients!$A:$A,0))) -> 57 | F15: =IF($B15="","",$C15*INDEX(Ingredients!D:D,MATCH($B15,Ingredients!$A:$A,0))) -> 2.2 | G15: =IF($B15="","",$C15*INDEX(Ingredients!E:E,MATCH($B15,Ingredients!$A:$A,0))) -> 0.95 | H15: =IF($B15="","",$C15*INDEX(Ingredients!F:F,MATCH($B15,Ingredients!$A:$A,0))) -> 9.25
D16: =IF($B16="","",INDEX(Ingredients!B:B,MATCH($B16,Ingredients!$A:$A,0))) | E16: =IF($B16="","",$C16*INDEX(Ingredients!C:C,MATCH($B16,Ingredients!$A:$A,0))) | F16: =IF($B16="","",$C16*INDEX(Ingredients!D:D,MATCH($B16,Ingredients!$A:$A,0))) | G16: =IF($B16="","",$C16*INDEX(Ingredients!E:E,MATCH($B16,Ingredients!$A:$A,0))) | H16: =IF($B16="","",$C16*INDEX(Ingredients!F:F,MATCH($B16,Ingredients!$A:$A,0)))
D17: =IF($B17="","",INDEX(Ingredients!B:B,MATCH($B17,Ingredients!$A:$A,0))) | E17: =IF($B17="","",$C17*INDEX(Ingredients!C:C,MATCH($B17,Ingredients!$A:$A,0))) | F17: =IF($B17="","",$C17*INDEX(Ingredients!D:D,MATCH($B17,Ingredients!$A:$A,0))) | G17: =IF($B17="","",$C17*INDEX(Ingredients!E:E,MATCH($B17,Ingredients!$A:$A,0))) | H17: =IF($B17="","",$C17*INDEX(Ingredients!F:F,MATCH($B17,Ingredients!$A:$A,0)))
D18: =IF($B18="","",INDEX(Ingredients!B:B,MATCH($B18,Ingredients!$A:$A,0))) | E18: =IF($B18="","",$C18*INDEX(Ingredients!C:C,MATCH($B18,Ingredients!$A:$A,0))) | F18: =IF($B18="","",$C18*INDEX(Ingredients!D:D,MATCH($B18,Ingredients!$A:$A,0))) | G18: =IF($B18="","",$C18*INDEX(Ingredients!E:E,MATCH($B18,Ingredients!$A:$A,0))) | H18: =IF($B18="","",$C18*INDEX(Ingredients!F:F,MATCH($B18,Ingredients!$A:$A,0)))
D19: =IF($B19="","",INDEX(Ingredients!B:B,MATCH($B19,Ingredients!$A:$A,0))) | E19: =IF($B19="","",$C19*INDEX(Ingredients!C:C,MATCH($B19,Ingredients!$A:$A,0))) | F19: =IF($B19="","",$C19*INDEX(Ingredients!D:D,MATCH($B19,Ingredients!$A:$A,0))) | G19: =IF($B19="","",$C19*INDEX(Ingredients!E:E,MATCH($B19,Ingredients!$A:$A,0))) | H19: =IF($B19="","",$C19*INDEX(Ingredients!F:F,MATCH($B19,Ingredients!$A:$A,0)))
D20: =IF($B20="","",INDEX(Ingredients!B:B,MATCH($B20,Ingredients!$A:$A,0))) | E20: =IF($B20="","",$C20*INDEX(Ingredients!C:C,MATCH($B20,Ingredients!$A:$A,0))) | F20: =IF($B20="","",$C20*INDEX(Ingredients!D:D,MATCH($B20,Ingredients!$A:$A,0))) | G20: =IF($B20="","",$C20*INDEX(Ingredients!E:E,MATCH($B20,Ingredients!$A:$A,0))) | H20: =IF($B20="","",$C20*INDEX(Ingredients!F:F,MATCH($B20,Ingredients!$A:$A,0)))
B21: Total - Entire Recipe | E21: =SUM(E7:E20) -> 761.1 | F21: =SUM(F7:F20) -> 29.85 | G21: =SUM(G7:G20) -> 28.25 | H21: =SUM(H7:H20) -> 128.8
B23: No. Of Servings | C23: 1 | E23: CAL | F23: P | G23: F | H23: C
B25: Per Serving | E25: =E21/$C$23 -> 761.1 | F25: =F21/$C$23 -> 29.85 | G25: =G21/$C$23 -> 28.25 | H25: =H21/$C$23 -> 128.8
B27: Check | E27: =F27 + G27 +H27 -> 888.85 | F27: =F25*4 -> 119.4 | G27: =G25*9 -> 254.25 | H27: =H25*4 -> 515.2
B29: Rounded | E29: =ROUND(E25/5,0)*5 -> 760 | F29: =ROUND(F25/5,0)*5 -> 30 | G29: =ROUND(G25/5,0)*5 -> 30 | H29: =ROUND(H25/5,0)*5 -> 130

Sheet Ingredients
A1: Column1 | B1: Measurement | C1: Macros | D1: Column2 | E1: Column3 | F1: Column4 | G1: Check - should be < 20 | H1: Verified to | I1: Notes
C2: Cals | D2: P | E2: F | F2: C
A4: almond butter | B4: 100g | C4: 650 | D4: 25.4 | E4: 55.8 | F4: 6.5 | G4: =(D4*4)+(E4*9)+(F4*4)-C4 -> -20.2 | H4: Tesco - Meridian Smooth
A5: almond milk | B5: 100ml | C5: 13 | D5: 0.5 | E5: 1.1 | F5: 0.2 | G5: =(D5*4)+(E5*9)+(F5*4)-C5 -> -0.3 | H5: Tesco - Almond Breeze Unswetened
A6: apple | B6: 1 typical granny smith | C6: 71 | D6: 0.5 | E6: 0.1 | F6: 15.7 | G6: =(D6*4)+(E6*9)+(F6*4)-C6 -> -5.3 | H6: Tesco - a typical
A7: Apple Cordial | B7: 100ml | C7: 2 | D7: 0.1 | E7: 0.1 | F7: 0.3 | G7: =(D7*4)+(E7*9)+(F7*4)-C7 -> 0.5 | H7: Tesco Double Strength Apple Squash No added suger | I7: 1 tbsp = 9g. Verified by Louise.
A8: apple juice | B8: 100ml | C8: 49 | D8: 0.1 | E8: 0 | F8: 11.2 | G8: =(D8*4)+(E8*9)+(F8*4)-C8 -> -3.8 | H8: Tesco Apple Juice Not from Concentrate
A9: Asparagus | B9: 100g | C9: 29 | D9: 2.9 | E9: 0.6 | F9: 2 | G9: =(D9*4)+(E9*9)+(F9*4)-C9 -> -4 | H9: Tescos Fine Asparagus 125g
A10: Aubergine | B10: 100g | C10: 24 | D10: 1 | E10: 0.2 | F10: 5.7 | G10: =(D10*4)+(E10*9)+(F10*4)-C10 -> 4.6 | H10: fatsecret.com
A11: Avacado | B11: 100g (med approx 120g) | C11: 198 | D11: 1.9 | E11: 19.5 | F11: 1.9 | G11: =(D11*4)+(E11*9)+(F11*4)-C11 -> -7.3 | H11: Tesco Ready to eat Med Avocados
A12: Baked Beans | B12: 100g | C12: 78 | D12: 4.7 | E12: 0.2 | F12: 12.5 | G12: =(D12*4)+(E12*9)+(F12*4)-C12 -> -7.4 | H12: Heinz tinned baked beans
A13: Baking Powder | B13: tsp | C13: 2 | D13: 0 | E13: 0 | F13: 1.27 | G13: =(D13*4)+(E13*9)+(F13*4)-C13 -> 3.08 | H13: fatsecret.com
A14: balsamic vinegar | B14: tbsp | C14: 15 | D14: 1 | E14: 0 | F14: 3.6 | G14: =(D14*4)+(E14*9)+(F14*4)-C14 -> 3.4 | H14: Tesco Balsamic Vinegar of Modena 250ml
A15: banana | B15: 1 medium | C15: 154 | D15: 1.8 | E15: 0.5 | F15: 34.8 | G15: =(D15*4)+(E15*9)+(F15*4)-C15 -> -3.1 | H15: Tesco - a typical medium banana (150g)
A16: Black Olive | B16: 100g | C16: 105 | D16: 0.88 | E16: 9.54 | F16: 6.06 | G16: =(D16*4)+(E16*9)+(F16*4)-C16 -> 8.62 | H16: fatsecret.com
A17: blueberries | B17: 96ml | C17: 68 | D17: 0.7 | E17: 0.3 | F17: 14.5 | G17: =(D17*4)+(E17*9)+(F17*4)-C17 -> -4.5 | H17: Tesco
A18: Brown sugar substitute | B18: 1 tsp (4g) | C18: 0.3 | D18: 0 | E18: 0 | F18: 0.1 | G18: =(D18*4)+(E18*9)+(F18*4)-C18 -> 0.1 | H18: Sukrin website
A19: butter | B19: 1 Tbsp (15g) | C19: 104.6 | D19: 0.1 | E19: 11.5 | F19: 0.2 | G19: =(D19*4)+(E19*9)+(F19*4)-C19 -> 0.1 | H19: Tescos British unsalted block butter
... A42: dessicated coconut | B42: 100g | C42: 633 | D42: 5.6 | E42: 62 | F42: 6.4 | G42: =(D42*4)+(E42*9)+(F42*4)-C42 -> -27 | H42: Tesco - East End Dessicated Coconut
A43: egg white | B43: 2 tbsp = 1 egg white | C43: =23*2/3 -> 15.333333 | D43: =4.7*2/3 -> 3.1333333 | E43: 0 | F43: =0.5*2/3 -> 0.33333333 | G43: =(D43*4)+(E43*9)+(F43*4)-C43 -> -1.4666667 | H43: Two Chicks website
A44: egg yolks | B44: Large | C44: 55 | D44: 2.7 | E44: 4.5 | F44: 0.61 | G44: =(D44*4)+(E44*9)+(F44*4)-C44 -> -1.26 | H44: fatsecret.com
A45: Expresso | B45: 1 Shot (30ml approx) | C45: 1 | D45: 0.04 | E45: 0.05 | F45: 0 | G45: =(D45*4)+(E45*9)+(F45*4)-C45 -> -0.39 | H45: fatsecret.com
A46: Feta cheese | B46: 100g | C46: 291 | D46: 16.9 | E46: 24.4 | F46: 0.9 | G46: =(D46*4)+(E46*9)+(F46*4)-C46 -> -0.2 | H46: Tescos Greek Feta 200g
A47: Frozen Mixed Berries | B47: 100g | C47: 55 | D47: 1.1 | E47: 0.6 | F47: 9.6 | G47: =(D47*4)+(E47*9)+(F47*4)-C47 -> -6.8 | H47: Tesco Frozen Edv Mixed Fruit 1000g
A48: Frozen Strawberries | B48: 100g | C48: 30 | D48: 0.8 | E48: 0.1 | F48: 6 | G48: =(D48*4)+(E48*9)+(F48*4)-C48 -> -1.9 | H48: Tesco Frozen Strawberries 350g
A49: Fruit and Nut Mix | B49: 100g | C49: 466 | D49: 13.1 | E49: 25 | F49: 44 | G49: =(D49*4)+(E49*9)+(F49*4)-C49 -> -12.6 | H49: Tesco Fruit and Nut mix 250g
A50: Garlic clove | B50: 1 clove | C50: 4 | D50: 0.2 | E50: 0 | F50: 1 | G50: =(D50*4)+(E50*9)+(F50*4)-C50 -> 0.8 | H50: fatsecret.com
A51: ginger | B51: 100g | C51: 44 | D51: 1.4 | E51: 0.1 | F51: 0.7 | G51: =(D51*4)+(E51*9)+(F51*4)-C51 -> -34.7 | H51: Tesco Root Ginger loose
A52: Goji Berries | B52: 100g | C52: 362 | D52: 14 | E52: 1.8 | F52: 70 | G52: =(D52*4)+(E52*9)+(F52*4)-C52 -> -9.8 | H52: Tesco Goji Berries 100g
A53: Ground Almonds | B53: 100g | C53: 629 | D53: 21.1 | E53: 55.8 | F53: 6.9 | G53: =(D53*4)+(E53*9)+(F53*4)-C53 -> -14.8 | H53: Tescos Ground Almonds 200g
A54: High Protein cheese | B54: 100g | C54: 169 | D54: 37 | E54: 2 | F54: 0 | G54: =(D54*4)+(E54*9)+(F54*4)-C54 -> -3 | H54: MyProtein High Protein Cheese low fat
A55: High Protein Vanilla Yoghurt | B55: 100g | C55: 75 | D55: 3.7 | E55: 2.2 | F55: 9.5 | G55: =(D55*4)+(E55*9)+(F55*4)-C55 -> -2.4 | H55: Alpro Vanilla
... A78: oyster mushrooms | B78: 100g | C78: 35 | D78: 3.3 | E78: 0.44 | F78: 6.43 | G78: =(D78*4)+(E78*9)+(F78*4)-C78 -> 7.88 | H78: fatsecret.com
