Workbook

Sheet Sheet1
A1: Date | B1: Time | C1: Seq | D1: Change | E1: Seq2 | F1: Compound | G1: Time
A2: 41641.323 | B2: 41641.323 | C2: 1 | D2: =IF(TEXT(A2,"mm/dd/yyyy")<>TEXT(A1,"mm/dd/yyyy"),"D","S") -> D | E2: 1 | F2: =TEXT(A2,"dd/mm/yyyy")&E2 -> 02/01/20141 | G2: =B2 -> 41641.323
A3: 41641 | B3: 0.515625 | C3: 2 | D3: =IF(TEXT(A3,"mm/dd/yyyy")<>TEXT(A2,"mm/dd/yyyy"),"D","S") -> S | E3: =IF(D3="S",E2+1,1) -> 2 | F3: =TEXT(A3,"dd/mm/yyyy")&E3 -> 02/01/20142 | G3: =B3 -> 0.515625
A4: 41641 | B4: 0.53265046 | C4: 3 | D4: =IF(TEXT(A4,"mm/dd/yyyy")<>TEXT(A3,"mm/dd/yyyy"),"D","S") -> S | E4: =IF(D4="S",E3+1,1) -> 3 | F4: =TEXT(A4,"dd/mm/yyyy")&E4 -> 02/01/20143 | G4: =B4 -> 0.53265046
A5: 41641 | B5: 0.59552083 | C5: 4 | D5: =IF(TEXT(A5,"mm/dd/yyyy")<>TEXT(A4,"mm/dd/yyyy"),"D","S") -> S | E5: =IF(D5="S",E4+1,1) -> 4 | F5: =TEXT(A5,"dd/mm/yyyy")&E5 -> 02/01/20144 | G5: =B5 -> 0.59552083
A6: 41641 | B6: 0.72355324 | C6: 5 | D6: =IF(TEXT(A6,"mm/dd/yyyy")<>TEXT(A5,"mm/dd/yyyy"),"D","S") -> S | E6: =IF(D6="S",E5+1,1) -> 5 | F6: =TEXT(A6,"dd/mm/yyyy")&E6 -> 02/01/20145 | G6: =B6 -> 0.72355324
A7: 41642 | B7: 0.32759259 | C7: 6 | D7: =IF(TEXT(A7,"mm/dd/yyyy")<>TEXT(A6,"mm/dd/yyyy"),"D","S") -> D | E7: =IF(D7="S",E6+1,1) -> 1 | F7: =TEXT(A7,"dd/mm/yyyy")&E7 -> 03/01/20141 | G7: =B7 -> 0.32759259
A8: 41642 | B8: 0.50921296 | C8: 7 | D8: =IF(TEXT(A8,"mm/dd/yyyy")<>TEXT(A7,"mm/dd/yyyy"),"D","S") -> S | E8: =IF(D8="S",E7+1,1) -> 2 | F8: =TEXT(A8,"dd/mm/yyyy")&E8 -> 03/01/20142 | G8: =B8 -> 0.50921296
A9: 41642 | B9: 0.54814815 | C9: 8 | D9: =IF(TEXT(A9,"mm/dd/yyyy")<>TEXT(A8,"mm/dd/yyyy"),"D","S") -> S | E9: =IF(D9="S",E8+1,1) -> 3 | F9: =TEXT(A9,"dd/mm/yyyy")&E9 -> 03/01/20143 | G9: =B9 -> 0.54814815
A10: 41642 | B10: 0.69824074 | C10: 9 | D10: =IF(TEXT(A10,"mm/dd/yyyy")<>TEXT(A9,"mm/dd/yyyy"),"D","S") -> S | E10: =IF(D10="S",E9+1,1) -> 4 | F10: =TEXT(A10,"dd/mm/yyyy")&E10 -> 03/01/20144 | G10: =B10 -> 0.69824074

Sheet Sheet2
C1: 1 | D1: 2 | E1: 3 | F1: 4 | G1: 5 | H1: 6 | I1: 7 | J1: 8 | K1: 9 | L1: 10 | M1: 11
A2: =Sheet1!A2 -> 41641.323 | B2: =TEXT(A2,"dd/mm/yyyy") -> 02/01/2014 | C2: =IFERROR(VLOOKUP($B2&C$1,Sheet1!$F$2:$G$10,2,FALSE),0) -> 41641.323 | D2: =IFERROR(VLOOKUP($B2&D$1,Sheet1!$F$2:$G$10,2,FALSE),0) -> 0.515625 | E2: =IFERROR(VLOOKUP($B2&E$1,Sheet1!$F$2:$G$10,2,FALSE),0) -> 0.53265046 | F2: =IFERROR(VLOOKUP($B2&F$1,Sheet1!$F$2:$G$10,2,FALSE),0) -> 0.59552083 | G2: =IFERROR(VLOOKUP($B2&G$1,Sheet1!$F$2:$G$10,2,FALSE),0) -> 0.72355324 | H2: =IFERROR(VLOOKUP($B2&H$1,Sheet1!$F$2:$G$10,2,FALSE),0) -> 0 | I2: =IFERROR(VLOOKUP($B2&I$1,Sheet1!$F$2:$G$10,2,FALSE),0) -> 0 | J2: =IFERROR(VLOOKUP($B2&J$1,Sheet1!$F$2:$G$10,2,FALSE),0) -> 0 | ... M2: =IFERROR(VLOOKUP($B2&M$1,Sheet1!$F$2:$G$10,2,FALSE),0) -> 0 | O2: =D2 -> 0.515625 | P2: =MAX(D2:M2) -> 0.72355324
A3: =A2+1 -> 41642.323

Sheet Sheet3
