Workbook
Name calendar: daysAndWks + dateOfFirst - WEEKDAY(dateOfFirst,2)
Name dateOfFirst: DATE('Calendar View'!$AN$5,MONTH('Calendar View'!$C1),1)
Name daysAndWks: COLUMN(OFFSET(INDIRECT("$A$1"),0,0,1,42))-1
Name lstEDates: tblLeave[End Date]
Name lstEmployees: tblEmployees[List of Employees]
Name lstEmpNames: tblLeave[Employee Name]
Name lstHolidays: tblCompanyHolidays[Company Holidays]
Name lstHolidayTypes: tblLeaveTypes[Type of Leave]
Name lstHTypes: tblLeave[Type of Leave]
Name lstSdates: tblLeave[Start Date]
Name valSelEmployee: 'Calendar View'!$AN$3

Sheet Calendar View
B2: EMPLOYEE ATTENDANCE RECORD
AE3: Select an Employee: | AN3: Employee 1
AE5: Select a Year: | AN5: 2016
H8: S | I8: M | J8: T | K8: W | L8: T | M8: F | N8: S | O8: S | P8: M | Q8: T | R8: W | S8: T | T8: F | U8: S | V8: S | W8: M | X8: T | Y8: W | Z8: T | AA8: F | AB8: S | AC8: S | AD8: M | AE8: T | AF8: W | AG8: T | AH8: F | AI8: S | AJ8: S | AK8: M | AL8: T | AM8: W | AN8: T | AO8: F | AP8: S | AQ8: S | AR8: M | AS8: T | AT8: W | AU8: T | AV8: F | AW8: S
C9: =DATE($AN$5-1,ROWS($C$9:C17),1) -> 42248 | H9: {=calendar} -> 42610 | I9: 42611 | J9: 42612 | K9: 42613 | L9: 42614 | M9: 42615 | N9: 42616 | O9: 42617 | P9: 42618 | Q9: 42619 | R9: 42620 | S9: 42621 | T9: 42622 | U9: 42623 | V9: 42624 | W9: 42625 | X9: 42626 | Y9: 42627 | Z9: 42628 | AA9: 42629 | AB9: 42630 | AC9: 42631 | AD9: 42632 | AE9: 42633 | AF9: 42634 | AG9: 42635 | AH9: 42636 | AI9: 42637 | AJ9: 42638 | AK9: 42639 | AL9: 42640 | AM9: 42641 | AN9: 42642 | AO9: 42643 | AP9: 42644 | AQ9: 42645 | AR9: 42646 | AS9: 42647 | AT9: 42648 | AU9: 42649 | AV9: 42650 | AW9: 42651
C10: =DATE($AN$5-1,ROWS($C$9:C18),1) -> 42278 | H10: {=calendar} -> 42638 | I10: 42639 | J10: 42640 | K10: 42641 | L10: 42642 | M10: 42643 | N10: 42644 | O10: 42645 | P10: 42646 | Q10: 42647 | R10: 42648 | S10: 42649 | T10: 42650 | U10: 42651 | V10: 42652 | W10: 42653 | X10: 42654 | Y10: 42655 | Z10: 42656 | AA10: 42657 | AB10: 42658 | AC10: 42659 | AD10: 42660 | AE10: 42661 | AF10: 42662 | AG10: 42663 | AH10: 42664 | AI10: 42665 | AJ10: 42666 | AK10: 42667 | AL10: 42668 | AM10: 42669 | AN10: 42670 | AO10: 42671 | AP10: 42672 | AQ10: 42673 | AR10: 42674 | AS10: 42675 | AT10: 42676 | AU10: 42677 | AV10: 42678 | AW10: 42679
C11: =DATE($AN$5-1,ROWS($C$9:C19),1) -> 42309 | H11: {=calendar} -> 42673 | I11: 42674 | J11: 42675 | K11: 42676 | L11: 42677 | M11: 42678 | N11: 42679 | O11: 42680 | P11: 42681 | Q11: 42682 | R11: 42683 | S11: 42684 | T11: 42685 | U11: 42686 | V11: 42687 | W11: 42688 | X11: 42689 | Y11: 42690 | Z11: 42691 | AA11: 42692 | AB11: 42693 | AC11: 42694 | AD11: 42695 | AE11: 42696 | AF11: 42697 | AG11: 42698 | AH11: 42699 | AI11: 42700 | AJ11: 42701 | AK11: 42702 | AL11: 42703 | AM11: 42704 | AN11: 42705 | AO11: 42706 | AP11: 42707 | AQ11: 42708 | AR11: 42709 | AS11: 42710 | AT11: 42711 | AU11: 42712 | AV11: 42713 | AW11: 42714
C12: =DATE($AN$5-1,ROWS($C$9:C20),1) -> 42339 | H12: {=calendar} -> 42701 | I12: 42702 | J12: 42703 | K12: 42704 | L12: 42705 | M12: 42706 | N12: 42707 | O12: 42708 | P12: 42709 | Q12: 42710 | R12: 42711 | S12: 42712 | T12: 42713 | U12: 42714 | V12: 42715 | W12: 42716 | X12: 42717 | Y12: 42718 | Z12: 42719 | AA12: 42720 | AB12: 42721 | AC12: 42722 | AD12: 42723 | AE12: 42724 | AF12: 42725 | AG12: 42726 | AH12: 42727 | AI12: 42728 | AJ12: 42729 | AK12: 42730 | AL12: 42731 | AM12: 42732 | AN12: 42733 | AO12: 42734 | AP12: 42735 | AQ12: 42736 | AR12: 42737 | AS12: 42738 | AT12: 42739 | AU12: 42740 | AV12: 42741 | AW12: 42742
C13: =DATE($AN$5-1,ROWS($C$9:C21),1) -> 42370 | H13: {=calendar} -> 42365 | I13: 42366 | J13: 42367 | K13: 42368 | L13: 42369 | M13: 42370 | N13: 42371 | O13: 42372 | P13: 42373 | Q13: 42374 | R13: 42375 | S13: 42376 | T13: 42377 | U13: 42378 | V13: 42379 | W13: 42380 | X13: 42381 | Y13: 42382 | Z13: 42383 | AA13: 42384 | AB13: 42385 | AC13: 42386 | AD13: 42387 | AE13: 42388 | AF13: 42389 | AG13: 42390 | AH13: 42391 | AI13: 42392 | AJ13: 42393 | AK13: 42394 | AL13: 42395 | AM13: 42396 | AN13: 42397 | AO13: 42398 | AP13: 42399 | AQ13: 42400 | AR13: 42401 | AS13: 42402 | AT13: 42403 | AU13: 42404 | AV13: 42405 | AW13: 42406
C14: =DATE($AN$5-1,ROWS($C$9:C22),1) -> 42401 | H14: {=calendar} -> 42400 | I14: 42401 | J14: 42402 | K14: 42403 | L14: 42404 | M14: 42405 | N14: 42406 | O14: 42407 | P14: 42408 | Q14: 42409 | R14: 42410 | S14: 42411 | T14: 42412 | U14: 42413 | V14: 42414 | W14: 42415 | X14: 42416 | Y14: 42417 | Z14: 42418 | AA14: 42419 | AB14: 42420 | AC14: 42421 | AD14: 42422 | AE14: 42423 | AF14: 42424 | AG14: 42425 | AH14: 42426 | AI14: 42427 | AJ14: 42428 | AK14: 42429 | AL14: 42430 | AM14: 42431 | AN14: 42432 | AO14: 42433 | AP14: 42434 | AQ14: 42435 | AR14: 42436 | AS14: 42437 | AT14: 42438 | AU14: 42439 | AV14: 42440 | AW14: 42441
C15: =DATE($AN$5-1,ROWS($C$9:C23),1) -> 42430 | H15: {=calendar} -> 42428 | I15: 42429 | J15: 42430 | K15: 42431 | L15: 42432 | M15: 42433 | N15: 42434 | O15: 42435 | P15: 42436 | Q15: 42437 | R15: 42438 | S15: 42439 | T15: 42440 | U15: 42441 | V15: 42442 | W15: 42443 | X15: 42444 | Y15: 42445 | Z15: 42446 | AA15: 42447 | AB15: 42448 | AC15: 42449 | AD15: 42450 | AE15: 42451 | AF15: 42452 | AG15: 42453 | AH15: 42454 | AI15: 42455 | AJ15: 42456 | AK15: 42457 | AL15: 42458 | AM15: 42459 | AN15: 42460 | AO15: 42461 | AP15: 42462 | AQ15: 42463 | AR15: 42464 | AS15: 42465 | AT15: 42466 | AU15: 42467 | AV15: 42468 | AW15: 42469
C16: =DATE($AN$5-1,ROWS($C$9:C24),1) -> 42461 | H16: {=calendar} -> 42456 | I16: 42457 | J16: 42458 | K16: 42459 | L16: 42460 | M16: 42461 | N16: 42462 | O16: 42463 | P16: 42464 | Q16: 42465 | R16: 42466 | S16: 42467 | T16: 42468 | U16: 42469 | V16: 42470 | W16: 42471 | X16: 42472 | Y16: 42473 | Z16: 42474 | AA16: 42475 | AB16: 42476 | AC16: 42477 | AD16: 42478 | AE16: 42479 | AF16: 42480 | AG16: 42481 | AH16: 42482 | AI16: 42483 | AJ16: 42484 | AK16: 42485 | AL16: 42486 | AM16: 42487 | AN16: 42488 | AO16: 42489 | AP16: 42490 | AQ16: 42491 | AR16: 42492 | AS16: 42493 | AT16: 42494 | AU16: 42495 | AV16: 42496 | AW16: 42497
C17: =DATE($AN$5-1,ROWS($C$9:C25),1) -> 42491 | H17: {=calendar} -> 42484 | I17: 42485 | J17: 42486 | K17: 42487 | L17: 42488 | M17: 42489 | N17: 42490 | O17: 42491 | P17: 42492 | Q17: 42493 | R17: 42494 | S17: 42495 | T17: 42496 | U17: 42497 | V17: 42498 | W17: 42499 | X17: 42500 | Y17: 42501 | Z17: 42502 | AA17: 42503 | AB17: 42504 | AC17: 42505 | AD17: 42506 | AE17: 42507 | AF17: 42508 | AG17: 42509 | AH17: 42510 | AI17: 42511 | AJ17: 42512 | AK17: 42513 | AL17: 42514 | AM17: 42515 | AN17: 42516 | AO17: 42517 | AP17: 42518 | AQ17: 42519 | AR17: 42520 | AS17: 42521 | AT17: 42522 | AU17: 42523 | AV17: 42524 | AW17: 42525
C18: =DATE($AN$5-1,ROWS($C$9:C26),1) -> 42522 | H18: {=calendar} -> 42519 | I18: 42520 | J18: 42521 | K18: 42522 | L18: 42523 | M18: 42524 | N18: 42525 | O18: 42526 | P18: 42527 | Q18: 42528 | R18: 42529 | S18: 42530 | T18: 42531 | U18: 42532 | V18: 42533 | W18: 42534 | X18: 42535 | Y18: 42536 | Z18: 42537 | AA18: 42538 | AB18: 42539 | AC18: 42540 | AD18: 42541 | AE18: 42542 | AF18: 42543 | AG18: 42544 | AH18: 42545 | AI18: 42546 | AJ18: 42547 | AK18: 42548 | AL18: 42549 | AM18: 42550 | AN18: 42551 | AO18: 42552 | AP18: 42553 | AQ18: 42554 | AR18: 42555 | AS18: 42556 | AT18: 42557 | AU18: 42558 | AV18: 42559 | AW18: 42560
C19: =DATE($AN$5-1,ROWS($C$9:C27),1) -> 42552 | H19: {=calendar} -> 42547 | I19: 42548 | J19: 42549 | K19: 42550 | L19: 42551 | M19: 42552 | N19: 42553 | O19: 42554 | P19: 42555 | Q19: 42556 | R19: 42557 | S19: 42558 | T19: 42559 | U19: 42560 | V19: 42561 | W19: 42562 | X19: 42563 | Y19: 42564 | Z19: 42565 | AA19: 42566 | AB19: 42567 | AC19: 42568 | AD19: 42569 | AE19: 42570 | AF19: 42571 | AG19: 42572 | AH19: 42573 | AI19: 42574 | AJ19: 42575 | AK19: 42576 | AL19: 42577 | AM19: 42578 | AN19: 42579 | AO19: 42580 | AP19: 42581 | AQ19: 42582 | AR19: 42583 | AS19: 42584 | AT19: 42585 | AU19: 42586 | AV19: 42587 | AW19: 42588
C20: =DATE($AN$5-1,ROWS($C$9:C28),1) -> 42583 | H20: {=calendar} -> 42582 | I20: 42583 | J20: 42584 | K20: 42585 | L20: 42586 | M20: 42587 | N20: 42588 | O20: 42589 | P20: 42590 | Q20: 42591 | R20: 42592 | S20: 42593 | T20: 42594 | U20: 42595 | V20: 42596 | W20: 42597 | X20: 42598 | Y20: 42599 | Z20: 42600 | AA20: 42601 | AB20: 42602 | AC20: 42603 | AD20: 42604 | AE20: 42605 | AF20: 42606 | AG20: 42607 | AH20: 42608 | AI20: 42609 | AJ20: 42610 | AK20: 42611 | AL20: 42612 | AM20: 42613 | AN20: 42614 | AO20: 42615 | AP20: 42616 | AQ20: 42617 | AR20: 42618 | AS20: 42619 | AT20: 42620 | AU20: 42621 | AV20: 42622 | AW20: 42623
C21: =DATE($AN$5-1,ROWS($C$9:C29),1) -> 42614 | H21: {=calendar} -> 42610 | I21: 42611 | J21: 42612 | K21: 42613 | L21: 42614 | M21: 42615 | N21: 42616 | O21: 42617 | P21: 42618 | Q21: 42619 | R21: 42620 | S21: 42621 | T21: 42622 | U21: 42623 | V21: 42624 | W21: 42625 | X21: 42626 | Y21: 42627 | Z21: 42628 | AA21: 42629 | AB21: 42630 | AC21: 42631 | AD21: 42632 | AE21: 42633 | AF21: 42634 | AG21: 42635 | AH21: 42636 | AI21: 42637 | AJ21: 42638 | AK21: 42639 | AL21: 42640 | AM21: 42641 | AN21: 42642 | AO21: 42643 | AP21: 42644 | AQ21: 42645 | AR21: 42646 | AS21: 42647 | AT21: 42648 | AU21: 42649 | AV21: 42650 | AW21: 42651
C23: KEY STATISTICS
D25: Days on Leave | L25: Working Days | T25: # of Days Sick | AA25: on Vacation | AI25: on Bereavement | AR25: on Other
D27: =SUMIFS(tblLeave[Days],tblLeave[Employee Name],valSelEmployee,tblLeave[Start Date],">="&DATE($AN$5,1,1),tblLeave[End Date],"<"&DATE($AN$5+1,1,1)) -> 0 | L27: =NETWORKDAYS(DATE($AN$5,1,1),EDATE(DATE($AN$5,1,1),12)-1) -> 261 | T27: =SUMIFS(tblLeave[Days],tblLeave[Employee Name],valSelEmployee,tblLeave[Start Date],">="&DATE($AN$5,1,1),tblLeave[End Date],"<"&DATE($AN$5+1,1,1),tblLeave[Type of Leave],Settings!$D$4) -> 0 | AB27: =SUMIFS(tblLeave[Days],tblLeave[Employee Name],valSelEmployee,tblLeave[Start Date],">="&DATE($AN$5,1,1),tblLeave[End Date],"<"&DATE($AN$5+1,1,1),tblLeave[Type of Leave],Settings!$D$5) -> 0 | AJ27: =SUMIFS(tblLeave[Days],tblLeave[Employee Name],valSelEmployee,tblLeave[Start Date],">="&DATE($AN$5,1,1),tblLeave[End Date],"<"&DATE($AN$5+1,1,1),tblLeave[Type of Leave],Settings!$D$6) -> 0 | AR27: =SUMIFS(tblLeave[Days],tblLeave[Employee Name],valSelEmployee,tblLeave[Start Date],">="&DATE($AN$5,1,1),tblLeave[End Date],"<"&DATE($AN$5+1,1,1),tblLeave[Type of Leave],Settings!$D$7) -> 0
D31: =SUMIFS(tblLeave[Days],tblLeave[Employee Name],valSelEmployee,tblLeave[Start Date],">="&DATE($AN$5-1,1,1),tblLeave[End Date],"<"&DATE($AN$5,1,1)) -> 0 | L31: =NETWORKDAYS(DATE($AN$5-1,1,1),EDATE(DATE($AN$5-1,1,1),12)-1) -> 261 | T31: =SUMIFS(tblLeave[Days],tblLeave[Employee Name],valSelEmployee,tblLeave[Start Date],">="&DATE($AN$5-1,1,1),tblLeave[End Date],"<"&DATE($AN$5,1,1),tblLeave[Type of Leave],Settings!$D$4) -> 0 | AB31: =SUMIFS(tblLeave[Days],tblLeave[Employee Name],valSelEmployee,tblLeave[Start Date],">="&DATE($AN$5-1,1,1),tblLeave[End Date],"<"&DATE($AN$5,1,1),tblLeave[Type of Leave],Settings!$D$5) -> 0 | AJ31: =SUMIFS(tblLeave[Days],tblLeave[Employee Name],valSelEmployee,tblLeave[Start Date],">="&DATE($AN$5-1,1,1),tblLeave[End Date],"<"&DATE($AN$5,1,1),tblLeave[Type of Leave],Settings!$D$6) -> 0 | AR31: =SUMIFS(tblLeave[Days],tblLeave[Employee Name],valSelEmployee,tblLeave[Start Date],">="&DATE($AN$5-1,1,1),tblLeave[End Date],"<"&DATE($AN$5,1,1),tblLeave[Type of Leave],Settings!$D$7) -> 0
D32: =IFERROR(IF(D27>D31,"UP ", "DOWN ")&TEXT(D27/D31-1,"0%;0%"),"") | L32: =IFERROR(IF(L27>L31,"UP ", "DOWN ")&TEXT(L27/L31-1,"0%;0%"),"") -> DOWN 0% | T32: =IFERROR(IF(T27>T31,"UP ", "DOWN ")&TEXT(T27/T31-1,"0%;0%"),"") | AB32: =IFERROR(IF(AB27>AB31,"UP ", "DOWN ")&TEXT(AB27/AB31-1,"0%;0%"),"") | AJ32: =IFERROR(IF(AJ27>AJ31,"UP ", "DOWN ")&TEXT(AJ27/AJ31-1,"0%;0%"),"") | AR32: =IFERROR(IF(AR27>AR31,"UP ", "DOWN ")&TEXT(AR27/AR31-1,"0%;0%"),"")

Sheet Employee Leave Tracker
B3: Employee Name | C3: Start Date | D3: End Date | E3: Type of Leave | F3: Days
B4: Employee 1 | C4: 40911 | D4: 40911 | E4: Sick Leave | F4: =NETWORKDAYS(tblLeave[[#This Row],[Start Date]],tblLeave[[#This Row],[End Date]],lstHolidays) -> 1
B5: Employee 2 | C5: 40925 | D5: 40926 | E5: Other | F5: =NETWORKDAYS(tblLeave[[#This Row],[Start Date]],tblLeave[[#This Row],[End Date]],lstHolidays) -> 2
B6: Employee 3 | C6: 40926 | D6: 40929 | E6: Other | F6: =NETWORKDAYS(tblLeave[[#This Row],[Start Date]],tblLeave[[#This Row],[End Date]],lstHolidays) -> 3
B7: Employee 5 | C7: 40887 | D7: 40893 | E7: Bereavement | F7: =NETWORKDAYS(tblLeave[[#This Row],[Start Date]],tblLeave[[#This Row],[End Date]],lstHolidays) -> 5
B8: Employee 4 | C8: 40878 | D8: 40879 | E8: Sick Leave | F8: =NETWORKDAYS(tblLeave[[#This Row],[Start Date]],tblLeave[[#This Row],[End Date]],lstHolidays) -> 2
B9: Employee 1 | C9: 40861 | D9: 40865 | E9: Vacation | F9: =NETWORKDAYS(tblLeave[[#This Row],[Start Date]],tblLeave[[#This Row],[End Date]],lstHolidays) -> 5
B10: Employee 4 | C10: 40939 | D10: 40943 | E10: Sick Leave | F10: =NETWORKDAYS(tblLeave[[#This Row],[Start Date]],tblLeave[[#This Row],[End Date]],lstHolidays) -> 4
B11: Employee 4 | C11: 40878 | D11: 40883 | E11: Other | F11: =NETWORKDAYS(tblLeave[[#This Row],[Start Date]],tblLeave[[#This Row],[End Date]],lstHolidays) -> 4
B12: Employee 4 | C12: 40887 | D12: 40893 | E12: Other | F12: =NETWORKDAYS(tblLeave[[#This Row],[Start Date]],tblLeave[[#This Row],[End Date]],lstHolidays) -> 5
B13: Employee 2 | C13: 40921 | D13: 40923 | E13: Sick Leave | F13: =NETWORKDAYS(tblLeave[[#This Row],[Start Date]],tblLeave[[#This Row],[End Date]],lstHolidays) -> 1
B14: Employee 5 | C14: 40923 | D14: 40928 | E14: Sick Leave | F14: =NETWORKDAYS(tblLeave[[#This Row],[Start Date]],tblLeave[[#This Row],[End Date]],lstHolidays) -> 5
B15: Employee 2 | C15: 41073 | D15: 41075 | E15: Bereavement | F15: =NETWORKDAYS(tblLeave[[#This Row],[Start Date]],tblLeave[[#This Row],[End Date]],lstHolidays) -> 3
... B26: Employee 5 | C26: 41010 | D26: 41018 | E26: Vacation | F26: =NETWORKDAYS(tblLeave[[#This Row],[Start Date]],tblLeave[[#This Row],[End Date]],lstHolidays) -> 7

Sheet Settings
B3: List of Employees | D3: Type of Leave | F3: Company Holidays | G3: Description
B4: Employee 1 | D4: Sick Leave | F4: 40909 | G4: New Year's Day
B5: Employee 2 | D5: Vacation | F5: 41094 | G5: Independence Day
B6: Employee 3 | D6: Bereavement | F6: 41237 | G6: Thanksgiving
B7: Employee 4 | D7: Other | F7: 41238 | G7: Thanksgiving
B8: Employee 5 | F8: 41267 | G8: Christmas
F9: 41269 | G9: Christmas
F10: 41274 | G10: New Year's Eve
