Workbook
Name Foods: Suppliers!$B$3:$B$5

Sheet Suppliers
B2: Food | C2: Supplier | D2: Cost
B3: Chocolate powder | C3: Choco Shop | D3: 2.5
B4: Ice Cream | C4: Freds Shop | D4: 1.23
B5: Lemon Curd | C5: Freds Shop | D5: 0.57

Sheet Chocolate Ice Cream Recipe
B3: Recipe | E3: Students: | F3: 30
B4: Ingredient | C4: Supplier | D4: Price | E4: Portion | F4: Total Required
B5: Chocolate powder | C5: =IF(B5<>"",VLOOKUP(B5,Suppliers!B2:D5,2),"") -> Choco Shop | D5: =IF(B5<>"",VLOOKUP(B5,Suppliers!B3:D5,3),"") -> 2.5 | E5: 10 | F5: =E5*F$3 -> 300
B6: Ice Cream | C6: =IF(B6<>"",VLOOKUP(B6,Suppliers!B3:D6,2),"") -> Freds Shop | D6: =IF(B6<>"",VLOOKUP(B6,Suppliers!B4:D6,3),"") -> 1.23 | E6: 2 | F6: =E6*F$3 -> 60
C7: =IF(B7<>"",VLOOKUP(B7,Suppliers!B4:D7,2),"") | D7: =IF(B7<>"",VLOOKUP(B7,Suppliers!B5:D7,3),"")
C8: =IF(B8<>"",VLOOKUP(B8,Suppliers!B5:D8,2),"") | D8: =IF(B8<>"",VLOOKUP(B8,Suppliers!B6:D8,3),"")
C9: =IF(B9<>"",VLOOKUP(B9,Suppliers!B6:D9,2),"") | D9: =IF(B9<>"",VLOOKUP(B9,Suppliers!B7:D9,3),"")
C10: =IF(B10<>"",VLOOKUP(B10,Suppliers!B7:D10,2),"") | D10: =IF(B10<>"",VLOOKUP(B10,Suppliers!B8:D10,3),"")
C11: =IF(B11<>"",VLOOKUP(B11,Suppliers!B8:D11,2),"") | D11: =IF(B11<>"",VLOOKUP(B11,Suppliers!B9:D11,3),"")
C12: =IF(B12<>"",VLOOKUP(B12,Suppliers!B9:D12,2),"") | D12: =IF(B12<>"",VLOOKUP(B12,Suppliers!B10:D12,3),"")
C13: =IF(B13<>"",VLOOKUP(B13,Suppliers!B10:D13,2),"") | D13: =IF(B13<>"",VLOOKUP(B13,Suppliers!B11:D13,3),"")
C14: =IF(B14<>"",VLOOKUP(B14,Suppliers!B11:D14,2),"") | D14: =IF(B14<>"",VLOOKUP(B14,Suppliers!B12:D14,3),"")
C15: =IF(B15<>"",VLOOKUP(B15,Suppliers!B12:D15,2),"") | D15: =IF(B15<>"",VLOOKUP(B15,Suppliers!B13:D15,3),"")
C16: =IF(B16<>"",VLOOKUP(B16,Suppliers!B13:D16,2),"") | D16: =IF(B16<>"",VLOOKUP(B16,Suppliers!B14:D16,3),"")
C17: =IF(B17<>"",VLOOKUP(B17,Suppliers!B14:D17,2),"") | D17: =IF(B17<>"",VLOOKUP(B17,Suppliers!B15:D17,3),"")
C18: =IF(B18<>"",VLOOKUP(B18,Suppliers!B15:D18,2),"") | D18: =IF(B18<>"",VLOOKUP(B18,Suppliers!B16:D18,3),"")
... C27: =IF(B27<>"",VLOOKUP(B27,Suppliers!B24:D27,2),"") | D27: =IF(B27<>"",VLOOKUP(B27,Suppliers!B25:D27,3),"")

Sheet Sheet3
