Workbook

Sheet Employees
A1: Title | B1: Surname | C1: First Name | D1: Middle Name | E1: Gender | F1: DOB | G1: Address | H1: Town | I1: County | J1: Post Code | K1: Tax Code | L1: Start Date | M1: Pension | N1: Dept | O1: Grade | P1: Years worked | Q1: Promotion | R1: Basic Salary | S1: Employee Number | T1: Tax Code
A2: Ms | B2: Kent | C2: Victoria | E2: F | F2: 23070 | G2: 50 Blackwood Road | H2: Stockton | I2: Teesside | J2: TS8 6QQ | K2: 810L | L2: 41131 | M2: Y | N2: sales | O2: =IF(AND(P2>=0,P2<2),"G1",IF(AND(P2>=2,P2<6),"G2",I F(AND(P2>6,P2<10),"G3",IF(AND(P2>10),"G4","grade unknown")))) -> G2 | P2: =DATEDIF(L2,NOW(),"y") -> 3 | R2: =IF(AND(O2="G2"),$C$21,IF(AND(O2="G3"),$C$22,IF(AND(O2="G4"),$C$23))) -> 16647 | S2: =CONCATENATE(LEFT(B2,3),LEFT(C2,2),LEFT(N2)) -> KenVis
A3: Mr | B3: Muir | C3: Roy | D3: Henry | E3: M | F3: 22543 | G3: 9 Armstrong Farm Way | H3: Middlesbrough | I3: Teesside | J3: TS4 1WP | K3: 810L | L3: 39621 | M3: Y | N3: sales | O3: =IF(AND(P3>=0,P3<2),"G1",IF(AND(P3>=2,P3<6),"G2",IF(AND(P3>6,P3<10),"G3",IF(AND(P3>10),"G4","grade unknown")))) -> G3 | P3: =DATEDIF(L3,NOW(),"y") -> 7 | R3: =IF(AND(O3="G2"),$C$21,IF(AND(O3="G3"),$C$22,IF(AND(O3="G4"),$C$23))) -> 20145 | S3: =CONCATENATE(LEFT(B3,3),LEFT(C3,2),LEFT(N3)) -> MuiRos
A4: Mr | B4: Laverick | C4: Quina | E4: M | F4: 29046 | G4: 40 Burbank Lane | H4: Middlesbrough | I4: Teesside | J4: TS11 4SN | K4: 810L | L4: 40156 | M4: N | N4: Admin | O4: =IF(AND(P4>=0,P4<2),"G1",IF(AND(P4>=2,P4<6),"G2",IF(AND(P4>6,P4<10),"G3",IF(AND(P4>10),"G4","grade unknown")))) -> G2 | P4: =DATEDIF(L4,NOW(),"y") -> 5 | R4: =IF(AND(O4="G2"),$C$21,IF(AND(O4="G3"),$C$22,IF(AND(O4="G4"),$C$23))) -> 16647 | S4: =CONCATENATE(LEFT(B4,3),LEFT(C4,2),LEFT(N4)) -> LavQuA
A5: Miss | B5: Greenwell | C5: Nicole | D5: Helen | E5: F | F5: 30219 | G5: 40 Ridgeway Road | H5: Middlesbrough | I5: Teesside | J5: TS15 2FR | K5: 810L | L5: 40605 | M5: Y | N5: sales | O5: =IF(AND(P5>=0,P5<2),"G1",IF(AND(P5>=2,P5<6),"G2",IF(AND(P5>6,P5<10),"G3",IF(AND(P5>10),"G4","grade unknown")))) -> G2 | P5: =DATEDIF(L5,NOW(),"y") -> 4 | R5: =IF(AND(O5="G2"),$C$21,IF(AND(O5="G3"),$C$22,IF(AND(O5="G4"),$C$23))) -> 16647 | S5: =CONCATENATE(LEFT(B5,3),LEFT(C5,2),LEFT(N5)) -> GreNis
A6: Mr | B6: Bland | C6: Mancha | E6: M | F6: 20195 | G6: 59 Blake Court | H6: Middlesbrough | I6: Teesside | J6: TS15 2OV | K6: 810L | L6: 32937 | M6: N | N6: Admin | O6: =IF(AND(P6>=0,P6<2),"G1",IF(AND(P6>=2,P6<6),"G2",IF(AND(P6>6,P6<10),"G3",IF(AND(P6>10),"G4","grade unknown")))) -> G4 | P6: =DATEDIF(L6,NOW(),"y") -> 25 | R6: =IF(AND(O6="G2"),$C$21,IF(AND(O6="G3"),$C$22,IF(AND(O6="G4"),$C$23))) -> 25687 | S6: =CONCATENATE(LEFT(B6,3),LEFT(C6,2),LEFT(N6)) -> BlaMaA
A7: Ms | B7: Atkinson | C7: Natalia | E7: F | F7: 29043 | G7: 27 Moore Road | H7: Yarm | I7: Teesside | J7: TS8 6MY | K7: 810L | L7: 41074 | M7: N | N7: Admin | O7: =IF(AND(P7>=0,P7<2),"G1",IF(AND(P7>=2,P7<6),"G2",IF(AND(P7>6,P7<10),"G3",IF(AND(P7>10),"G4","grade unknown")))) -> G2 | P7: =DATEDIF(L7,NOW(),"y") -> 3 | R7: =IF(AND(O7="G2"),$C$21,IF(AND(O7="G3"),$C$22,IF(AND(O7="G4"),$C$23))) -> 16647 | S7: =CONCATENATE(LEFT(B7,3),LEFT(C7,2),LEFT(N7)) -> AtkNaA
A8: Mr | B8: Brunskill | C8: Berek | E8: M | F8: 22961 | G8: 37 Hog Hill Road | H8: Barnard Castle | I8: Durham | J8: DR14 1YH | K8: 810L | L8: 40219 | M8: N | N8: Admin | O8: =IF(AND(P8>=0,P8<2),"G1",IF(AND(P8>=2,P8<6),"G2",IF(AND(P8>6,P8<10),"G3",IF(AND(P8>10),"G4","grade unknown")))) -> G2 | P8: =DATEDIF(L8,NOW(),"y") -> 5 | R8: =IF(AND(O8="G2"),$C$21,IF(AND(O8="G3"),$C$22,IF(AND(O8="G4"),$C$23))) -> 16647 | S8: =CONCATENATE(LEFT(B8,3),LEFT(C8,2),LEFT(N8)) -> BruBeA
A9: Mrs | B9: Kell | C9: Cornflower | E9: F | F9: 27308 | G9: 46 Deerfield Drive | H9: Barnard Castle | I9: Durham | J9: DR5 6QN | K9: 810L | L9: 40878 | M9: Y | N9: sales | O9: =IF(AND(P9>=0,P9<2),"G1",IF(AND(P9>=2,P9<6),"G2",IF(AND(P9>6,P9<10),"G3",IF(AND(P9>10),"G4","grade unknown")))) -> G2 | P9: =DATEDIF(L9,NOW(),"y") -> 3 | R9: =IF(AND(O9="G2"),$C$21,IF(AND(O9="G3"),$C$22,IF(AND(O9="G4"),$C$23))) -> 16647 | S9: =CONCATENATE(LEFT(B9,3),LEFT(C9,2),LEFT(N9)) -> KelCos
A10: Mrs | B10: Poom | C10: Martha | D10: Jacqueline | E10: F | F10: 30989 | G10: 8 Harbor Watch Drive | H10: Berwick Hill | I10: Teesside | J10: TS4 5JV | K10: 810L | L10: 40189 | M10: N | N10: sales | O10: =IF(AND(P10>=0,P10<2),"G1",IF(AND(P10>=2,P10<6),"G2",IF(AND(P10>6,P10<10),"G3",IF(AND(P10>10),"G4","grade unknown")))) -> G2 | P10: =DATEDIF(L10,NOW(),"y") -> 5 | R10: =IF(AND(O10="G2"),$C$21,IF(AND(O10="G3"),$C$22,IF(AND(O10="G4"),$C$23))) -> 16647 | S10: =CONCATENATE(LEFT(B10,3),LEFT(C10,2),LEFT(N10)) -> PooMas
A11: Mr | B11: Murray | C11: Diederich | E11: M | F11: 25560 | G11: 33 Robin Road | H11: Marske | I11: Redcar & Cleveland | J11: RC9 6FB | K11: 810L | L11: 39484 | M11: N | N11: sales | O11: =IF(AND(P11>=0,P11<2),"G1",IF(AND(P11>=2,P11<6),"G2",IF(AND(P11>6,P11<10),"G3",IF(AND(P11>10),"G4","grade unknown")))) -> G3 | P11: =DATEDIF(L11,NOW(),"y") -> 7 | R11: =IF(AND(O11="G2"),$C$21,IF(AND(O11="G3"),$C$22,IF(AND(O11="G4"),$C$23))) -> 20145 | S11: =CONCATENATE(LEFT(B11,3),LEFT(C11,2),LEFT(N11)) -> MurDis
A12: Miss | B12: Ramsey | C12: Georgia | E12: F | F12: 24610 | G12: 23 Basswood Lane | H12: Yarm | I12: Teesside | J12: TS4 7UI | K12: 810L | L12: 40591 | M12: N | N12: sales | O12: =IF(AND(P12>=0,P12<2),"G1",IF(AND(P12>=2,P12<6),"G2",IF(AND(P12>6,P12<10),"G3",IF(AND(P12>10),"G4","grade unknown")))) -> G2 | P12: =DATEDIF(L12,NOW(),"y") -> 4 | R12: =IF(AND(O12="G2"),$C$21,IF(AND(O12="G3"),$C$22,IF(AND(O12="G4"),$C$23))) -> 16647 | S12: =CONCATENATE(LEFT(B12,3),LEFT(C12,2),LEFT(N12)) -> RamGes
A13: Mr | B13: English | C13: Bavol | E13: M | F13: 31481 | G13: 12 Deerfield Drive | H13: Hartlepool | I13: Teesside | J13: TS7 1PN | K13: 810L | L13: 39029 | M13: N | N13: Admin | O13: =IF(AND(P13>=0,P13<2),"G1",IF(AND(P13>=2,P13<6),"G2",IF(AND(P13>6,P13<10),"G3",IF(AND(P13>10),"G4","grade unknown")))) -> G3 | P13: =DATEDIF(L13,NOW(),"y") -> 9 | R13: =IF(AND(O13="G2"),$C$21,IF(AND(O13="G3"),$C$22,IF(AND(O13="G4"),$C$23))) -> 20145 | S13: =CONCATENATE(LEFT(B13,3),LEFT(C13,2),LEFT(N13)) -> EngBaA
A14: Mr | B14: Collins | C14: Abraham | E14: M | F14: 20789 | G14: 23 Benfield Street | H14: Billingham | I14: Teesside | J14: TS6 2CJ | K14: 810L | L14: 35282 | M14: Y | N14: Admin | O14: =IF(AND(P14>=0,P14<2),"G1",IF(AND(P14>=2,P14<6),"G2",IF(AND(P14>6,P14<10),"G3",IF(AND(P14>10),"G4","grade unknown")))) -> G4 | P14: =DATEDIF(L14,NOW(),"y") -> 19 | R14: =IF(AND(O14="G2"),$C$21,IF(AND(O14="G3"),$C$22,IF(AND(O14="G4"),$C$23))) -> 25687 | S14: =CONCATENATE(LEFT(B14,3),LEFT(C14,2),LEFT(N14)) -> ColAbA
A15: Ms | B15: Galloway | C15: Hilary | E15: F | F15: 29339 | G15: 1 Old Barn Road | H15: Maske | I15: Redcar & Cleveland | J15: RC2 7CR | K15: 810L | L15: 40180 | M15: N | N15: sales | O15: =IF(AND(P15>=0,P15<2),"G1",IF(AND(P15>=2,P15<6),"G2",IF(AND(P15>6,P15<10),"G3",IF(AND(P15>10),"G4","grade unknown")))) -> G2 | P15: =DATEDIF(L15,NOW(),"y") -> 5 | R15: =IF(AND(O15="G2"),$C$21,IF(AND(O15="G3"),$C$22,IF(AND(O15="G4"),$C$23))) -> 16647 | S15: =CONCATENATE(LEFT(B15,3),LEFT(C15,2),LEFT(N15)) -> GalHis
A16: Mr | B16: Rees | C16: Webbe | D16: Orville | E16: M | F16: 33071 | G16: 15 Jennings Street | H16: Acklam | I16: Teesside | J16: TS13 9WC | K16: 810L | L16: 40735 | M16: Y | N16: Admin | O16: =IF(AND(P16>=0,P16<2),"G1",IF(AND(P16>=2,P16<6),"G2",IF(AND(P16>6,P16<10),"G3",IF(AND(P16>10),"G4","grade unknown")))) -> G2 | P16: =DATEDIF(L16,NOW(),"y") -> 4 | R16: =IF(AND(O16="G2"),$C$21,IF(AND(O16="G3"),$C$22,IF(AND(O16="G4"),$C$23))) -> 16647 | S16: =CONCATENATE(LEFT(B16,3),LEFT(C16,2),LEFT(N16)) -> ReeWeA
B19: Basic Salary | C19: 16000
B20: G1 | C20: 12582
B21: G2 | C21: 16647
B22: G3 | C22: 20145
B23: G4 | C23: 25687

Sheet sales
A1: Title | B1: Surname | C1: First Name | D1: January | E1: February | F1: March | G1: April | H1: May | I1: June | J1: July | K1: August | L1: September | M1: October | N1: November | O1: December
A2: =Employees!A2 -> Ms | B2: =Employees!B2 -> Kent | C2: =Employees!C2 -> Victoria | D2: =RANDBETWEEN(1500,5000) -> 4384 | E2: =RANDBETWEEN(1500,5000) -> 3012 | F2: =RANDBETWEEN(1500,5000) -> 3753 | G2: =RANDBETWEEN(1500,5000) -> 2099 | H2: =RANDBETWEEN(1500,5000) -> 2827 | I2: =RANDBETWEEN(1500,5000) -> 3237 | J2: =RANDBETWEEN(1500,5000) -> 3738 | K2: =RANDBETWEEN(1500,5000) -> 4868 | ... O2: =RANDBETWEEN(1500,5000) -> 4079
A3: =Employees!A3 -> Mr | B3: =Employees!B3 -> Muir | C3: =Employees!C3 -> Roy | D3: =RANDBETWEEN(1500,5000) -> 3877 | E3: =RANDBETWEEN(1500,5000) -> 3545 | F3: =RANDBETWEEN(1500,5000) -> 1961 | G3: =RANDBETWEEN(1500,5000) -> 4607 | H3: =RANDBETWEEN(1500,5000) -> 2965 | I3: =RANDBETWEEN(1500,5000) -> 1666 | J3: =RANDBETWEEN(1500,5000) -> 3546 | K3: =RANDBETWEEN(1500,5000) -> 3832 | ... O3: =RANDBETWEEN(1500,5000) -> 1742
A4: =Employees!A5 -> Miss | B4: =Employees!B5 -> Greenwell | C4: =Employees!C5 -> Nicole | D4: =RANDBETWEEN(1500,5000) -> 2634 | E4: =RANDBETWEEN(1500,5000) -> 4379 | F4: =RANDBETWEEN(1500,5000) -> 2307 | G4: =RANDBETWEEN(1500,5000) -> 4942 | H4: =RANDBETWEEN(1500,5000) -> 1757 | I4: =RANDBETWEEN(1500,5000) -> 2287 | J4: =RANDBETWEEN(1500,5000) -> 2992 | K4: =RANDBETWEEN(1500,5000) -> 4142 | ... O4: =RANDBETWEEN(1500,5000) -> 3513
A5: =Employees!A9 -> Mrs | B5: =Employees!B9 -> Kell | C5: =Employees!C9 -> Cornflower | D5: =RANDBETWEEN(1500,5000) -> 4476 | E5: =RANDBETWEEN(1500,5000) -> 4957 | F5: =RANDBETWEEN(1500,5000) -> 2289 | G5: =RANDBETWEEN(1500,5000) -> 1575 | H5: =RANDBETWEEN(1500,5000) -> 4239 | I5: =RANDBETWEEN(1500,5000) -> 1551 | J5: =RANDBETWEEN(1500,5000) -> 4256 | K5: =RANDBETWEEN(1500,5000) -> 3731 | ... O5: =RANDBETWEEN(1500,5000) -> 4773
A6: =Employees!A10 -> Mrs | B6: =Employees!B10 -> Poom | C6: =Employees!C10 -> Martha | D6: =RANDBETWEEN(1500,5000) -> 2666 | E6: =RANDBETWEEN(1500,5000) -> 3759 | F6: =RANDBETWEEN(1500,5000) -> 2828 | G6: =RANDBETWEEN(1500,5000) -> 3033 | H6: =RANDBETWEEN(1500,5000) -> 4703 | I6: =RANDBETWEEN(1500,5000) -> 4052 | J6: =RANDBETWEEN(1500,5000) -> 3394 | K6: =RANDBETWEEN(1500,5000) -> 4734 | ... O6: =RANDBETWEEN(1500,5000) -> 3824
A7: =Employees!A11 -> Mr | B7: =Employees!B11 -> Murray | C7: =Employees!C11 -> Diederich | D7: =RANDBETWEEN(1500,5000) -> 3037 | E7: =RANDBETWEEN(1500,5000) -> 4428 | F7: =RANDBETWEEN(1500,5000) -> 3102 | G7: =RANDBETWEEN(1500,5000) -> 3444 | H7: =RANDBETWEEN(1500,5000) -> 3557 | I7: =RANDBETWEEN(1500,5000) -> 4799 | J7: =RANDBETWEEN(1500,5000) -> 2113 | K7: =RANDBETWEEN(1500,5000) -> 2563 | ... O7: =RANDBETWEEN(1500,5000) -> 2500
A8: =Employees!A12 -> Miss | B8: =Employees!B12 -> Ramsey | C8: =Employees!C12 -> Georgia | D8: =RANDBETWEEN(1500,5000) -> 4498 | E8: =RANDBETWEEN(1500,5000) -> 3172 | F8: =RANDBETWEEN(1500,5000) -> 3989 | G8: =RANDBETWEEN(1500,5000) -> 2402 | H8: =RANDBETWEEN(1500,5000) -> 4249 | I8: =RANDBETWEEN(1500,5000) -> 2962 | J8: =RANDBETWEEN(1500,5000) -> 4314 | K8: =RANDBETWEEN(1500,5000) -> 2468 | ... O8: =RANDBETWEEN(1500,5000) -> 3813
A9: =Employees!A15 -> Ms | B9: =Employees!B15 -> Galloway | C9: =Employees!C15 -> Hilary | D9: =RANDBETWEEN(1500,5000) -> 2618 | E9: =RANDBETWEEN(1500,5000) -> 3547 | F9: =RANDBETWEEN(1500,5000) -> 2572 | G9: =RANDBETWEEN(1500,5000) -> 4690 | H9: =RANDBETWEEN(1500,5000) -> 4632 | I9: =RANDBETWEEN(1500,5000) -> 3396 | J9: =RANDBETWEEN(1500,5000) -> 3967 | K9: =RANDBETWEEN(1500,5000) -> 1564 | ... O9: =RANDBETWEEN(1500,5000) -> 2022

Sheet Sheet4

Sheet Sheet5

Sheet Sheet6

Sheet Sheet7
