Workbook
Name MonthlyAverage: Dashboard!$K$16
Name WeeklyAverage: Dashboard!$K$15

Sheet Dashboard
D3: Start Details | J3: Current STATS | O3: Real Time Targets
D5: Start Date | J5: Today's Date | O5: CLUB 10 | P5: =IF(E9="","",E9) | Q5: =IF(P5="","",CONCATENATE(ROUNDDOWN(P5/14,0), " st ", MOD(P5,14), " lbs"))
D6: Height | E6: =IF(F6="","",((F6*12)+G6)) | G6: 0 | J6: Current Weight | K6: =IF(Dashboard!E7="","",INDEX('Weight Record'!$D$2:$D$14,MATCH(9.99999999999999E+307,'Weight Record'!$D$2:$D$14))) | L6: =IF(K6="","",CONCATENATE(ROUNDDOWN(K6/14,0), " st ", MOD(K6,14), " lbs")) | O6: =IF(Dashboard!K6<=E9,"","lbs to go") | P6: =IF($D$55=FALSE,"", IF($K$6<= P5, "Achieved",$K$6-P5)) | Q6: =IF(P6="","",IF(K6<=P5,"Club10",CONCATENATE(ROUNDDOWN(P6/14,0), " st ", MOD(P6,14), " lbs")))
D7: Start Weight | E7: =IF(F7="","",IF(G7="","",((F7*14)+G7))) | G7: 9.5 | J7: Total Lost to Date | K7: =SUBTOTAL(109,SWRecord[Weight Change])*-1 -> 0 | L7: =IF(K7="","",CONCATENATE(ROUNDDOWN(K7/14,0), " st ", MOD(K7,14), " lbs")) -> 0 st 0 lbs | O7: =IF(P5="","Predicted Date",IF(Dashboard!K6<=E9,"Date Achieved","Predicted Date")) -> Predicted Date | P7: =IF(E5="","",IF(E7="","",IF(E9="","",IF(Dashboard!K15="",E21,IF(Dashboard!K6<=P5,INDEX('Weight Record'!$A:$A,MATCH("Club10 Achieved!",'Weight Record'!$O:$O,0)),K5+(K6-E9)/K15*7)))))
D9: Club10 | E9: =IF(E7="","",ROUNDUP(E7-(E7/10),0.5)) | F9: =IF(E9="","",CONCATENATE(ROUNDDOWN(E9/14,0), " st ", MOD(E9,14), " lbs")) | J9: Current BMI | K9: =IF(Dashboard!D55=FALSE,"",LOOKUP(9.9999999999999+307,'Weight Record'!$N:$N)) | O9: Interim Target 01 | P9: =IF(E10="","",E10) | Q9: =IF(P9="","",CONCATENATE(ROUNDDOWN(P9/14,0), " st ", MOD(P9,14), " lbs"))
D10: Interim Target 01 | E10: =IF(F10="","",((F10*14)+G10)) | G10: 7 | J10: Current Award | K10: =IF(Dashboard!D55=FALSE,"",IF(Dashboard!E7-K6<7,"",LOOKUP(2,1/('Weight Record'!AA2:AA65465<>""),'Weight Record'!AA2:AA65465))) | O10: =IF(Dashboard!K6<=P9,"","lbs to go") | P10: =IF(D55=FALSE,"", IF($K$6<= P9, "Achieved", $K$6-P9)) | Q10: =IF(P10="","",IF($K$6 <= P9,"Target 1",CONCATENATE(ROUNDDOWN(P10/14,0)," st ",MOD(P10,14)," lbs")))
D11: Interim Target 02 | E11: =IF(F11="","",((F11*14)+G11)) | G11: 0 | O11: =IF(P9="","Predicted Date",IF(Dashboard!K6<=P9,"Date Achieved","Predicted Date")) -> Predicted Date | P11: =IF(E5="","",IF(E7="","",IF(E9="","",IF(Dashboard!K15="",E22,IF(Dashboard!K6<=P9,INDEX('Weight Record'!$A:$A,MATCH("Target 1 ACHIEVED!",'Weight Record'!$Q:$Q,0)),K5+(K6-E10)/K15*7)))))
D12: Interim Target 03 | E12: =IF(F12="","",((F12*14)+G12)) | G12: 7 | J12: Percentage Lost | K12: =IF(Dashboard!E7="","",(K7/Dashboard!E7))
D13: Interim Target 04 | E13: =IF(F13="","",((F13*14)+G13)) | G13: 0 | J13: Percentage of Goal | K13: =IF(Dashboard!E16="","",(ROUNDDOWN(K7/Dashboard!E16,3))) | O13: Interim Target 02 | P13: =IF(E11="","",E11) | Q13: =IF(P13="","",CONCATENATE(ROUNDDOWN(P13/14,0), " st ", MOD(P13,14), " lbs"))
D14: Final PAT | E14: =IF(F14="","",((F14*14)+G14)) | G14: 2 | O14: =IF(Dashboard!K6<=P13,"","lbs to go") | P14: =IF(D55=FALSE,"", IF($K$6<= P13, "Achieved", $K$6-P13)) | Q14: =IF(P14="","", IF($K$6 <= P13,"Target 2",CONCATENATE(ROUNDDOWN(P14/14,0)," st ",MOD(P14,14)," lbs")))
D15: =IF(E14="","",IF(OR(E14<'BMI Info'!D8, E14>'BMI Info'!D9), "For a healthy BMI choose a PTA between "&'BMI Info'!E8 &" and "&'BMI Info'!E9," ")) | J15: Weekly Average | K15: =IF( 'Weight Record'!E3="","",(ROUND( SUBTOTAL(101,SWRecord[Weight Change])/0.5,0)*0.5)*-1) | O15: =IF(P13="","Predicted Date",IF(Dashboard!K6<=P13,"Date Achieved","Predicted Date")) -> Predicted Date | P15: =IF(E5="","",IF(E7="","",IF(E11="","",IF(Dashboard!K15="",E23,IF(Dashboard!K6<=P13,INDEX('Weight Record'!$A:$A,MATCH("Target 2 ACHIEVED!",'Weight Record'!$T:$T,0)),K5+(K6-E11)/K15*7)))))
D16: Total Weight to Lose | E16: =IF(E7="","",IF(E14="","", E7-E14)) | F16: =IF(E16="","",CONCATENATE(ROUNDDOWN(E16/14,0), " st ", MOD(E16,14), " lbs")) | J16: Monthly Average | K16: =IF(K15="","",((K15*52)/12))
O17: Interim Target 03 | P17: =IF(E12="","", E12) | Q17: =IF(P17="","",CONCATENATE(ROUNDDOWN(P17/14,0), " st ", MOD(P17,14), " lbs"))
D18: Weekly Loss Aim | J18: Biggest Loss | K18: =IF('Weight Record'!L3="","Keep Going!",(SUBTOTAL(5, SWRecord[Weight Change])*-1)) -> Keep Going! | O18: =IF(Dashboard!K6<=P17,"","lbs to go") | P18: =IF(D55=FALSE,"", IF($K$6<=P17, "Achieved", $K$6-P17)) | Q18: =IF(P17="","",IF($K$6<=P17,"Target 3",CONCATENATE(ROUNDDOWN(P18/14,0), " st ", MOD(P18,14), " lbs")))
D19: Monthly Loss Aim | E19: =IF(E18="","", ROUND(((E18*52)/12)/0.5,0)*0.5) | J19: Total Losses | K19: =COUNTIF(SWRecord[Weight Change],"<0") -> 0 | L19: =IF(K18="","",SUMIF(SWRecord[Weight Change],"<0")*-1) -> 0 | O19: =IF(P17="","Predicted Date",IF(Dashboard!K6<=P17,"Date Achieved","Predicted Date")) -> Predicted Date | P19: =IF(E5="","",IF(E7="","",IF(E12="","",IF(Dashboard!K15="",E24,IF(Dashboard!K6<=P17,INDEX('Weight Record'!$A:$A,MATCH("Target 3 ACHIEVED!",'Weight Record'!$V:$V,0)),K5+(K6-E12)/K15*7)))))
D21: Club10 | E21: =IF(E5="","",IF(E7="","",IF(E9="","",IF(E18="","",E5+(E7-E9)/E18*7)))) | J21: Biggest Gain | K21: =IF(SUBTOTAL(4,SWRecord[Weight Change])<=0,"None!",SUBTOTAL(4,SWRecord[Weight Change])) -> None! | O21: Interim Target 04 | P21: =IF(E13="","", E13) | Q21: =IF(P21="","",CONCATENATE(ROUNDDOWN(P21/14,0), " st ", MOD(P21,14), " lbs"))
D22: Interim Target 01 | E22: =IF(E5="","",IF(E7="","",IF(E10="","",IF(E18="","",E5+(E7-E10)/E18*7)))) | J22: Total Gains | K22: =COUNTIF(SWRecord[Weight Change],">0") -> 0 | L22: =IF(K18="","",SUMIF(SWRecord[Weight Change],">0")) -> 0 | O22: =IF(Dashboard!K6<=P21,"","lbs to go") | P22: =IF($D$55=FALSE,"", IF($K$6<= P21, "Achieved", $K$6-P21)) | Q22: =IF(P21="","",IF($K$6<=P21,"Target 4",CONCATENATE(ROUNDDOWN(P22/14,0), " st ", MOD(P22,14), " lbs")))
D23: Interim Target 02 | E23: =IF(E5="","",IF(E7="","",IF(E11="","",IF(E18="","",E5+(E7-E11)/E18*7)))) | O23: =IF(P21="","Predicted Date",IF(Dashboard!K6<=P21,"Date Achieved","Predicted Date")) -> Predicted Date | P23: =IF(E5="","",IF(E7="","",IF(E13="","",IF(Dashboard!K15="",E25,IF(Dashboard!K6<=P21,INDEX('Weight Record'!$A:$A,MATCH("Target 4 ACHIEVED!",'Weight Record'!$X:$X,0)),K5+(K6-E13)/K15*7)))))
D24: Interim Target 03 | E24: =IF(E5="","",IF(E7="","",IF(E12="","",IF(E18="","",E5+(E7-E12)/E18*7)))) | J24: Total Maintains | K24: =COUNTIF(SWRecord[Weight Change],"=0") -> 1
D25: Interim Target 04 | E25: =IF(E5="","",IF(E7="","",IF(E13="","",IF(E18="","",E5+(E7-E13)/E18*7)))) | O25: PAT | P25: =IF(E14="","", E14) | Q25: =IF(P25="","",CONCATENATE(ROUNDDOWN(P25/14,0), " st ", MOD(P25,14), " lbs"))
D26: Final PAT | E26: =IF(E5="","",IF(E7="","",IF(E14="","",IF(E18="","",E5+(E7-E14)/E18*7)))) | J26: Maximum Weight | K26: =IF(Dashboard!E7="","",SUBTOTAL(104,'Weight Record'!$E$2:$E$14)) | L26: =IF(K26="","",CONCATENATE(ROUNDDOWN(K26/14,0), " st ", MOD(K26,14), " lbs")) | O26: =IF(Dashboard!K6<=P25,"","lbs to go") | P26: =IF($D$55=FALSE,"", IF($K$6<= P25, "Achieved", $K$6-P25)) | Q26: =IF(P25="","",IF($K$6<=P25,"PTA",CONCATENATE(ROUNDDOWN(P26/14,0), " st ", MOD(P26,14), " lbs")))
J27: Maximum Weight | K27: =IF(E7="","",SUBTOTAL(104,'Weight Record'!$E$2:$E$14)) | L27: =IF(K27="","",CONCATENATE(ROUNDDOWN(K27/14,0), " st ", MOD(K27,14), " lbs"))
J28: Date | K28: =IF(K26="","",INDEX('Weight Record'!A2:A99999,MATCH(K26,'Weight Record'!E2:E9999,0))) | O28: =IF(P21="","Predicted Date",IF(Dashboard!K6<=P21,"Date Achieved","Predicted Date")) -> Predicted Date | P28: =IF(E5="","",IF(E7="","",IF(E14="","",IF(Dashboard!K15="",E26,IF(Dashboard!K6<=P21,INDEX('Weight Record'!$A:$A,MATCH("Target ACHIEVED!",'Weight Record'!$Z:$Z,0)),K5+(K6-E14)/K15*7)))))
J29: Date | K29: =IF(K26="","",INDEX('Weight Record'!A2:A99999,MATCH(K26,'Weight Record'!D2:D9999,0)))
D30: Start BMI | E30: =IF(E6="","",IF(E7="","",(E7*703)/(E6*E6)))
D31: Aim BMI | E31: =IF(E6="","",IF(E7="","",IF(E14="","",(E14*703)/(E6*E6)))) | J31: Minimum Weight | K31: =IF(E7="","",SUBTOTAL(105,'Weight Record'!$E$2:$E$14)) | L31: =IF(K31="","",CONCATENATE(ROUNDDOWN(K31/14,0), " st ", MOD(K31,14), " lbs"))
J32: Date | K32: =IF(K31="","",INDEX('Weight Record'!A2:A99999,MATCH(K31,'Weight Record'!D2:D9999,0)))
D33: Inches
J34: Day | K34: =K5-E5 -> 0
D35: Neck | J35: Week | K35: =ROUNDUP(K34/7,0) -> 0
D36: Chest
D37: Bicept
D38: Wrist
D39: Hips
D40: Thigh
D41: Calf
D42: Waist
D43: How Often?
D45: =IF(E43<1,"1 for weekly, 2 for fortnightly, 4 for monthly etc","") -> 1 for weekly, 2 for fortnightly, 4 for monthly etc
D55: =IF(E5="",FALSE,IF(F6="",FALSE,IF(G6="",FALSE,IF(F7="",FALSE,IF(G7="",FALSE,IF(F10="",FALSE,IF(G10="",FALSE,IF(F11="",FALSE,IF(G11="",FALSE,IF(F14="",FALSE,IF(G14="",FALSE,IF(E18="",FALSE,TRUE)))))))))))) -> FALSE

Sheet Weight Record
A1: Date | B1: Weight - Stones | C1: Weight - Pounds | D1: Weight in Pounds | E1: Weight | F1: Club10 | G1: Interim Target 01 | H1: Interim Target 02 | I1: Interim Target 03 | J1: Interim Target 04 | K1: PTA | L1: Weight Change | M1: Loss Total | N1: BMI | O1: To Club10 | P1: Club 10 | Q1: To Interim Target 01 | R1: Interim Target 1 | S1: To Interim Target 02 | T1: Interim Target 2 | U1: To Interim Target 3 | V1: Interim Target 3 | W1: To Interim Target 4 | X1: Interim Target 4 | Y1: To Target | Z1: P.T.A | AA1: Current milestone
A2: =IF(Dashboard!E5="","",Dashboard!E5) | D2: =IF(B2="",NA(),(B2*14)+C2) -> #N/A | E2: =IF(ISERROR(D2),"",D2) | F2: =IF(Dashboard!$E$9="","",Dashboard!$E$9) | G2: =IF(Dashboard!$E$10="","",Dashboard!$E$10) | H2: =IF(Dashboard!$E$11="","",Dashboard!$E$11) | I2: =IF(Dashboard!$E$12="","",Dashboard!$E$12) | J2: =IF(Dashboard!$E$13="","",Dashboard!$E$13) | K2: =IF(Dashboard!$E$14="","",Dashboard!$E$14) | L2: 0 | N2: =IF(ISERROR(D2),"",(D2*703)/(Dashboard!$E$6*Dashboard!$E$6)) | O2: =IF(ISERROR(D2),"",IF(D2<=Dashboard!$P$5,"Club10 Achieved!",(Dashboard!$P$5-D2)*-1)) | P2: =IF(O2="","",IF(O2="Club10 Achieved!","Club10 Achieved!",CONCATENATE(ROUNDDOWN(O2/14,0)," st ",MOD(O2,14)," lbs"))) | Q2: =IF(Dashboard!$E$10="","",IF(ISERROR(D2),"",IF($D2>Dashboard!$E$10,$D2-Dashboard!$E$10,IF($D2="","","Target 1 ACHIEVED!")))) | R2: =IF(Q2="","",IF(Q2="Target 1 ACHIEVED!","Target 1 ACHIEVED!",CONCATENATE(ROUNDDOWN(Q2/14,0)," st ",MOD(Q2,14)," lbs"))) | S2: =IF(ISERROR(D2),"",IF(Dashboard!$E$11="","",IF($D2>Dashboard!$E$11,$D2-Dashboard!$E$11,IF($D2="","","Target 2 ACHIEVED!")))) | T2: =IF(S2="","",IF(S2="Target 2 ACHIEVED!","Target 2 ACHIEVED!",CONCATENATE(ROUNDDOWN(S2/14,0)," st ",MOD(S2,14)," lbs"))) | U2: =IF(Dashboard!$E$12="","",IF(ISERROR(D2),"",IF($D2>Dashboard!$E$12,$D2-Dashboard!$E$12,IF($D2="","","Target 3 ACHIEVED!")))) | V2: =IF(U2="","",IF(U2="Target 3 ACHIEVED!","Target 3 ACHIEVED!",CONCATENATE(ROUNDDOWN(U2/14,0)," st ",MOD(U2,14)," lbs"))) | W2: =IF(Dashboard!$E$13="","",IF(ISERROR(D2),"",IF($D2>Dashboard!$E$13,$D2-Dashboard!$E$13,IF($D2="","","Target 4 ACHIEVED!")))) | X2: =IF(W2="","",IF(W2="Target 4 ACHIEVED!","Target 4 ACHIEVED!",CONCATENATE(ROUNDDOWN(W2/14,0)," st ",MOD(W2,14)," lbs"))) | Y2: =IF(ISERROR(D2),"",IF(Dashboard!$E$14="","",IF($D2>Dashboard!$E$14,$D2-Dashboard!$E$14,IF($D2="","","Target ACHIEVED!")))) | Z2: =IF(Y2="","",IF(Y2="Target ACHIEVED!","Target ACHIEVED!",CONCATENATE(ROUNDDOWN(Y2/14,0)," st ",MOD(Y2,14)," lbs"))) | AA2: =IF((AND(M2<=202.5,M2>=196)),"14 STONE", IF((AND(M2<=195.5,M2>=189)),"13.5 STONE", IF((AND(M2<=188.5,M2>=182)),"13 STONE", IF((AND(M2<=181.5,M2>=175)),"12.5 STONE", IF((AND(M2<=174.5,M2>=168)),"12 STONE", IF((AND(M2<=167.5,M2>=161)),"11.5 STONE", IF((AND(M2<=160.5,M2>=154)),"11 STONE", IF((AND(M2<=153.5,M2>=147)),"10.5 STONE", IF((AND(M2<=146.5,M2>=140)),"10 STONE", IF((AND(M2<=139.5,M2>=133)),"9.5 STONE", IF((AND(M2<=132.5,M2>=126)),"9 STONE", IF((AND(M2<=125.5,M2>=119)),"8.5 STONE", IF((AND(M2<=118.5,M2>=112)),"8 STONE", IF((AND(M2<=111.5,M2>=105)),"7.5 STONE", IF((AND(M2<=104.5,M2>=98)),"7 STONE", IF((AND(M2<=97.5,M2>=91)),"6.5 STONE", IF((AND(M2<=90.5,M2>=84)),"6 STONE", IF((AND(M2<=83.5,M2>=77)),"5.5 STONE", IF((AND(M2<=76.5,M2>=70)),"5 STONE", IF((AND(M2<=69.5,M2>=63)),"4.5 STONE", IF((AND(M2<=62.5,M2>=56)),"4 STONE", IF((AND(M2<=55.5,M2>=49)),"3.5 STONE", IF((AND(M2<=48.5,M2>=42)),"3 STONE", IF((AND(M2<=41.5,M2>=35)),"2.5 STONE", IF((AND(M2<=34.5,M2>=28)),"2 STONE", IF((AND(M2<=27.5,M2>=21)),"1.5 STONE", IF((AND(M2<=20.5,M2>=14)),"1 STONE", IF((AND(M2<=13.5,M2>=7)),"0.5 STONE", IF((AND(M2<=6.5,M2>=0)),"", "")))))))))))))))))))))))))))))
A3: =IF(ISERROR(D3),"",A2+7) | D3: =IF(B3="",NA(),(B3*14)+C3) -> #N/A | E3: =IF(ISERROR(D3),"",D3) | F3: =IF(Dashboard!$E$9="","",Dashboard!$E$9) | G3: =IF(Dashboard!$E$10="","",Dashboard!$E$10) | H3: =IF(Dashboard!$E$11="","",Dashboard!$E$11) | I3: =IF(Dashboard!$E$12="","",Dashboard!$E$12) | J3: =IF(Dashboard!$E$13="","",Dashboard!$E$13) | K3: =IF(Dashboard!$E$14="","",Dashboard!$E$14) | L3: =IF(ISERROR(D3),"",D3-D2) | M3: =IF(B3="","",$D$2-D3) | N3: =IF(ISERROR(D3),"",(D3*703)/(Dashboard!$E$6*Dashboard!$E$6)) | O3: =IF(ISERROR(D3),"",IF(D3<=Dashboard!$P$5,"Club10 Achieved!",(Dashboard!$P$5-D3)*-1)) | P3: =IF(O3="","",IF(O3="Club10 Achieved!","Club10 Achieved!",CONCATENATE(ROUNDDOWN(O3/14,0)," st ",MOD(O3,14)," lbs"))) | Q3: =IF(Dashboard!$E$10="","",IF(ISERROR(D3),"",IF($D3>Dashboard!$E$10,$D3-Dashboard!$E$10,IF($D3="","","Target 1 ACHIEVED!")))) | R3: =IF(Q3="","",IF(Q3="Target 1 ACHIEVED!","Target 1 ACHIEVED!",CONCATENATE(ROUNDDOWN(Q3/14,0)," st ",MOD(Q3,14)," lbs"))) | S3: =IF(ISERROR(D3),"",IF(Dashboard!$E$11="","",IF($D3>Dashboard!$E$11,$D3-Dashboard!$E$11,IF($D3="","","Target 2 ACHIEVED!")))) | T3: =IF(S3="","",IF(S3="Target 2 ACHIEVED!","Target 2 ACHIEVED!",CONCATENATE(ROUNDDOWN(S3/14,0)," st ",MOD(S3,14)," lbs"))) | U3: =IF(Dashboard!$E$12="","",IF(ISERROR(D3),"",IF($D3>Dashboard!$E$12,$D3-Dashboard!$E$12,IF($D3="","","Target 3 ACHIEVED!")))) | V3: =IF(U3="","",IF(U3="Target 3 ACHIEVED!","Target 3 ACHIEVED!",CONCATENATE(ROUNDDOWN(U3/14,0)," st ",MOD(U3,14)," lbs"))) | W3: =IF(Dashboard!$E$13="","",IF(ISERROR(D3),"",IF($D3>Dashboard!$E$13,$D3-Dashboard!$E$13,IF($D3="","","Target 4 ACHIEVED!")))) | X3: =IF(W3="","",IF(W3="Target 4 ACHIEVED!","Target 4 ACHIEVED!",CONCATENATE(ROUNDDOWN(W3/14,0)," st ",MOD(W3,14)," lbs"))) | Y3: =IF(ISERROR(D3),"",IF(Dashboard!$E$14="","",IF($D3>Dashboard!$E$14,$D3-Dashboard!$E$14,IF($D3="","","Target ACHIEVED!")))) | Z3: =IF(Y3="","",IF(Y3="Target ACHIEVED!","Target ACHIEVED!",CONCATENATE(ROUNDDOWN(Y3/14,0)," st ",MOD(Y3,14)," lbs"))) | AA3: =IF((AND(M3<=202.5,M3>=196)),"14 STONE", IF((AND(M3<=195.5,M3>=189)),"13.5 STONE", IF((AND(M3<=188.5,M3>=182)),"13 STONE", IF((AND(M3<=181.5,M3>=175)),"12.5 STONE", IF((AND(M3<=174.5,M3>=168)),"12 STONE", IF((AND(M3<=167.5,M3>=161)),"11.5 STONE", IF((AND(M3<=160.5,M3>=154)),"11 STONE", IF((AND(M3<=153.5,M3>=147)),"10.5 STONE", IF((AND(M3<=146.5,M3>=140)),"10 STONE", IF((AND(M3<=139.5,M3>=133)),"9.5 STONE", IF((AND(M3<=132.5,M3>=126)),"9 STONE", IF((AND(M3<=125.5,M3>=119)),"8.5 STONE", IF((AND(M3<=118.5,M3>=112)),"8 STONE", IF((AND(M3<=111.5,M3>=105)),"7.5 STONE", IF((AND(M3<=104.5,M3>=98)),"7 STONE", IF((AND(M3<=97.5,M3>=91)),"6.5 STONE", IF((AND(M3<=90.5,M3>=84)),"6 STONE", IF((AND(M3<=83.5,M3>=77)),"5.5 STONE", IF((AND(M3<=76.5,M3>=70)),"5 STONE", IF((AND(M3<=69.5,M3>=63)),"4.5 STONE", IF((AND(M3<=62.5,M3>=56)),"4 STONE", IF((AND(M3<=55.5,M3>=49)),"3.5 STONE", IF((AND(M3<=48.5,M3>=42)),"3 STONE", IF((AND(M3<=41.5,M3>=35)),"2.5 STONE", IF((AND(M3<=34.5,M3>=28)),"2 STONE", IF((AND(M3<=27.5,M3>=21)),"1.5 STONE", IF((AND(M3<=20.5,M3>=14)),"1 STONE", IF((AND(M3<=13.5,M3>=7)),"0.5 STONE", IF((AND(M3<=6.5,M3>=0)),"", "")))))))))))))))))))))))))))))
A4: =IF(ISERROR(D4),"",A3+7) | D4: =IF(B4="",NA(),(B4*14)+C4) -> #N/A | E4: =IF(ISERROR(D4),"",D4) | F4: =IF(Dashboard!$E$9="","",Dashboard!$E$9) | G4: =IF(Dashboard!$E$10="","",Dashboard!$E$10) | H4: =IF(Dashboard!$E$11="","",Dashboard!$E$11) | I4: =IF(Dashboard!$E$12="","",Dashboard!$E$12) | J4: =IF(Dashboard!$E$13="","",Dashboard!$E$13) | K4: =IF(Dashboard!$E$14="","",Dashboard!$E$14) | L4: =IF(ISERROR(D4),"",D4-D3) | M4: =IF(B4="","",$D$2-D4) | N4: =IF(ISERROR(D4),"",(D4*703)/(Dashboard!$E$6*Dashboard!$E$6)) | O4: =IF(ISERROR(D4),"",IF(D4<=Dashboard!$P$5,"Club10 Achieved!",(Dashboard!$P$5-D4)*-1)) | P4: =IF(O4="","",IF(O4="Club10 Achieved!","Club10 Achieved!",CONCATENATE(ROUNDDOWN(O4/14,0)," st ",MOD(O4,14)," lbs"))) | Q4: =IF(Dashboard!$E$10="","",IF(ISERROR(D4),"",IF($D4>Dashboard!$E$10,$D4-Dashboard!$E$10,IF($D4="","","Target 1 ACHIEVED!")))) | R4: =IF(Q4="","",IF(Q4="Target 1 ACHIEVED!","Target 1 ACHIEVED!",CONCATENATE(ROUNDDOWN(Q4/14,0)," st ",MOD(Q4,14)," lbs"))) | S4: =IF(ISERROR(D4),"",IF(Dashboard!$E$11="","",IF($D4>Dashboard!$E$11,$D4-Dashboard!$E$11,IF($D4="","","Target 2 ACHIEVED!")))) | T4: =IF(S4="","",IF(S4="Target 2 ACHIEVED!","Target 2 ACHIEVED!",CONCATENATE(ROUNDDOWN(S4/14,0)," st ",MOD(S4,14)," lbs"))) | U4: =IF(Dashboard!$E$12="","",IF(ISERROR(D4),"",IF($D4>Dashboard!$E$12,$D4-Dashboard!$E$12,IF($D4="","","Target 3 ACHIEVED!")))) | V4: =IF(U4="","",IF(U4="Target 3 ACHIEVED!","Target 3 ACHIEVED!",CONCATENATE(ROUNDDOWN(U4/14,0)," st ",MOD(U4,14)," lbs"))) | W4: =IF(Dashboard!$E$13="","",IF(ISERROR(D4),"",IF($D4>Dashboard!$E$13,$D4-Dashboard!$E$13,IF($D4="","","Target 4 ACHIEVED!")))) | X4: =IF(W4="","",IF(W4="Target 4 ACHIEVED!","Target 4 ACHIEVED!",CONCATENATE(ROUNDDOWN(W4/14,0)," st ",MOD(W4,14)," lbs"))) | Y4: =IF(ISERROR(D4),"",IF(Dashboard!$E$14="","",IF($D4>Dashboard!$E$14,$D4-Dashboard!$E$14,IF($D4="","","Target ACHIEVED!")))) | Z4: =IF(Y4="","",IF(Y4="Target ACHIEVED!","Target ACHIEVED!",CONCATENATE(ROUNDDOWN(Y4/14,0)," st ",MOD(Y4,14)," lbs"))) | AA4: =IF((AND(M4<=202.5,M4>=196)),"14 STONE", IF((AND(M4<=195.5,M4>=189)),"13.5 STONE", IF((AND(M4<=188.5,M4>=182)),"13 STONE", IF((AND(M4<=181.5,M4>=175)),"12.5 STONE", IF((AND(M4<=174.5,M4>=168)),"12 STONE", IF((AND(M4<=167.5,M4>=161)),"11.5 STONE", IF((AND(M4<=160.5,M4>=154)),"11 STONE", IF((AND(M4<=153.5,M4>=147)),"10.5 STONE", IF((AND(M4<=146.5,M4>=140)),"10 STONE", IF((AND(M4<=139.5,M4>=133)),"9.5 STONE", IF((AND(M4<=132.5,M4>=126)),"9 STONE", IF((AND(M4<=125.5,M4>=119)),"8.5 STONE", IF((AND(M4<=118.5,M4>=112)),"8 STONE", IF((AND(M4<=111.5,M4>=105)),"7.5 STONE", IF((AND(M4<=104.5,M4>=98)),"7 STONE", IF((AND(M4<=97.5,M4>=91)),"6.5 STONE", IF((AND(M4<=90.5,M4>=84)),"6 STONE", IF((AND(M4<=83.5,M4>=77)),"5.5 STONE", IF((AND(M4<=76.5,M4>=70)),"5 STONE", IF((AND(M4<=69.5,M4>=63)),"4.5 STONE", IF((AND(M4<=62.5,M4>=56)),"4 STONE", IF((AND(M4<=55.5,M4>=49)),"3.5 STONE", IF((AND(M4<=48.5,M4>=42)),"3 STONE", IF((AND(M4<=41.5,M4>=35)),"2.5 STONE", IF((AND(M4<=34.5,M4>=28)),"2 STONE", IF((AND(M4<=27.5,M4>=21)),"1.5 STONE", IF((AND(M4<=20.5,M4>=14)),"1 STONE", IF((AND(M4<=13.5,M4>=7)),"0.5 STONE", IF((AND(M4<=6.5,M4>=0)),"", "")))))))))))))))))))))))))))))
A5: =IF(ISERROR(D5),"",A4+7) | D5: =IF(B5="",NA(),(B5*14)+C5) -> #N/A | E5: =IF(ISERROR(D5),"",D5) | F5: =IF(Dashboard!$E$9="","",Dashboard!$E$9) | G5: =IF(Dashboard!$E$10="","",Dashboard!$E$10) | H5: =IF(Dashboard!$E$11="","",Dashboard!$E$11) | I5: =IF(Dashboard!$E$12="","",Dashboard!$E$12) | J5: =IF(Dashboard!$E$13="","",Dashboard!$E$13) | K5: =IF(Dashboard!$E$14="","",Dashboard!$E$14) | L5: =IF(ISERROR(D5),"",D5-D4) | M5: =IF(B5="","",$D$2-D5) | N5: =IF(ISERROR(D5),"",(D5*703)/(Dashboard!$E$6*Dashboard!$E$6)) | O5: =IF(ISERROR(D5),"",IF(D5<=Dashboard!$P$5,"Club10 Achieved!",(Dashboard!$P$5-D5)*-1)) | P5: =IF(O5="","",IF(O5="Club10 Achieved!","Club10 Achieved!",CONCATENATE(ROUNDDOWN(O5/14,0)," st ",MOD(O5,14)," lbs"))) | Q5: =IF(Dashboard!$E$10="","",IF(ISERROR(D5),"",IF($D5>Dashboard!$E$10,$D5-Dashboard!$E$10,IF($D5="","","Target 1 ACHIEVED!")))) | R5: =IF(Q5="","",IF(Q5="Target 1 ACHIEVED!","Target 1 ACHIEVED!",CONCATENATE(ROUNDDOWN(Q5/14,0)," st ",MOD(Q5,14)," lbs"))) | S5: =IF(ISERROR(D5),"",IF(Dashboard!$E$11="","",IF($D5>Dashboard!$E$11,$D5-Dashboard!$E$11,IF($D5="","","Target 2 ACHIEVED!")))) | T5: =IF(S5="","",IF(S5="Target 2 ACHIEVED!","Target 2 ACHIEVED!",CONCATENATE(ROUNDDOWN(S5/14,0)," st ",MOD(S5,14)," lbs"))) | U5: =IF(Dashboard!$E$12="","",IF(ISERROR(D5),"",IF($D5>Dashboard!$E$12,$D5-Dashboard!$E$12,IF($D5="","","Target 3 ACHIEVED!")))) | V5: =IF(U5="","",IF(U5="Target 3 ACHIEVED!","Target 3 ACHIEVED!",CONCATENATE(ROUNDDOWN(U5/14,0)," st ",MOD(U5,14)," lbs"))) | W5: =IF(Dashboard!$E$13="","",IF(ISERROR(D5),"",IF($D5>Dashboard!$E$13,$D5-Dashboard!$E$13,IF($D5="","","Target 4 ACHIEVED!")))) | X5: =IF(W5="","",IF(W5="Target 4 ACHIEVED!","Target 4 ACHIEVED!",CONCATENATE(ROUNDDOWN(W5/14,0)," st ",MOD(W5,14)," lbs"))) | Y5: =IF(ISERROR(D5),"",IF(Dashboard!$E$14="","",IF($D5>Dashboard!$E$14,$D5-Dashboard!$E$14,IF($D5="","","Target ACHIEVED!")))) | Z5: =IF(Y5="","",IF(Y5="Target ACHIEVED!","Target ACHIEVED!",CONCATENATE(ROUNDDOWN(Y5/14,0)," st ",MOD(Y5,14)," lbs"))) | AA5: =IF((AND(M5<=202.5,M5>=196)),"14 STONE", IF((AND(M5<=195.5,M5>=189)),"13.5 STONE", IF((AND(M5<=188.5,M5>=182)),"13 STONE", IF((AND(M5<=181.5,M5>=175)),"12.5 STONE", IF((AND(M5<=174.5,M5>=168)),"12 STONE", IF((AND(M5<=167.5,M5>=161)),"11.5 STONE", IF((AND(M5<=160.5,M5>=154)),"11 STONE", IF((AND(M5<=153.5,M5>=147)),"10.5 STONE", IF((AND(M5<=146.5,M5>=140)),"10 STONE", IF((AND(M5<=139.5,M5>=133)),"9.5 STONE", IF((AND(M5<=132.5,M5>=126)),"9 STONE", IF((AND(M5<=125.5,M5>=119)),"8.5 STONE", IF((AND(M5<=118.5,M5>=112)),"8 STONE", IF((AND(M5<=111.5,M5>=105)),"7.5 STONE", IF((AND(M5<=104.5,M5>=98)),"7 STONE", IF((AND(M5<=97.5,M5>=91)),"6.5 STONE", IF((AND(M5<=90.5,M5>=84)),"6 STONE", IF((AND(M5<=83.5,M5>=77)),"5.5 STONE", IF((AND(M5<=76.5,M5>=70)),"5 STONE", IF((AND(M5<=69.5,M5>=63)),"4.5 STONE", IF((AND(M5<=62.5,M5>=56)),"4 STONE", IF((AND(M5<=55.5,M5>=49)),"3.5 STONE", IF((AND(M5<=48.5,M5>=42)),"3 STONE", IF((AND(M5<=41.5,M5>=35)),"2.5 STONE", IF((AND(M5<=34.5,M5>=28)),"2 STONE", IF((AND(M5<=27.5,M5>=21)),"1.5 STONE", IF((AND(M5<=20.5,M5>=14)),"1 STONE", IF((AND(M5<=13.5,M5>=7)),"0.5 STONE", IF((AND(M5<=6.5,M5>=0)),"", "")))))))))))))))))))))))))))))
A6: =IF(ISERROR(D6),"",A5+7) | D6: =IF(B6="",NA(),(B6*14)+C6) -> #N/A | E6: =IF(ISERROR(D6),"",D6) | F6: =IF(Dashboard!$E$9="","",Dashboard!$E$9) | G6: =IF(Dashboard!$E$10="","",Dashboard!$E$10) | H6: =IF(Dashboard!$E$11="","",Dashboard!$E$11) | I6: =IF(Dashboard!$E$12="","",Dashboard!$E$12) | J6: =IF(Dashboard!$E$13="","",Dashboard!$E$13) | K6: =IF(Dashboard!$E$14="","",Dashboard!$E$14) | L6: =IF(ISERROR(D6),"",D6-D5) | M6: =IF(B6="","",$D$2-D6) | N6: =IF(ISERROR(D6),"",(D6*703)/(Dashboard!$E$6*Dashboard!$E$6)) | O6: =IF(ISERROR(D6),"",IF(D6<=Dashboard!$P$5,"Club10 Achieved!",(Dashboard!$P$5-D6)*-1)) | P6: =IF(O6="","",IF(O6="Club10 Achieved!","Club10 Achieved!",CONCATENATE(ROUNDDOWN(O6/14,0)," st ",MOD(O6,14)," lbs"))) | Q6: =IF(Dashboard!$E$10="","",IF(ISERROR(D6),"",IF($D6>Dashboard!$E$10,$D6-Dashboard!$E$10,IF($D6="","","Target 1 ACHIEVED!")))) | R6: =IF(Q6="","",IF(Q6="Target 1 ACHIEVED!","Target 1 ACHIEVED!",CONCATENATE(ROUNDDOWN(Q6/14,0)," st ",MOD(Q6,14)," lbs"))) | S6: =IF(ISERROR(D6),"",IF(Dashboard!$E$11="","",IF($D6>Dashboard!$E$11,$D6-Dashboard!$E$11,IF($D6="","","Target 2 ACHIEVED!")))) | T6: =IF(S6="","",IF(S6="Target 2 ACHIEVED!","Target 2 ACHIEVED!",CONCATENATE(ROUNDDOWN(S6/14,0)," st ",MOD(S6,14)," lbs"))) | U6: =IF(Dashboard!$E$12="","",IF(ISERROR(D6),"",IF($D6>Dashboard!$E$12,$D6-Dashboard!$E$12,IF($D6="","","Target 3 ACHIEVED!")))) | V6: =IF(U6="","",IF(U6="Target 3 ACHIEVED!","Target 3 ACHIEVED!",CONCATENATE(ROUNDDOWN(U6/14,0)," st ",MOD(U6,14)," lbs"))) | W6: =IF(Dashboard!$E$13="","",IF(ISERROR(D6),"",IF($D6>Dashboard!$E$13,$D6-Dashboard!$E$13,IF($D6="","","Target 4 ACHIEVED!")))) | X6: =IF(W6="","",IF(W6="Target 4 ACHIEVED!","Target 4 ACHIEVED!",CONCATENATE(ROUNDDOWN(W6/14,0)," st ",MOD(W6,14)," lbs"))) | Y6: =IF(ISERROR(D6),"",IF(Dashboard!$E$14="","",IF($D6>Dashboard!$E$14,$D6-Dashboard!$E$14,IF($D6="","","Target ACHIEVED!")))) | Z6: =IF(Y6="","",IF(Y6="Target ACHIEVED!","Target ACHIEVED!",CONCATENATE(ROUNDDOWN(Y6/14,0)," st ",MOD(Y6,14)," lbs"))) | AA6: =IF((AND(M6<=202.5,M6>=196)),"14 STONE", IF((AND(M6<=195.5,M6>=189)),"13.5 STONE", IF((AND(M6<=188.5,M6>=182)),"13 STONE", IF((AND(M6<=181.5,M6>=175)),"12.5 STONE", IF((AND(M6<=174.5,M6>=168)),"12 STONE", IF((AND(M6<=167.5,M6>=161)),"11.5 STONE", IF((AND(M6<=160.5,M6>=154)),"11 STONE", IF((AND(M6<=153.5,M6>=147)),"10.5 STONE", IF((AND(M6<=146.5,M6>=140)),"10 STONE", IF((AND(M6<=139.5,M6>=133)),"9.5 STONE", IF((AND(M6<=132.5,M6>=126)),"9 STONE", IF((AND(M6<=125.5,M6>=119)),"8.5 STONE", IF((AND(M6<=118.5,M6>=112)),"8 STONE", IF((AND(M6<=111.5,M6>=105)),"7.5 STONE", IF((AND(M6<=104.5,M6>=98)),"7 STONE", IF((AND(M6<=97.5,M6>=91)),"6.5 STONE", IF((AND(M6<=90.5,M6>=84)),"6 STONE", IF((AND(M6<=83.5,M6>=77)),"5.5 STONE", IF((AND(M6<=76.5,M6>=70)),"5 STONE", IF((AND(M6<=69.5,M6>=63)),"4.5 STONE", IF((AND(M6<=62.5,M6>=56)),"4 STONE", IF((AND(M6<=55.5,M6>=49)),"3.5 STONE", IF((AND(M6<=48.5,M6>=42)),"3 STONE", IF((AND(M6<=41.5,M6>=35)),"2.5 STONE", IF((AND(M6<=34.5,M6>=28)),"2 STONE", IF((AND(M6<=27.5,M6>=21)),"1.5 STONE", IF((AND(M6<=20.5,M6>=14)),"1 STONE", IF((AND(M6<=13.5,M6>=7)),"0.5 STONE", IF((AND(M6<=6.5,M6>=0)),"", "")))))))))))))))))))))))))))))
A7: =IF(ISERROR(D7),"",A6+7) | D7: =IF(B7="",NA(),(B7*14)+C7) -> #N/A | E7: =IF(ISERROR(D7),"",D7) | F7: =IF(Dashboard!$E$9="","",Dashboard!$E$9) | G7: =IF(Dashboard!$E$10="","",Dashboard!$E$10) | H7: =IF(Dashboard!$E$11="","",Dashboard!$E$11) | I7: =IF(Dashboard!$E$12="","",Dashboard!$E$12) | J7: =IF(Dashboard!$E$13="","",Dashboard!$E$13) | K7: =IF(Dashboard!$E$14="","",Dashboard!$E$14) | L7: =IF(ISERROR(D7),"",D7-D6) | M7: =IF(B7="","",$D$2-D7) | N7: =IF(ISERROR(D7),"",(D7*703)/(Dashboard!$E$6*Dashboard!$E$6)) | O7: =IF(ISERROR(D7),"",IF(D7<=Dashboard!$P$5,"Club10 Achieved!",(Dashboard!$P$5-D7)*-1)) | P7: =IF(O7="","",IF(O7="Club10 Achieved!","Club10 Achieved!",CONCATENATE(ROUNDDOWN(O7/14,0)," st ",MOD(O7,14)," lbs"))) | Q7: =IF(Dashboard!$E$10="","",IF(ISERROR(D7),"",IF($D7>Dashboard!$E$10,$D7-Dashboard!$E$10,IF($D7="","","Target 1 ACHIEVED!")))) | R7: =IF(Q7="","",IF(Q7="Target 1 ACHIEVED!","Target 1 ACHIEVED!",CONCATENATE(ROUNDDOWN(Q7/14,0)," st ",MOD(Q7,14)," lbs"))) | S7: =IF(ISERROR(D7),"",IF(Dashboard!$E$11="","",IF($D7>Dashboard!$E$11,$D7-Dashboard!$E$11,IF($D7="","","Target 2 ACHIEVED!")))) | T7: =IF(S7="","",IF(S7="Target 2 ACHIEVED!","Target 2 ACHIEVED!",CONCATENATE(ROUNDDOWN(S7/14,0)," st ",MOD(S7,14)," lbs"))) | U7: =IF(Dashboard!$E$12="","",IF(ISERROR(D7),"",IF($D7>Dashboard!$E$12,$D7-Dashboard!$E$12,IF($D7="","","Target 3 ACHIEVED!")))) | V7: =IF(U7="","",IF(U7="Target 3 ACHIEVED!","Target 3 ACHIEVED!",CONCATENATE(ROUNDDOWN(U7/14,0)," st ",MOD(U7,14)," lbs"))) | W7: =IF(Dashboard!$E$13="","",IF(ISERROR(D7),"",IF($D7>Dashboard!$E$13,$D7-Dashboard!$E$13,IF($D7="","","Target 4 ACHIEVED!")))) | X7: =IF(W7="","",IF(W7="Target 4 ACHIEVED!","Target 4 ACHIEVED!",CONCATENATE(ROUNDDOWN(W7/14,0)," st ",MOD(W7,14)," lbs"))) | Y7: =IF(ISERROR(D7),"",IF(Dashboard!$E$14="","",IF($D7>Dashboard!$E$14,$D7-Dashboard!$E$14,IF($D7="","","Target ACHIEVED!")))) | Z7: =IF(Y7="","",IF(Y7="Target ACHIEVED!","Target ACHIEVED!",CONCATENATE(ROUNDDOWN(Y7/14,0)," st ",MOD(Y7,14)," lbs"))) | AA7: =IF((AND(M7<=202.5,M7>=196)),"14 STONE", IF((AND(M7<=195.5,M7>=189)),"13.5 STONE", IF((AND(M7<=188.5,M7>=182)),"13 STONE", IF((AND(M7<=181.5,M7>=175)),"12.5 STONE", IF((AND(M7<=174.5,M7>=168)),"12 STONE", IF((AND(M7<=167.5,M7>=161)),"11.5 STONE", IF((AND(M7<=160.5,M7>=154)),"11 STONE", IF((AND(M7<=153.5,M7>=147)),"10.5 STONE", IF((AND(M7<=146.5,M7>=140)),"10 STONE", IF((AND(M7<=139.5,M7>=133)),"9.5 STONE", IF((AND(M7<=132.5,M7>=126)),"9 STONE", IF((AND(M7<=125.5,M7>=119)),"8.5 STONE", IF((AND(M7<=118.5,M7>=112)),"8 STONE", IF((AND(M7<=111.5,M7>=105)),"7.5 STONE", IF((AND(M7<=104.5,M7>=98)),"7 STONE", IF((AND(M7<=97.5,M7>=91)),"6.5 STONE", IF((AND(M7<=90.5,M7>=84)),"6 STONE", IF((AND(M7<=83.5,M7>=77)),"5.5 STONE", IF((AND(M7<=76.5,M7>=70)),"5 STONE", IF((AND(M7<=69.5,M7>=63)),"4.5 STONE", IF((AND(M7<=62.5,M7>=56)),"4 STONE", IF((AND(M7<=55.5,M7>=49)),"3.5 STONE", IF((AND(M7<=48.5,M7>=42)),"3 STONE", IF((AND(M7<=41.5,M7>=35)),"2.5 STONE", IF((AND(M7<=34.5,M7>=28)),"2 STONE", IF((AND(M7<=27.5,M7>=21)),"1.5 STONE", IF((AND(M7<=20.5,M7>=14)),"1 STONE", IF((AND(M7<=13.5,M7>=7)),"0.5 STONE", IF((AND(M7<=6.5,M7>=0)),"", "")))))))))))))))))))))))))))))
A8: =IF(ISERROR(D8),"",A7+7) | D8: =IF(B8="",NA(),(B8*14)+C8) -> #N/A | E8: =IF(ISERROR(D8),"",D8) | F8: =IF(Dashboard!$E$9="","",Dashboard!$E$9) | G8: =IF(Dashboard!$E$10="","",Dashboard!$E$10) | H8: =IF(Dashboard!$E$11="","",Dashboard!$E$11) | I8: =IF(Dashboard!$E$12="","",Dashboard!$E$12) | J8: =IF(Dashboard!$E$13="","",Dashboard!$E$13) | K8: =IF(Dashboard!$E$14="","",Dashboard!$E$14) | L8: =IF(ISERROR(D8),"",D8-D7) | M8: =IF(B8="","",$D$2-D8) | N8: =IF(ISERROR(D8),"",(D8*703)/(Dashboard!$E$6*Dashboard!$E$6)) | O8: =IF(ISERROR(D8),"",IF(D8<=Dashboard!$P$5,"Club10 Achieved!",(Dashboard!$P$5-D8)*-1)) | P8: =IF(O8="","",IF(O8="Club10 Achieved!","Club10 Achieved!",CONCATENATE(ROUNDDOWN(O8/14,0)," st ",MOD(O8,14)," lbs"))) | Q8: =IF(Dashboard!$E$10="","",IF(ISERROR(D8),"",IF($D8>Dashboard!$E$10,$D8-Dashboard!$E$10,IF($D8="","","Target 1 ACHIEVED!")))) | R8: =IF(Q8="","",IF(Q8="Target 1 ACHIEVED!","Target 1 ACHIEVED!",CONCATENATE(ROUNDDOWN(Q8/14,0)," st ",MOD(Q8,14)," lbs"))) | S8: =IF(ISERROR(D8),"",IF(Dashboard!$E$11="","",IF($D8>Dashboard!$E$11,$D8-Dashboard!$E$11,IF($D8="","","Target 2 ACHIEVED!")))) | T8: =IF(S8="","",IF(S8="Target 2 ACHIEVED!","Target 2 ACHIEVED!",CONCATENATE(ROUNDDOWN(S8/14,0)," st ",MOD(S8,14)," lbs"))) | U8: =IF(Dashboard!$E$12="","",IF(ISERROR(D8),"",IF($D8>Dashboard!$E$12,$D8-Dashboard!$E$12,IF($D8="","","Target 3 ACHIEVED!")))) | V8: =IF(U8="","",IF(U8="Target 3 ACHIEVED!","Target 3 ACHIEVED!",CONCATENATE(ROUNDDOWN(U8/14,0)," st ",MOD(U8,14)," lbs"))) | W8: =IF(Dashboard!$E$13="","",IF(ISERROR(D8),"",IF($D8>Dashboard!$E$13,$D8-Dashboard!$E$13,IF($D8="","","Target 4 ACHIEVED!")))) | X8: =IF(W8="","",IF(W8="Target 4 ACHIEVED!","Target 4 ACHIEVED!",CONCATENATE(ROUNDDOWN(W8/14,0)," st ",MOD(W8,14)," lbs"))) | Y8: =IF(ISERROR(D8),"",IF(Dashboard!$E$14="","",IF($D8>Dashboard!$E$14,$D8-Dashboard!$E$14,IF($D8="","","Target ACHIEVED!")))) | Z8: =IF(Y8="","",IF(Y8="Target ACHIEVED!","Target ACHIEVED!",CONCATENATE(ROUNDDOWN(Y8/14,0)," st ",MOD(Y8,14)," lbs"))) | AA8: =IF((AND(M8<=202.5,M8>=196)),"14 STONE", IF((AND(M8<=195.5,M8>=189)),"13.5 STONE", IF((AND(M8<=188.5,M8>=182)),"13 STONE", IF((AND(M8<=181.5,M8>=175)),"12.5 STONE", IF((AND(M8<=174.5,M8>=168)),"12 STONE", IF((AND(M8<=167.5,M8>=161)),"11.5 STONE", IF((AND(M8<=160.5,M8>=154)),"11 STONE", IF((AND(M8<=153.5,M8>=147)),"10.5 STONE", IF((AND(M8<=146.5,M8>=140)),"10 STONE", IF((AND(M8<=139.5,M8>=133)),"9.5 STONE", IF((AND(M8<=132.5,M8>=126)),"9 STONE", IF((AND(M8<=125.5,M8>=119)),"8.5 STONE", IF((AND(M8<=118.5,M8>=112)),"8 STONE", IF((AND(M8<=111.5,M8>=105)),"7.5 STONE", IF((AND(M8<=104.5,M8>=98)),"7 STONE", IF((AND(M8<=97.5,M8>=91)),"6.5 STONE", IF((AND(M8<=90.5,M8>=84)),"6 STONE", IF((AND(M8<=83.5,M8>=77)),"5.5 STONE", IF((AND(M8<=76.5,M8>=70)),"5 STONE", IF((AND(M8<=69.5,M8>=63)),"4.5 STONE", IF((AND(M8<=62.5,M8>=56)),"4 STONE", IF((AND(M8<=55.5,M8>=49)),"3.5 STONE", IF((AND(M8<=48.5,M8>=42)),"3 STONE", IF((AND(M8<=41.5,M8>=35)),"2.5 STONE", IF((AND(M8<=34.5,M8>=28)),"2 STONE", IF((AND(M8<=27.5,M8>=21)),"1.5 STONE", IF((AND(M8<=20.5,M8>=14)),"1 STONE", IF((AND(M8<=13.5,M8>=7)),"0.5 STONE", IF((AND(M8<=6.5,M8>=0)),"", "")))))))))))))))))))))))))))))
A9: =IF(ISERROR(D9),"",A8+7) | D9: =IF(B9="",NA(),(B9*14)+C9) -> #N/A | E9: =IF(ISERROR(D9),"",D9) | F9: =IF(Dashboard!$E$9="","",Dashboard!$E$9) | G9: =IF(Dashboard!$E$10="","",Dashboard!$E$10) | H9: =IF(Dashboard!$E$11="","",Dashboard!$E$11) | I9: =IF(Dashboard!$E$12="","",Dashboard!$E$12) | J9: =IF(Dashboard!$E$13="","",Dashboard!$E$13) | K9: =IF(Dashboard!$E$14="","",Dashboard!$E$14) | L9: =IF(ISERROR(D9),"",D9-D8) | M9: =IF(B9="","",$D$2-D9) | N9: =IF(ISERROR(D9),"",(D9*703)/(Dashboard!$E$6*Dashboard!$E$6)) | O9: =IF(ISERROR(D9),"",IF(D9<=Dashboard!$P$5,"Club10 Achieved!",(Dashboard!$P$5-D9)*-1)) | P9: =IF(O9="","",IF(O9="Club10 Achieved!","Club10 Achieved!",CONCATENATE(ROUNDDOWN(O9/14,0)," st ",MOD(O9,14)," lbs"))) | Q9: =IF(Dashboard!$E$10="","",IF(ISERROR(D9),"",IF($D9>Dashboard!$E$10,$D9-Dashboard!$E$10,IF($D9="","","Target 1 ACHIEVED!")))) | R9: =IF(Q9="","",IF(Q9="Target 1 ACHIEVED!","Target 1 ACHIEVED!",CONCATENATE(ROUNDDOWN(Q9/14,0)," st ",MOD(Q9,14)," lbs"))) | S9: =IF(ISERROR(D9),"",IF(Dashboard!$E$11="","",IF($D9>Dashboard!$E$11,$D9-Dashboard!$E$11,IF($D9="","","Target 2 ACHIEVED!")))) | T9: =IF(S9="","",IF(S9="Target 2 ACHIEVED!","Target 2 ACHIEVED!",CONCATENATE(ROUNDDOWN(S9/14,0)," st ",MOD(S9,14)," lbs"))) | U9: =IF(Dashboard!$E$12="","",IF(ISERROR(D9),"",IF($D9>Dashboard!$E$12,$D9-Dashboard!$E$12,IF($D9="","","Target 3 ACHIEVED!")))) | V9: =IF(U9="","",IF(U9="Target 3 ACHIEVED!","Target 3 ACHIEVED!",CONCATENATE(ROUNDDOWN(U9/14,0)," st ",MOD(U9,14)," lbs"))) | W9: =IF(Dashboard!$E$13="","",IF(ISERROR(D9),"",IF($D9>Dashboard!$E$13,$D9-Dashboard!$E$13,IF($D9="","","Target 4 ACHIEVED!")))) | X9: =IF(W9="","",IF(W9="Target 4 ACHIEVED!","Target 4 ACHIEVED!",CONCATENATE(ROUNDDOWN(W9/14,0)," st ",MOD(W9,14)," lbs"))) | Y9: =IF(ISERROR(D9),"",IF(Dashboard!$E$14="","",IF($D9>Dashboard!$E$14,$D9-Dashboard!$E$14,IF($D9="","","Target ACHIEVED!")))) | Z9: =IF(Y9="","",IF(Y9="Target ACHIEVED!","Target ACHIEVED!",CONCATENATE(ROUNDDOWN(Y9/14,0)," st ",MOD(Y9,14)," lbs"))) | AA9: =IF((AND(M9<=202.5,M9>=196)),"14 STONE", IF((AND(M9<=195.5,M9>=189)),"13.5 STONE", IF((AND(M9<=188.5,M9>=182)),"13 STONE", IF((AND(M9<=181.5,M9>=175)),"12.5 STONE", IF((AND(M9<=174.5,M9>=168)),"12 STONE", IF((AND(M9<=167.5,M9>=161)),"11.5 STONE", IF((AND(M9<=160.5,M9>=154)),"11 STONE", IF((AND(M9<=153.5,M9>=147)),"10.5 STONE", IF((AND(M9<=146.5,M9>=140)),"10 STONE", IF((AND(M9<=139.5,M9>=133)),"9.5 STONE", IF((AND(M9<=132.5,M9>=126)),"9 STONE", IF((AND(M9<=125.5,M9>=119)),"8.5 STONE", IF((AND(M9<=118.5,M9>=112)),"8 STONE", IF((AND(M9<=111.5,M9>=105)),"7.5 STONE", IF((AND(M9<=104.5,M9>=98)),"7 STONE", IF((AND(M9<=97.5,M9>=91)),"6.5 STONE", IF((AND(M9<=90.5,M9>=84)),"6 STONE", IF((AND(M9<=83.5,M9>=77)),"5.5 STONE", IF((AND(M9<=76.5,M9>=70)),"5 STONE", IF((AND(M9<=69.5,M9>=63)),"4.5 STONE", IF((AND(M9<=62.5,M9>=56)),"4 STONE", IF((AND(M9<=55.5,M9>=49)),"3.5 STONE", IF((AND(M9<=48.5,M9>=42)),"3 STONE", IF((AND(M9<=41.5,M9>=35)),"2.5 STONE", IF((AND(M9<=34.5,M9>=28)),"2 STONE", IF((AND(M9<=27.5,M9>=21)),"1.5 STONE", IF((AND(M9<=20.5,M9>=14)),"1 STONE", IF((AND(M9<=13.5,M9>=7)),"0.5 STONE", IF((AND(M9<=6.5,M9>=0)),"", "")))))))))))))))))))))))))))))
A10: =IF(ISERROR(D10),"",A9+7) | D10: =IF(B10="",NA(),(B10*14)+C10) -> #N/A | E10: =IF(ISERROR(D10),"",D10) | F10: =IF(Dashboard!$E$9="","",Dashboard!$E$9) | G10: =IF(Dashboard!$E$10="","",Dashboard!$E$10) | H10: =IF(Dashboard!$E$11="","",Dashboard!$E$11) | I10: =IF(Dashboard!$E$12="","",Dashboard!$E$12) | J10: =IF(Dashboard!$E$13="","",Dashboard!$E$13) | K10: =IF(Dashboard!$E$14="","",Dashboard!$E$14) | L10: =IF(ISERROR(D10),"",D10-D9) | M10: =IF(B10="","",$D$2-D10) | N10: =IF(ISERROR(D10),"",(D10*703)/(Dashboard!$E$6*Dashboard!$E$6)) | O10: =IF(ISERROR(D10),"",IF(D10<=Dashboard!$P$5,"Club10 Achieved!",(Dashboard!$P$5-D10)*-1)) | P10: =IF(O10="","",IF(O10="Club10 Achieved!","Club10 Achieved!",CONCATENATE(ROUNDDOWN(O10/14,0)," st ",MOD(O10,14)," lbs"))) | Q10: =IF(Dashboard!$E$10="","",IF(ISERROR(D10),"",IF($D10>Dashboard!$E$10,$D10-Dashboard!$E$10,IF($D10="","","Target 1 ACHIEVED!")))) | R10: =IF(Q10="","",IF(Q10="Target 1 ACHIEVED!","Target 1 ACHIEVED!",CONCATENATE(ROUNDDOWN(Q10/14,0)," st ",MOD(Q10,14)," lbs"))) | S10: =IF(ISERROR(D10),"",IF(Dashboard!$E$11="","",IF($D10>Dashboard!$E$11,$D10-Dashboard!$E$11,IF($D10="","","Target 2 ACHIEVED!")))) | T10: =IF(S10="","",IF(S10="Target 2 ACHIEVED!","Target 2 ACHIEVED!",CONCATENATE(ROUNDDOWN(S10/14,0)," st ",MOD(S10,14)," lbs"))) | U10: =IF(Dashboard!$E$12="","",IF(ISERROR(D10),"",IF($D10>Dashboard!$E$12,$D10-Dashboard!$E$12,IF($D10="","","Target 3 ACHIEVED!")))) | V10: =IF(U10="","",IF(U10="Target 3 ACHIEVED!","Target 3 ACHIEVED!",CONCATENATE(ROUNDDOWN(U10/14,0)," st ",MOD(U10,14)," lbs"))) | W10: =IF(Dashboard!$E$13="","",IF(ISERROR(D10),"",IF($D10>Dashboard!$E$13,$D10-Dashboard!$E$13,IF($D10="","","Target 4 ACHIEVED!")))) | X10: =IF(W10="","",IF(W10="Target 4 ACHIEVED!","Target 4 ACHIEVED!",CONCATENATE(ROUNDDOWN(W10/14,0)," st ",MOD(W10,14)," lbs"))) | Y10: =IF(ISERROR(D10),"",IF(Dashboard!$E$14="","",IF($D10>Dashboard!$E$14,$D10-Dashboard!$E$14,IF($D10="","","Target ACHIEVED!")))) | Z10: =IF(Y10="","",IF(Y10="Target ACHIEVED!","Target ACHIEVED!",CONCATENATE(ROUNDDOWN(Y10/14,0)," st ",MOD(Y10,14)," lbs"))) | AA10: =IF((AND(M10<=202.5,M10>=196)),"14 STONE", IF((AND(M10<=195.5,M10>=189)),"13.5 STONE", IF((AND(M10<=188.5,M10>=182)),"13 STONE", IF((AND(M10<=181.5,M10>=175)),"12.5 STONE", IF((AND(M10<=174.5,M10>=168)),"12 STONE", IF((AND(M10<=167.5,M10>=161)),"11.5 STONE", IF((AND(M10<=160.5,M10>=154)),"11 STONE", IF((AND(M10<=153.5,M10>=147)),"10.5 STONE", IF((AND(M10<=146.5,M10>=140)),"10 STONE", IF((AND(M10<=139.5,M10>=133)),"9.5 STONE", IF((AND(M10<=132.5,M10>=126)),"9 STONE", IF((AND(M10<=125.5,M10>=119)),"8.5 STONE", IF((AND(M10<=118.5,M10>=112)),"8 STONE", IF((AND(M10<=111.5,M10>=105)),"7.5 STONE", IF((AND(M10<=104.5,M10>=98)),"7 STONE", IF((AND(M10<=97.5,M10>=91)),"6.5 STONE", IF((AND(M10<=90.5,M10>=84)),"6 STONE", IF((AND(M10<=83.5,M10>=77)),"5.5 STONE", IF((AND(M10<=76.5,M10>=70)),"5 STONE", IF((AND(M10<=69.5,M10>=63)),"4.5 STONE", IF((AND(M10<=62.5,M10>=56)),"4 STONE", IF((AND(M10<=55.5,M10>=49)),"3.5 STONE", IF((AND(M10<=48.5,M10>=42)),"3 STONE", IF((AND(M10<=41.5,M10>=35)),"2.5 STONE", IF((AND(M10<=34.5,M10>=28)),"2 STONE", IF((AND(M10<=27.5,M10>=21)),"1.5 STONE", IF((AND(M10<=20.5,M10>=14)),"1 STONE", IF((AND(M10<=13.5,M10>=7)),"0.5 STONE", IF((AND(M10<=6.5,M10>=0)),"", "")))))))))))))))))))))))))))))
A11: =IF(ISERROR(D11),"",A10+7) | D11: =IF(B11="",NA(),(B11*14)+C11) -> #N/A | E11: =IF(ISERROR(D11),"",D11) | F11: =IF(Dashboard!$E$9="","",Dashboard!$E$9) | G11: =IF(Dashboard!$E$10="","",Dashboard!$E$10) | H11: =IF(Dashboard!$E$11="","",Dashboard!$E$11) | I11: =IF(Dashboard!$E$12="","",Dashboard!$E$12) | J11: =IF(Dashboard!$E$13="","",Dashboard!$E$13) | K11: =IF(Dashboard!$E$14="","",Dashboard!$E$14) | L11: =IF(ISERROR(D11),"",D11-D10) | M11: =IF(B11="","",$D$2-D11) | N11: =IF(ISERROR(D11),"",(D11*703)/(Dashboard!$E$6*Dashboard!$E$6)) | O11: =IF(ISERROR(D11),"",IF(D11<=Dashboard!$P$5,"Club10 Achieved!",(Dashboard!$P$5-D11)*-1)) | P11: =IF(O11="","",IF(O11="Club10 Achieved!","Club10 Achieved!",CONCATENATE(ROUNDDOWN(O11/14,0)," st ",MOD(O11,14)," lbs"))) | Q11: =IF(Dashboard!$E$10="","",IF(ISERROR(D11),"",IF($D11>Dashboard!$E$10,$D11-Dashboard!$E$10,IF($D11="","","Target 1 ACHIEVED!")))) | R11: =IF(Q11="","",IF(Q11="Target 1 ACHIEVED!","Target 1 ACHIEVED!",CONCATENATE(ROUNDDOWN(Q11/14,0)," st ",MOD(Q11,14)," lbs"))) | S11: =IF(ISERROR(D11),"",IF(Dashboard!$E$11="","",IF($D11>Dashboard!$E$11,$D11-Dashboard!$E$11,IF($D11="","","Target 2 ACHIEVED!")))) | T11: =IF(S11="","",IF(S11="Target 2 ACHIEVED!","Target 2 ACHIEVED!",CONCATENATE(ROUNDDOWN(S11/14,0)," st ",MOD(S11,14)," lbs"))) | U11: =IF(Dashboard!$E$12="","",IF(ISERROR(D11),"",IF($D11>Dashboard!$E$12,$D11-Dashboard!$E$12,IF($D11="","","Target 3 ACHIEVED!")))) | V11: =IF(U11="","",IF(U11="Target 3 ACHIEVED!","Target 3 ACHIEVED!",CONCATENATE(ROUNDDOWN(U11/14,0)," st ",MOD(U11,14)," lbs"))) | W11: =IF(Dashboard!$E$13="","",IF(ISERROR(D11),"",IF($D11>Dashboard!$E$13,$D11-Dashboard!$E$13,IF($D11="","","Target 4 ACHIEVED!")))) | X11: =IF(W11="","",IF(W11="Target 4 ACHIEVED!","Target 4 ACHIEVED!",CONCATENATE(ROUNDDOWN(W11/14,0)," st ",MOD(W11,14)," lbs"))) | Y11: =IF(ISERROR(D11),"",IF(Dashboard!$E$14="","",IF($D11>Dashboard!$E$14,$D11-Dashboard!$E$14,IF($D11="","","Target ACHIEVED!")))) | Z11: =IF(Y11="","",IF(Y11="Target ACHIEVED!","Target ACHIEVED!",CONCATENATE(ROUNDDOWN(Y11/14,0)," st ",MOD(Y11,14)," lbs"))) | AA11: =IF((AND(M11<=202.5,M11>=196)),"14 STONE", IF((AND(M11<=195.5,M11>=189)),"13.5 STONE", IF((AND(M11<=188.5,M11>=182)),"13 STONE", IF((AND(M11<=181.5,M11>=175)),"12.5 STONE", IF((AND(M11<=174.5,M11>=168)),"12 STONE", IF((AND(M11<=167.5,M11>=161)),"11.5 STONE", IF((AND(M11<=160.5,M11>=154)),"11 STONE", IF((AND(M11<=153.5,M11>=147)),"10.5 STONE", IF((AND(M11<=146.5,M11>=140)),"10 STONE", IF((AND(M11<=139.5,M11>=133)),"9.5 STONE", IF((AND(M11<=132.5,M11>=126)),"9 STONE", IF((AND(M11<=125.5,M11>=119)),"8.5 STONE", IF((AND(M11<=118.5,M11>=112)),"8 STONE", IF((AND(M11<=111.5,M11>=105)),"7.5 STONE", IF((AND(M11<=104.5,M11>=98)),"7 STONE", IF((AND(M11<=97.5,M11>=91)),"6.5 STONE", IF((AND(M11<=90.5,M11>=84)),"6 STONE", IF((AND(M11<=83.5,M11>=77)),"5.5 STONE", IF((AND(M11<=76.5,M11>=70)),"5 STONE", IF((AND(M11<=69.5,M11>=63)),"4.5 STONE", IF((AND(M11<=62.5,M11>=56)),"4 STONE", IF((AND(M11<=55.5,M11>=49)),"3.5 STONE", IF((AND(M11<=48.5,M11>=42)),"3 STONE", IF((AND(M11<=41.5,M11>=35)),"2.5 STONE", IF((AND(M11<=34.5,M11>=28)),"2 STONE", IF((AND(M11<=27.5,M11>=21)),"1.5 STONE", IF((AND(M11<=20.5,M11>=14)),"1 STONE", IF((AND(M11<=13.5,M11>=7)),"0.5 STONE", IF((AND(M11<=6.5,M11>=0)),"", "")))))))))))))))))))))))))))))
A12: =IF(ISERROR(D12),"",A11+7) | D12: =IF(B12="",NA(),(B12*14)+C12) -> #N/A | E12: =IF(ISERROR(D12),"",D12) | F12: =IF(Dashboard!$E$9="","",Dashboard!$E$9) | G12: =IF(Dashboard!$E$10="","",Dashboard!$E$10) | H12: =IF(Dashboard!$E$11="","",Dashboard!$E$11) | I12: =IF(Dashboard!$E$12="","",Dashboard!$E$12) | J12: =IF(Dashboard!$E$13="","",Dashboard!$E$13) | K12: =IF(Dashboard!$E$14="","",Dashboard!$E$14) | L12: =IF(ISERROR(D12),"",D12-D11) | M12: =IF(B12="","",$D$2-D12) | N12: =IF(ISERROR(D12),"",(D12*703)/(Dashboard!$E$6*Dashboard!$E$6)) | O12: =IF(ISERROR(D12),"",IF(D12<=Dashboard!$P$5,"Club10 Achieved!",(Dashboard!$P$5-D12)*-1)) | P12: =IF(O12="","",IF(O12="Club10 Achieved!","Club10 Achieved!",CONCATENATE(ROUNDDOWN(O12/14,0)," st ",MOD(O12,14)," lbs"))) | Q12: =IF(Dashboard!$E$10="","",IF(ISERROR(D12),"",IF($D12>Dashboard!$E$10,$D12-Dashboard!$E$10,IF($D12="","","Target 1 ACHIEVED!")))) | R12: =IF(Q12="","",IF(Q12="Target 1 ACHIEVED!","Target 1 ACHIEVED!",CONCATENATE(ROUNDDOWN(Q12/14,0)," st ",MOD(Q12,14)," lbs"))) | S12: =IF(ISERROR(D12),"",IF(Dashboard!$E$11="","",IF($D12>Dashboard!$E$11,$D12-Dashboard!$E$11,IF($D12="","","Target 2 ACHIEVED!")))) | T12: =IF(S12="","",IF(S12="Target 2 ACHIEVED!","Target 2 ACHIEVED!",CONCATENATE(ROUNDDOWN(S12/14,0)," st ",MOD(S12,14)," lbs"))) | U12: =IF(Dashboard!$E$12="","",IF(ISERROR(D12),"",IF($D12>Dashboard!$E$12,$D12-Dashboard!$E$12,IF($D12="","","Target 3 ACHIEVED!")))) | V12: =IF(U12="","",IF(U12="Target 3 ACHIEVED!","Target 3 ACHIEVED!",CONCATENATE(ROUNDDOWN(U12/14,0)," st ",MOD(U12,14)," lbs"))) | W12: =IF(Dashboard!$E$13="","",IF(ISERROR(D12),"",IF($D12>Dashboard!$E$13,$D12-Dashboard!$E$13,IF($D12="","","Target 4 ACHIEVED!")))) | X12: =IF(W12="","",IF(W12="Target 4 ACHIEVED!","Target 4 ACHIEVED!",CONCATENATE(ROUNDDOWN(W12/14,0)," st ",MOD(W12,14)," lbs"))) | Y12: =IF(ISERROR(D12),"",IF(Dashboard!$E$14="","",IF($D12>Dashboard!$E$14,$D12-Dashboard!$E$14,IF($D12="","","Target ACHIEVED!")))) | Z12: =IF(Y12="","",IF(Y12="Target ACHIEVED!","Target ACHIEVED!",CONCATENATE(ROUNDDOWN(Y12/14,0)," st ",MOD(Y12,14)," lbs"))) | AA12: =IF((AND(M12<=202.5,M12>=196)),"14 STONE", IF((AND(M12<=195.5,M12>=189)),"13.5 STONE", IF((AND(M12<=188.5,M12>=182)),"13 STONE", IF((AND(M12<=181.5,M12>=175)),"12.5 STONE", IF((AND(M12<=174.5,M12>=168)),"12 STONE", IF((AND(M12<=167.5,M12>=161)),"11.5 STONE", IF((AND(M12<=160.5,M12>=154)),"11 STONE", IF((AND(M12<=153.5,M12>=147)),"10.5 STONE", IF((AND(M12<=146.5,M12>=140)),"10 STONE", IF((AND(M12<=139.5,M12>=133)),"9.5 STONE", IF((AND(M12<=132.5,M12>=126)),"9 STONE", IF((AND(M12<=125.5,M12>=119)),"8.5 STONE", IF((AND(M12<=118.5,M12>=112)),"8 STONE", IF((AND(M12<=111.5,M12>=105)),"7.5 STONE", IF((AND(M12<=104.5,M12>=98)),"7 STONE", IF((AND(M12<=97.5,M12>=91)),"6.5 STONE", IF((AND(M12<=90.5,M12>=84)),"6 STONE", IF((AND(M12<=83.5,M12>=77)),"5.5 STONE", IF((AND(M12<=76.5,M12>=70)),"5 STONE", IF((AND(M12<=69.5,M12>=63)),"4.5 STONE", IF((AND(M12<=62.5,M12>=56)),"4 STONE", IF((AND(M12<=55.5,M12>=49)),"3.5 STONE", IF((AND(M12<=48.5,M12>=42)),"3 STONE", IF((AND(M12<=41.5,M12>=35)),"2.5 STONE", IF((AND(M12<=34.5,M12>=28)),"2 STONE", IF((AND(M12<=27.5,M12>=21)),"1.5 STONE", IF((AND(M12<=20.5,M12>=14)),"1 STONE", IF((AND(M12<=13.5,M12>=7)),"0.5 STONE", IF((AND(M12<=6.5,M12>=0)),"", "")))))))))))))))))))))))))))))
A13: =IF(ISERROR(D13),"",A12+7) | D13: =IF(B13="",NA(),(B13*14)+C13) -> #N/A | E13: =IF(ISERROR(D13),"",D13) | F13: =IF(Dashboard!$E$9="","",Dashboard!$E$9) | G13: =IF(Dashboard!$E$10="","",Dashboard!$E$10) | H13: =IF(Dashboard!$E$11="","",Dashboard!$E$11) | I13: =IF(Dashboard!$E$12="","",Dashboard!$E$12) | J13: =IF(Dashboard!$E$13="","",Dashboard!$E$13) | K13: =IF(Dashboard!$E$14="","",Dashboard!$E$14) | L13: =IF(ISERROR(D13),"",D13-D12) | M13: =IF(B13="","",$D$2-D13) | N13: =IF(ISERROR(D13),"",(D13*703)/(Dashboard!$E$6*Dashboard!$E$6)) | O13: =IF(ISERROR(D13),"",IF(D13<=Dashboard!$P$5,"Club10 Achieved!",(Dashboard!$P$5-D13)*-1)) | P13: =IF(O13="","",IF(O13="Club10 Achieved!","Club10 Achieved!",CONCATENATE(ROUNDDOWN(O13/14,0)," st ",MOD(O13,14)," lbs"))) | Q13: =IF(Dashboard!$E$10="","",IF(ISERROR(D13),"",IF($D13>Dashboard!$E$10,$D13-Dashboard!$E$10,IF($D13="","","Target 1 ACHIEVED!")))) | R13: =IF(Q13="","",IF(Q13="Target 1 ACHIEVED!","Target 1 ACHIEVED!",CONCATENATE(ROUNDDOWN(Q13/14,0)," st ",MOD(Q13,14)," lbs"))) | S13: =IF(ISERROR(D13),"",IF(Dashboard!$E$11="","",IF($D13>Dashboard!$E$11,$D13-Dashboard!$E$11,IF($D13="","","Target 2 ACHIEVED!")))) | T13: =IF(S13="","",IF(S13="Target 2 ACHIEVED!","Target 2 ACHIEVED!",CONCATENATE(ROUNDDOWN(S13/14,0)," st ",MOD(S13,14)," lbs"))) | U13: =IF(Dashboard!$E$12="","",IF(ISERROR(D13),"",IF($D13>Dashboard!$E$12,$D13-Dashboard!$E$12,IF($D13="","","Target 3 ACHIEVED!")))) | V13: =IF(U13="","",IF(U13="Target 3 ACHIEVED!","Target 3 ACHIEVED!",CONCATENATE(ROUNDDOWN(U13/14,0)," st ",MOD(U13,14)," lbs"))) | W13: =IF(Dashboard!$E$13="","",IF(ISERROR(D13),"",IF($D13>Dashboard!$E$13,$D13-Dashboard!$E$13,IF($D13="","","Target 4 ACHIEVED!")))) | X13: =IF(W13="","",IF(W13="Target 4 ACHIEVED!","Target 4 ACHIEVED!",CONCATENATE(ROUNDDOWN(W13/14,0)," st ",MOD(W13,14)," lbs"))) | Y13: =IF(ISERROR(D13),"",IF(Dashboard!$E$14="","",IF($D13>Dashboard!$E$14,$D13-Dashboard!$E$14,IF($D13="","","Target ACHIEVED!")))) | Z13: =IF(Y13="","",IF(Y13="Target ACHIEVED!","Target ACHIEVED!",CONCATENATE(ROUNDDOWN(Y13/14,0)," st ",MOD(Y13,14)," lbs"))) | AA13: =IF((AND(M13<=202.5,M13>=196)),"14 STONE", IF((AND(M13<=195.5,M13>=189)),"13.5 STONE", IF((AND(M13<=188.5,M13>=182)),"13 STONE", IF((AND(M13<=181.5,M13>=175)),"12.5 STONE", IF((AND(M13<=174.5,M13>=168)),"12 STONE", IF((AND(M13<=167.5,M13>=161)),"11.5 STONE", IF((AND(M13<=160.5,M13>=154)),"11 STONE", IF((AND(M13<=153.5,M13>=147)),"10.5 STONE", IF((AND(M13<=146.5,M13>=140)),"10 STONE", IF((AND(M13<=139.5,M13>=133)),"9.5 STONE", IF((AND(M13<=132.5,M13>=126)),"9 STONE", IF((AND(M13<=125.5,M13>=119)),"8.5 STONE", IF((AND(M13<=118.5,M13>=112)),"8 STONE", IF((AND(M13<=111.5,M13>=105)),"7.5 STONE", IF((AND(M13<=104.5,M13>=98)),"7 STONE", IF((AND(M13<=97.5,M13>=91)),"6.5 STONE", IF((AND(M13<=90.5,M13>=84)),"6 STONE", IF((AND(M13<=83.5,M13>=77)),"5.5 STONE", IF((AND(M13<=76.5,M13>=70)),"5 STONE", IF((AND(M13<=69.5,M13>=63)),"4.5 STONE", IF((AND(M13<=62.5,M13>=56)),"4 STONE", IF((AND(M13<=55.5,M13>=49)),"3.5 STONE", IF((AND(M13<=48.5,M13>=42)),"3 STONE", IF((AND(M13<=41.5,M13>=35)),"2.5 STONE", IF((AND(M13<=34.5,M13>=28)),"2 STONE", IF((AND(M13<=27.5,M13>=21)),"1.5 STONE", IF((AND(M13<=20.5,M13>=14)),"1 STONE", IF((AND(M13<=13.5,M13>=7)),"0.5 STONE", IF((AND(M13<=6.5,M13>=0)),"", "")))))))))))))))))))))))))))))
A14: =IF(ISERROR(D14),"",A13+7) | D14: =IF(B14="",NA(),(B14*14)+C14) -> #N/A | E14: =IF(ISERROR(D14),"",D14) | F14: =IF(Dashboard!$E$9="","",Dashboard!$E$9) | G14: =IF(Dashboard!$E$10="","",Dashboard!$E$10) | H14: =IF(Dashboard!$E$11="","",Dashboard!$E$11) | I14: =IF(Dashboard!$E$12="","",Dashboard!$E$12) | J14: =IF(Dashboard!$E$13="","",Dashboard!$E$13) | K14: =IF(Dashboard!$E$14="","",Dashboard!$E$14) | L14: =IF(ISERROR(D14),"",D14-D13) | M14: =IF(B14="","",$D$2-D14) | N14: =IF(ISERROR(D14),"",(D14*703)/(Dashboard!$E$6*Dashboard!$E$6)) | O14: =IF(ISERROR(D14),"",IF(D14<=Dashboard!$P$5,"Club10 Achieved!",(Dashboard!$P$5-D14)*-1)) | P14: =IF(O14="","",IF(O14="Club10 Achieved!","Club10 Achieved!",CONCATENATE(ROUNDDOWN(O14/14,0)," st ",MOD(O14,14)," lbs"))) | Q14: =IF(Dashboard!$E$10="","",IF(ISERROR(D14),"",IF($D14>Dashboard!$E$10,$D14-Dashboard!$E$10,IF($D14="","","Target 1 ACHIEVED!")))) | R14: =IF(Q14="","",IF(Q14="Target 1 ACHIEVED!","Target 1 ACHIEVED!",CONCATENATE(ROUNDDOWN(Q14/14,0)," st ",MOD(Q14,14)," lbs"))) | S14: =IF(ISERROR(D14),"",IF(Dashboard!$E$11="","",IF($D14>Dashboard!$E$11,$D14-Dashboard!$E$11,IF($D14="","","Target 2 ACHIEVED!")))) | T14: =IF(S14="","",IF(S14="Target 2 ACHIEVED!","Target 2 ACHIEVED!",CONCATENATE(ROUNDDOWN(S14/14,0)," st ",MOD(S14,14)," lbs"))) | U14: =IF(Dashboard!$E$12="","",IF(ISERROR(D14),"",IF($D14>Dashboard!$E$12,$D14-Dashboard!$E$12,IF($D14="","","Target 3 ACHIEVED!")))) | V14: =IF(U14="","",IF(U14="Target 3 ACHIEVED!","Target 3 ACHIEVED!",CONCATENATE(ROUNDDOWN(U14/14,0)," st ",MOD(U14,14)," lbs"))) | W14: =IF(Dashboard!$E$13="","",IF(ISERROR(D14),"",IF($D14>Dashboard!$E$13,$D14-Dashboard!$E$13,IF($D14="","","Target 4 ACHIEVED!")))) | X14: =IF(W14="","",IF(W14="Target 4 ACHIEVED!","Target 4 ACHIEVED!",CONCATENATE(ROUNDDOWN(W14/14,0)," st ",MOD(W14,14)," lbs"))) | Y14: =IF(ISERROR(D14),"",IF(Dashboard!$E$14="","",IF($D14>Dashboard!$E$14,$D14-Dashboard!$E$14,IF($D14="","","Target ACHIEVED!")))) | Z14: =IF(Y14="","",IF(Y14="Target ACHIEVED!","Target ACHIEVED!",CONCATENATE(ROUNDDOWN(Y14/14,0)," st ",MOD(Y14,14)," lbs"))) | AA14: =IF((AND(M14<=202.5,M14>=196)),"14 STONE", IF((AND(M14<=195.5,M14>=189)),"13.5 STONE", IF((AND(M14<=188.5,M14>=182)),"13 STONE", IF((AND(M14<=181.5,M14>=175)),"12.5 STONE", IF((AND(M14<=174.5,M14>=168)),"12 STONE", IF((AND(M14<=167.5,M14>=161)),"11.5 STONE", IF((AND(M14<=160.5,M14>=154)),"11 STONE", IF((AND(M14<=153.5,M14>=147)),"10.5 STONE", IF((AND(M14<=146.5,M14>=140)),"10 STONE", IF((AND(M14<=139.5,M14>=133)),"9.5 STONE", IF((AND(M14<=132.5,M14>=126)),"9 STONE", IF((AND(M14<=125.5,M14>=119)),"8.5 STONE", IF((AND(M14<=118.5,M14>=112)),"8 STONE", IF((AND(M14<=111.5,M14>=105)),"7.5 STONE", IF((AND(M14<=104.5,M14>=98)),"7 STONE", IF((AND(M14<=97.5,M14>=91)),"6.5 STONE", IF((AND(M14<=90.5,M14>=84)),"6 STONE", IF((AND(M14<=83.5,M14>=77)),"5.5 STONE", IF((AND(M14<=76.5,M14>=70)),"5 STONE", IF((AND(M14<=69.5,M14>=63)),"4.5 STONE", IF((AND(M14<=62.5,M14>=56)),"4 STONE", IF((AND(M14<=55.5,M14>=49)),"3.5 STONE", IF((AND(M14<=48.5,M14>=42)),"3 STONE", IF((AND(M14<=41.5,M14>=35)),"2.5 STONE", IF((AND(M14<=34.5,M14>=28)),"2 STONE", IF((AND(M14<=27.5,M14>=21)),"1.5 STONE", IF((AND(M14<=20.5,M14>=14)),"1 STONE", IF((AND(M14<=13.5,M14>=7)),"0.5 STONE", IF((AND(M14<=6.5,M14>=0)),"", "")))))))))))))))))))))))))))))
... A100: =IF(ISERROR(D100),"",A99+7) | D100: =IF(B100="",NA(),(B100*14)+C100) -> #N/A | E100: =IF(ISERROR(D100),"",D100) | F100: =IF(Dashboard!$E$9="","",Dashboard!$E$9) | G100: =IF(Dashboard!$E$10="","",Dashboard!$E$10) | H100: =IF(Dashboard!$E$11="","",Dashboard!$E$11) | I100: =IF(Dashboard!$E$12="","",Dashboard!$E$12) | J100: =IF(Dashboard!$E$13="","",Dashboard!$E$13) | K100: =IF(Dashboard!$E$14="","",Dashboard!$E$14) | L100: =IF(ISERROR(D100),"",D100-D99) | M100: =IF(B100="","",$D$2-D100) | N100: =IF(ISERROR(D100),"",(D100*703)/(Dashboard!$E$6*Dashboard!$E$6)) | O100: =IF(ISERROR(D100),"",IF(D100<=Dashboard!$P$5,"Club10 Achieved!",(Dashboard!$P$5-D100)*-1)) | P100: =IF(O100="","",IF(O100="Club10 Achieved!","Club10 Achieved!",CONCATENATE(ROUNDDOWN(O100/14,0)," st ",MOD(O100,14)," lbs"))) | Q100: =IF(Dashboard!$E$10="","",IF(ISERROR(D100),"",IF($D100>Dashboard!$E$10,$D100-Dashboard!$E$10,IF($D100="","","Target 1 ACHIEVED!")))) | R100: =IF(Q100="","",IF(Q100="Target 1 ACHIEVED!","Target 1 ACHIEVED!",CONCATENATE(ROUNDDOWN(Q100/14,0)," st ",MOD(Q100,14)," lbs"))) | S100: =IF(ISERROR(D100),"",IF(Dashboard!$E$11="","",IF($D100>Dashboard!$E$11,$D100-Dashboard!$E$11,IF($D100="","","Target 2 ACHIEVED!")))) | T100: =IF(S100="","",IF(S100="Target 2 ACHIEVED!","Target 2 ACHIEVED!",CONCATENATE(ROUNDDOWN(S100/14,0)," st ",MOD(S100,14)," lbs"))) | U100: =IF(Dashboard!$E$12="","",IF(ISERROR(D100),"",IF($D100>Dashboard!$E$12,$D100-Dashboard!$E$12,IF($D100="","","Target 3 ACHIEVED!")))) | V100: =IF(U100="","",IF(U100="Target 3 ACHIEVED!","Target 3 ACHIEVED!",CONCATENATE(ROUNDDOWN(U100/14,0)," st ",MOD(U100,14)," lbs"))) | W100: =IF(Dashboard!$E$13="","",IF(ISERROR(D100),"",IF($D100>Dashboard!$E$13,$D100-Dashboard!$E$13,IF($D100="","","Target 4 ACHIEVED!")))) | X100: =IF(W100="","",IF(W100="Target 4 ACHIEVED!","Target 4 ACHIEVED!",CONCATENATE(ROUNDDOWN(W100/14,0)," st ",MOD(W100,14)," lbs"))) | Y100: =IF(ISERROR(D100),"",IF(Dashboard!$E$14="","",IF($D100>Dashboard!$E$14,$D100-Dashboard!$E$14,IF($D100="","","Target ACHIEVED!")))) | Z100: =IF(Y100="","",IF(Y100="Target ACHIEVED!","Target ACHIEVED!",CONCATENATE(ROUNDDOWN(Y100/14,0)," st ",MOD(Y100,14)," lbs"))) | AA100: =IF((AND(M100<=202.5,M100>=196)),"14 STONE", IF((AND(M100<=195.5,M100>=189)),"13.5 STONE", IF((AND(M100<=188.5,M100>=182)),"13 STONE", IF((AND(M100<=181.5,M100>=175)),"12.5 STONE", IF((AND(M100<=174.5,M100>=168)),"12 STONE", IF((AND(M100<=167.5,M100>=161)),"11.5 STONE", IF((AND(M100<=160.5,M100>=154)),"11 STONE", IF((AND(M100<=153.5,M100>=147)),"10.5 STONE", IF((AND(M100<=146.5,M100>=140)),"10 STONE", IF((AND(M100<=139.5,M100>=133)),"9.5 STONE", IF((AND(M100<=132.5,M100>=126)),"9 STONE", IF((AND(M100<=125.5,M100>=119)),"8.5 STONE", IF((AND(M100<=118.5,M100>=112)),"8 STONE", IF((AND(M100<=111.5,M100>=105)),"7.5 STONE", IF((AND(M100<=104.5,M100>=98)),"7 STONE", IF((AND(M100<=97.5,M100>=91)),"6.5 STONE", IF((AND(M100<=90.5,M100>=84)),"6 STONE", IF((AND(M100<=83.5,M100>=77)),"5.5 STONE", IF((AND(M100<=76.5,M100>=70)),"5 STONE", IF((AND(M100<=69.5,M100>=63)),"4.5 STONE", IF((AND(M100<=62.5,M100>=56)),"4 STONE", IF((AND(M100<=55.5,M100>=49)),"3.5 STONE", IF((AND(M100<=48.5,M100>=42)),"3 STONE", IF((AND(M100<=41.5,M100>=35)),"2.5 STONE", IF((AND(M100<=34.5,M100>=28)),"2 STONE", IF((AND(M100<=27.5,M100>=21)),"1.5 STONE", IF((AND(M100<=20.5,M100>=14)),"1 STONE", IF((AND(M100<=13.5,M100>=7)),"0.5 STONE", IF((AND(M100<=6.5,M100>=0)),"", "")))))))))))))))))))))))))))))

Sheet Measurements Record
A1: Date | B1: =IF(Dashboard!$D$35="","",Dashboard!$D$35) -> Neck | C1: =IF(Dashboard!$D$36="","",Dashboard!$D$36) -> Chest | D1: =IF(Dashboard!$D$37="","",Dashboard!$D$37) -> Bicept | E1: =IF(Dashboard!$D$38="","",Dashboard!$D$38) -> Wrist | F1: =IF(Dashboard!$D$39="","",Dashboard!$D$39) -> Hips | G1: =IF(Dashboard!$D$40="","",Dashboard!$D$40) -> Thigh | H1: =IF(Dashboard!$D$41="","",Dashboard!$D$41) -> Calf | I1: =IF(Dashboard!$D$42="","",Dashboard!$D$42) -> Waist
A2: Column1 | B2: Neck | C2: Chest | D2: Bicept | E2: Wrist | F2: Hips | G2: Thigh | H2: Calf | I2: Waist
A3: =IF(Dashboard!E5="","",Dashboard!E5) | B3: =IF(Dashboard!$E$35="","",Dashboard!$E$35) | C3: =IF(Dashboard!$E$36="","",Dashboard!$E$36) | D3: =IF(Dashboard!$E$37="","",Dashboard!$E$37) | E3: =IF(Dashboard!$E$38="","",Dashboard!$E$38) | F3: =IF(Dashboard!$E$39="","",Dashboard!$E$39) | G3: =IF(Dashboard!$E$40="","",Dashboard!$E$40) | H3: =IF(Dashboard!$E$41="","",Dashboard!$E$41) | I3: =IF(Dashboard!$E$42="","",Dashboard!$E$42)
A4: =IF(A3="","",IF(Dashboard!E43="","",A3+(Dashboard!$E$43*7)))
A5: =IF(A4="","",A4+(Dashboard!$E$43*7))
A6: =IF(A5="","",A5+(Dashboard!$E$43*7))
A7: =IF(A6="","",A6+(Dashboard!$E$43*7))
A8: =IF(A7="","",A7+(Dashboard!$E$43*7))
A9: =IF(A8="","",A8+(Dashboard!$E$43*7))
A10: =IF(A9="","",A9+(Dashboard!$E$43*7))
A11: =IF(A10="","",A10+(Dashboard!$E$43*7))

Sheet BMI Info
B2: Body Mass Index
B4: BMI | C4: Rating | D4: Weight in lbs | E4: Weight in st
B5: =IF(Dashboard!$E$6="","",IF(D5="","",(D5*703)/(Dashboard!$E$6*Dashboard!$E$6))) | C5: =IF(B5="","",VLOOKUP(B5,$B$11:$C$14,2)) | D5: =Dashboard!E7 | E5: =IF(D5="","",CONCATENATE(ROUNDDOWN(D5/14,0), "st ", MOD(D5,14), "lbs"))
B6: =IF(Dashboard!$E$6="","",IF(D6="","",(D6*703)/(Dashboard!$E$6*Dashboard!$E$6))) | C6: =IF(B6="","",VLOOKUP(B6,$B$11:$C$14,2)) | D6: =Dashboard!E14 | E6: =IF(D6="","",CONCATENATE(ROUNDDOWN(D6/14,0), "st ", MOD(D6,14), "lbs"))
B8: 19 | C8: Minimum Healthy | D8: =IF(Dashboard!$E$6="","",ROUNDDOWN((((Dashboard!$E$6*Dashboard!$E$6)/703)*B8)+7,0)) | E8: =IF(D8="","",CONCATENATE(ROUNDDOWN(D8/14,0), "st ", MOD(D8,14), "lbs"))
B9: 25 | C9: Maximum Healthy | D9: =IF(Dashboard!$E$6="","",ROUNDDOWN((((Dashboard!$E$6*Dashboard!$E$6)/703)*B9),0)) | E9: =IF(D9="","",CONCATENATE(ROUNDDOWN(D9/14,0), "st ", MOD(D9,14), "lbs"))
E10: =IF(D10="","",CONCATENATE(ROUNDDOWN(D10/14,0), " st ", MOD(D10,14), " lbs"))
B11: 18.99 | C11: Underweight | D11: =IF(D8="","",D8-1) | E11: =IF(D11="","",CONCATENATE(ROUNDDOWN(D11/14,0), " st ", MOD(D11,14), " lbs"))
B12: 19.01 | C12: Normal | D12: =IF(D8="","",D8+1) | E12: =IF(D12="","",CONCATENATE(ROUNDDOWN(D12/14,0), " st ", MOD(D12,14), " lbs"))
B13: 25.01 | C13: Overweight | D13: =IF(D9="","",D9+1) | E13: =IF(D13="","",CONCATENATE(ROUNDDOWN(D13/14,0), " st ", MOD(D13,14), " lbs"))
B14: 30.01 | C14: Obese | D14: =IF(Dashboard!$E$6="","",ROUNDDOWN((((Dashboard!$E$6*Dashboard!$E$6)/703)*B14),0)) | E14: =IF(D14="","",CONCATENATE(ROUNDDOWN(D14/14,0), " st ", MOD(D14,14), " lbs"))
