Workbook

Sheet Pupils
A1: Pupil Name | B1: Year Group | C1: Form | D1: Total spent on pupil | E1: =Costs!A8 -> Support 1 | F1: =Costs!A9 -> Support 2 | G1: =Costs!A10 -> Support 3 | H1: =Costs!A11 -> Support 4 | I1: =Costs!A12 -> Support 5 | J1: =Costs!A13 -> Support 6 | K1: =Costs!A14 -> Support 7 | L1: =Costs!A15 -> Support 8 | M1: =Costs!A16 -> Support 9 | N1: =Costs!A17 -> Support 10 | O1: =Costs!A18 -> Support 11 | P1: =Costs!A19 -> Support 12 | Q1: =Costs!A20 -> Support 13 | R1: =Costs!A21 -> Support 14 | S1: =Costs!A22 -> Support 15 | T1: =Costs!A23 -> Support 16 | U1: =Costs!A24 -> Support 17 | V1: =Costs!A25 -> Support 18 | W1: =Costs!A26 -> Support 19 | X1: =Costs!A27 -> Support 20
A2: Cost for Support | E2: 30 | F2: 10 | G2: 90 | H2: 150 | I2: 40 | J2: 30 | K2: 10 | L2: 80 | M2: 30 | N2: 70 | O2: 150 | P2: 130 | Q2: 140 | R2: 160 | S2: 20 | T2: 110 | U2: 160 | V2: 30 | W2: 50 | X2: 110
A3: Test pupil 1 | D3: =SUMIF($E3:$X3,"x",$E$2:$X$2) -> 30 | E3: x
A4: Test pupil 2 | D4: =SUMIF($E4:$X4,"x",$E$2:$X$2) -> 0
A5: Test pupil 3 | D5: =SUMIF($E5:$X5,"x",$E$2:$X$2) -> 0
A6: Test pupil 4 | D6: =SUMIF($E6:$X6,"x",$E$2:$X$2) -> 30 | E6: x
A7: Test pupil 5 | D7: =SUMIF($E7:$X7,"x",$E$2:$X$2) -> 10 | F7: x
A8: Test pupil 6 | D8: =SUMIF($E8:$X8,"x",$E$2:$X$2) -> 120 | E8: x | G8: x
A9: Test pupil 7 | D9: =SUMIF($E9:$X9,"x",$E$2:$X$2) -> 0
A10: Test pupil 8 | D10: =SUMIF($E10:$X10,"x",$E$2:$X$2) -> 60 | E10: x | J10: x
A11: Test pupil 9 | D11: =SUMIF($E11:$X11,"x",$E$2:$X$2) -> 10 | F11: x

Sheet Costs
A1: Number of pupils | B1: =COUNTIF(Pupils!A3:A5001,"*") -> 9
A2: Cost per pupil | B2: =B3/B1 -> 11111.111
A3: Total funding | B3: 100000
A4: Total funding allocated | B4: =SUM(B8:B27) -> 6259
A5: Total funding remaining | B5: =B3-B4 -> 93741
A7: Type of support | B7: Cost | D7: Number of Pupils | E7: Cost per pupil
A8: Support 1 | B8: 2100 | D8: =COUNTIF(Pupils!E3:E5001,"x") -> 4 | E8: =B8/D8 -> 525
A9: Support 2 | B9: 100 | D9: =COUNTIF(Pupils!F3:F5001,"x") -> 2 | E9: =B9/D9 -> 50
A10: Support 3 | B10: 3459 | D10: =COUNTIF(Pupils!G3:G5001,"x") -> 1 | E10: =B10/D10 -> 3459
A11: Support 4 | B11: 200 | D11: =COUNTIF(Pupils!H3:H5001,"x") -> 0 | E11: =B11/D11 -> #DIV/0!
A12: Support 5 | D12: =COUNTIF(Pupils!I3:I5003,"x") -> 0 | E12: =B12/D12 -> #DIV/0!
A13: Support 6 | B13: 400 | D13: =COUNTIF(Pupils!J3:J5001,"x") -> 1 | E13: =B13/D13 -> 400
A14: Support 7 | D14: =COUNTIF(Pupils!K3:K5001,"x") -> 0 | E14: =B14/D14 -> #DIV/0!
A15: Support 8 | D15: =COUNTIF(Pupils!L3:L5001,"x") -> 0 | E15: =B15/D15 -> #DIV/0!
A16: Support 9 | D16: =COUNTIF(Pupils!M3:M5001,"x") -> 0 | E16: =B16/D16 -> #DIV/0!
A17: Support 10 | D17: =COUNTIF(Pupils!N3:N5001,"x") -> 0 | E17: =B17/D17 -> #DIV/0!
A18: Support 11 | D18: =COUNTIF(Pupils!O3:O5001,"x") -> 0 | E18: =B18/D18 -> #DIV/0!
A19: Support 12 | D19: =COUNTIF(Pupils!P3:P5001,"x") -> 0 | E19: =B19/D19 -> #DIV/0!
A20: Support 13 | D20: =COUNTIF(Pupils!Q3:Q5001,"x") -> 0 | E20: =B20/D20 -> #DIV/0!
A21: Support 14 | D21: =COUNTIF(Pupils!R3:R5001,"x") -> 0 | E21: =B21/D21 -> #DIV/0!
A22: Support 15 | D22: =COUNTIF(Pupils!S3:S5001,"x") -> 0 | E22: =B22/D22 -> #DIV/0!
A23: Support 16 | D23: =COUNTIF(Pupils!T3:T5001,"x") -> 0 | E23: =B23/D23 -> #DIV/0!
A24: Support 17 | D24: =COUNTIF(Pupils!U3:U5001,"x") -> 0 | E24: =B24/D24 -> #DIV/0!
A25: Support 18 | D25: =COUNTIF(Pupils!V3:V5001,"x") -> 0 | E25: =B25/D25 -> #DIV/0!
A26: Support 19 | D26: =COUNTIF(Pupils!W3:W5001,"x") -> 0 | E26: =B26/D26 -> #DIV/0!
A27: Support 20 | D27: =COUNTIF(Pupils!X3:X5001,"x") -> 0 | E27: =B27/D27 -> #DIV/0!
