Workbook

Sheet Setup
A1: tech name | B1: day | C1: slot | D1: contract type
A2: fred | B2: Monday | C2: 1 | D2: 3 hours Weekly
A3: jon | B3: Tuesday | C3: 2 | D3: 3 Hours Fortnightly
A4: bob | B4: Wednesday | C4: 3 | D4: 3.5 hours weekly
A5: zaphod | B5: Thursday | D5: 3.5 hours fortnightly
A6: zippy | B6: Friday | D6: 2.5 hours weekly
A7: red power ranger | D7: 2.5 hours fortnightly
A8: pappa smurf

Sheet schools
A1: school name | B1: contract type | C1: tech | D1: day | E1: slot
A2: school a | B2: 3.5 hours weekly | C2: fred | D2: Tuesday | E2: 1
A3: schhol b | B3: 3.5 hours weekly | C3: fred | D3: Tuesday | E3: 2
A4: school c | B4: 3 hours Weekly | C4: red power ranger | D4: Friday | E4: 2

Sheet Total visits per slot
A1: Number of visits in given time slot
B3: 8 11 | C3: 11 2 | D3: 2 5 | E3: total day
A4: Monday | B4: =COUNTIFS(schools!D:D,"Monday",schools!E:E,"1") -> 0 | C4: =COUNTIFS(schools!D:D,"Monday",schools!E:E,"2") -> 0 | D4: =COUNTIFS(schools!D:D,"Monday",schools!E:E,"3") -> 0 | E4: =SUM(B4:D4) -> 0
A5: Tuesday | B5: =COUNTIFS(schools!D:D,"tuesday",schools!E:E,"1") -> 1 | C5: =COUNTIFS(schools!D:D,"tuesday",schools!E:E,"2") -> 1 | D5: =COUNTIFS(schools!D:D,"tuesday",schools!E:E,"3") -> 0 | E5: =SUM(B5:D5) -> 2
A6: Wednesday | B6: =COUNTIFS(schools!D:D,"wednesday",schools!E:E,"1") -> 0 | C6: =COUNTIFS(schools!D:D,"wednesday",schools!E:E,"2") -> 0 | D6: =COUNTIFS(schools!D:D,"wednesday",schools!E:E,"3") -> 0 | E6: =SUM(B6:D6) -> 0
A7: Thursday | B7: =COUNTIFS(schools!D:D,"thursday",schools!E:E,"1") -> 0 | C7: =COUNTIFS(schools!D:D,"thursday",schools!E:E,"2") -> 0 | D7: =COUNTIFS(schools!D:D,"thursday",schools!E:E,"3") -> 0 | E7: =SUM(B7:D7) -> 0
A8: Friday | B8: =COUNTIFS(schools!D:D,"friday",schools!E:E,"1") -> 0 | C8: =COUNTIFS(schools!D:D,"friday",schools!E:E,"2") -> 1 | D8: =COUNTIFS(schools!D:D,"friday",schools!E:E,"3") -> 0 | E8: =SUM(B8:D8) -> 1
A9: total slot | B9: =SUM(B4:B8) -> 1 | C9: =SUM(C4:C8) -> 2 | D9: =SUM(D4:D8) -> 0 | E9: =SUM(B9:D9) -> 3

Sheet Sheet1
A1: Tech | B1: zippy
B2: 1 | C2: 2 | D2: 3
A3: Monday
A4: Tuesday
A5: Wednesday
A6: Thursday
A7: Friday
