Workbook

Sheet Gannt
F2: 41426 | G2: 41427 | H2: 41428 | I2: 41429 | J2: 41430 | K2: 41431 | L2: 41432 | M2: 41433 | N2: 41434 | O2: 41435 | P2: 41436 | Q2: 41437 | R2: 41438 | S2: 41439 | T2: 41440 | U2: 41441 | V2: 41442 | W2: 41443 | X2: 41444 | Y2: 41445 | Z2: 41446 | AA2: 41447 | AB2: 41448 | AC2: 41449 | AD2: 41450 | AE2: 41451 | AF2: 41452 | AG2: 41453 | AH2: 41454 | AI2: 41455 | AJ2: 41456 | AK2: 41457 | AL2: 41458 | AM2: 41459 | AN2: 41460 | AO2: 41461 | AP2: 41462 | AQ2: 41463 | AR2: 41464 | AS2: 41465 | AT2: 41466 | AU2: 41467 | AV2: 41468 | AW2: 41469 | AX2: 41470 | AY2: 41471 | AZ2: 41472 | BA2: 41473 | BB2: 41474 | BC2: 41475 | BD2: 41476 | BE2: 41477 | BF2: 41478 | BG2: 41479 | BH2: 41480 | BI2: 41481 | BJ2: 41482 | BK2: 41483 | BL2: 41484 | BM2: 41485 | BN2: 41486 | BO2: 41487 | BP2: 41488 | BQ2: 41489 | BR2: 41490 | BS2: 41491 | BT2: 41492 | BU2: 41493 | BV2: 41494 | BW2: 41495 | BX2: 41496 | BY2: 41497 | BZ2: 41498 | CA2: 41499 | CB2: 41500 | CC2: 41501 | CD2: 41502 | CE2: 41503 | CF2: 41504 | CG2: 41505 | CH2: 41506 | CI2: 41507 | CJ2: 41508 | CK2: 41509 | CL2: 41510 | CM2: 41511 | CN2: 41512 | CO2: 41513 | CP2: 41514 | CQ2: 41515 | CR2: 41516 | CS2: 41517 | CT2: 41518 | CU2: 41519 | CV2: 41520 | CW2: 41521 | CX2: 41522 | CY2: 41523 | CZ2: 41524
A3: Desc | B3: Dur | C3: Start | D3: End
A4: Activity 1 | B4: 10 | C4: 41456 | D4: =C4+B4 -> 41466
A5: Activity 2 | B5: 15 | C5: =D4+1 -> 41467 | D5: =C5+B5 -> 41482
A6: Activity3 | B6: 5 | C6: =D5+1 -> 41483 | D6: =C6+B6 -> 41488

Sheet GLog
G4: =IF(AND(Gannt!F$2>=Gannt!$C4,Gannt!F$2<=Gannt!$D4),1,0) -> 0 | H4: =IF(AND(Gannt!G$2>=Gannt!$C4,Gannt!G$2<=Gannt!$D4),1,0) -> 0 | I4: =IF(AND(Gannt!H$2>=Gannt!$C4,Gannt!H$2<=Gannt!$D4),1,0) -> 0 | J4: =IF(AND(Gannt!I$2>=Gannt!$C4,Gannt!I$2<=Gannt!$D4),1,0) -> 0 | K4: =IF(AND(Gannt!J$2>=Gannt!$C4,Gannt!J$2<=Gannt!$D4),1,0) -> 0 | L4: =IF(AND(Gannt!K$2>=Gannt!$C4,Gannt!K$2<=Gannt!$D4),1,0) -> 0 | M4: =IF(AND(Gannt!L$2>=Gannt!$C4,Gannt!L$2<=Gannt!$D4),1,0) -> 0 | N4: =IF(AND(Gannt!M$2>=Gannt!$C4,Gannt!M$2<=Gannt!$D4),1,0) -> 0 | ... DA4: =IF(AND(Gannt!CZ$2>=Gannt!$C4,Gannt!CZ$2<=Gannt!$D4),1,0) -> 0
G5: =IF(AND(Gannt!F$2>=Gannt!$C5,Gannt!F$2<=Gannt!$D5),1,0) -> 0 | H5: =IF(AND(Gannt!G$2>=Gannt!$C5,Gannt!G$2<=Gannt!$D5),1,0) -> 0 | I5: =IF(AND(Gannt!H$2>=Gannt!$C5,Gannt!H$2<=Gannt!$D5),1,0) -> 0 | J5: =IF(AND(Gannt!I$2>=Gannt!$C5,Gannt!I$2<=Gannt!$D5),1,0) -> 0 | K5: =IF(AND(Gannt!J$2>=Gannt!$C5,Gannt!J$2<=Gannt!$D5),1,0) -> 0 | L5: =IF(AND(Gannt!K$2>=Gannt!$C5,Gannt!K$2<=Gannt!$D5),1,0) -> 0 | M5: =IF(AND(Gannt!L$2>=Gannt!$C5,Gannt!L$2<=Gannt!$D5),1,0) -> 0 | N5: =IF(AND(Gannt!M$2>=Gannt!$C5,Gannt!M$2<=Gannt!$D5),1,0) -> 0 | ... DA5: =IF(AND(Gannt!CZ$2>=Gannt!$C5,Gannt!CZ$2<=Gannt!$D5),1,0) -> 0
G6: =IF(AND(Gannt!F$2>=Gannt!$C6,Gannt!F$2<=Gannt!$D6),1,0) -> 0 | H6: =IF(AND(Gannt!G$2>=Gannt!$C6,Gannt!G$2<=Gannt!$D6),1,0) -> 0 | I6: =IF(AND(Gannt!H$2>=Gannt!$C6,Gannt!H$2<=Gannt!$D6),1,0) -> 0 | J6: =IF(AND(Gannt!I$2>=Gannt!$C6,Gannt!I$2<=Gannt!$D6),1,0) -> 0 | K6: =IF(AND(Gannt!J$2>=Gannt!$C6,Gannt!J$2<=Gannt!$D6),1,0) -> 0 | L6: =IF(AND(Gannt!K$2>=Gannt!$C6,Gannt!K$2<=Gannt!$D6),1,0) -> 0 | M6: =IF(AND(Gannt!L$2>=Gannt!$C6,Gannt!L$2<=Gannt!$D6),1,0) -> 0 | N6: =IF(AND(Gannt!M$2>=Gannt!$C6,Gannt!M$2<=Gannt!$D6),1,0) -> 0 | ... DA6: =IF(AND(Gannt!CZ$2>=Gannt!$C6,Gannt!CZ$2<=Gannt!$D6),1,0) -> 0
G7: =IF(AND(Gannt!F$2>=Gannt!$C7,Gannt!F$2<=Gannt!$D7),1,0) -> 0 | H7: =IF(AND(Gannt!G$2>=Gannt!$C7,Gannt!G$2<=Gannt!$D7),1,0) -> 0 | I7: =IF(AND(Gannt!H$2>=Gannt!$C7,Gannt!H$2<=Gannt!$D7),1,0) -> 0 | J7: =IF(AND(Gannt!I$2>=Gannt!$C7,Gannt!I$2<=Gannt!$D7),1,0) -> 0 | K7: =IF(AND(Gannt!J$2>=Gannt!$C7,Gannt!J$2<=Gannt!$D7),1,0) -> 0 | L7: =IF(AND(Gannt!K$2>=Gannt!$C7,Gannt!K$2<=Gannt!$D7),1,0) -> 0 | M7: =IF(AND(Gannt!L$2>=Gannt!$C7,Gannt!L$2<=Gannt!$D7),1,0) -> 0 | N7: =IF(AND(Gannt!M$2>=Gannt!$C7,Gannt!M$2<=Gannt!$D7),1,0) -> 0 | ... DA7: =IF(AND(Gannt!CZ$2>=Gannt!$C7,Gannt!CZ$2<=Gannt!$D7),1,0) -> 0
G8: =IF(AND(Gannt!F$2>=Gannt!$C8,Gannt!F$2<=Gannt!$D8),1,0) -> 0 | H8: =IF(AND(Gannt!G$2>=Gannt!$C8,Gannt!G$2<=Gannt!$D8),1,0) -> 0 | I8: =IF(AND(Gannt!H$2>=Gannt!$C8,Gannt!H$2<=Gannt!$D8),1,0) -> 0 | J8: =IF(AND(Gannt!I$2>=Gannt!$C8,Gannt!I$2<=Gannt!$D8),1,0) -> 0 | K8: =IF(AND(Gannt!J$2>=Gannt!$C8,Gannt!J$2<=Gannt!$D8),1,0) -> 0 | L8: =IF(AND(Gannt!K$2>=Gannt!$C8,Gannt!K$2<=Gannt!$D8),1,0) -> 0 | M8: =IF(AND(Gannt!L$2>=Gannt!$C8,Gannt!L$2<=Gannt!$D8),1,0) -> 0 | N8: =IF(AND(Gannt!M$2>=Gannt!$C8,Gannt!M$2<=Gannt!$D8),1,0) -> 0 | ... DA8: =IF(AND(Gannt!CZ$2>=Gannt!$C8,Gannt!CZ$2<=Gannt!$D8),1,0) -> 0
G9: =IF(AND(Gannt!F$2>=Gannt!$C9,Gannt!F$2<=Gannt!$D9),1,0) -> 0 | H9: =IF(AND(Gannt!G$2>=Gannt!$C9,Gannt!G$2<=Gannt!$D9),1,0) -> 0 | I9: =IF(AND(Gannt!H$2>=Gannt!$C9,Gannt!H$2<=Gannt!$D9),1,0) -> 0 | J9: =IF(AND(Gannt!I$2>=Gannt!$C9,Gannt!I$2<=Gannt!$D9),1,0) -> 0 | K9: =IF(AND(Gannt!J$2>=Gannt!$C9,Gannt!J$2<=Gannt!$D9),1,0) -> 0 | L9: =IF(AND(Gannt!K$2>=Gannt!$C9,Gannt!K$2<=Gannt!$D9),1,0) -> 0 | M9: =IF(AND(Gannt!L$2>=Gannt!$C9,Gannt!L$2<=Gannt!$D9),1,0) -> 0 | N9: =IF(AND(Gannt!M$2>=Gannt!$C9,Gannt!M$2<=Gannt!$D9),1,0) -> 0 | ... DA9: =IF(AND(Gannt!CZ$2>=Gannt!$C9,Gannt!CZ$2<=Gannt!$D9),1,0) -> 0
G10: =IF(AND(Gannt!F$2>=Gannt!$C10,Gannt!F$2<=Gannt!$D10),1,0) -> 0 | H10: =IF(AND(Gannt!G$2>=Gannt!$C10,Gannt!G$2<=Gannt!$D10),1,0) -> 0 | I10: =IF(AND(Gannt!H$2>=Gannt!$C10,Gannt!H$2<=Gannt!$D10),1,0) -> 0 | J10: =IF(AND(Gannt!I$2>=Gannt!$C10,Gannt!I$2<=Gannt!$D10),1,0) -> 0 | K10: =IF(AND(Gannt!J$2>=Gannt!$C10,Gannt!J$2<=Gannt!$D10),1,0) -> 0 | L10: =IF(AND(Gannt!K$2>=Gannt!$C10,Gannt!K$2<=Gannt!$D10),1,0) -> 0 | M10: =IF(AND(Gannt!L$2>=Gannt!$C10,Gannt!L$2<=Gannt!$D10),1,0) -> 0 | N10: =IF(AND(Gannt!M$2>=Gannt!$C10,Gannt!M$2<=Gannt!$D10),1,0) -> 0 | ... DA10: =IF(AND(Gannt!CZ$2>=Gannt!$C10,Gannt!CZ$2<=Gannt!$D10),1,0) -> 0
