Workbook
Name StudentNames: Data!$B$3:$B$9

Sheet Data
A1: Upn | B1: Surname Forename | C1: Gender | D1: Reg Group | E1: House | F1: FSM | G1: Ethnicity | H1: SEN Status | I1: Gifted/Talented | J1: Looked After | K1: EAL | L1: % Attendance | M1: SEN Need | N1: Admission No. | O1: CAT Mean SAS CAT scores | P1: CAT Non-Verbal SAS CAT scores | Q1: CAT Quantitative SAS CAT scores | R1: CAT Verbal SAS CAT scores | S1: KS2 Maths | T1: KS2 English | U1: KS2 Science | V1: English | W1: Maths | X1: Science | Y1: Art | Z1: Drama | AA1: French | AB1: Geography | AC1: History | AD1: IT | AE1: Music | AF1: PE | AG1: Social Studies | AH1: Spanish | AI1: Technology | AJ1: English | AK1: Maths | AL1: Science | AM1: Art | AN1: Drama | AO1: French | AP1: Geography | AQ1: History | AR1: IT | AS1: Music | AT1: PE | AU1: Social Studies | AV1: Spanish | AW1: Technology | AX1: English | AY1: Maths | AZ1: Science | BA1: Art | BB1: Drama | BC1: French | BD1: Geography | BE1: History | BF1: IT | BG1: Music | BH1: PE | BI1: Social Studies | BJ1: Spanish | BK1: Technology | BL1: English | BM1: Maths | BN1: Science | BO1: Art | BP1: Drama | BQ1: French | BR1: Geography | BS1: History | BT1: IT | BU1: Music | BV1: PE | BW1: Social Studies | BX1: Spanish | BY1: Technology | BZ1: English | CA1: Maths | CB1: Science | CC1: Art | CD1: Drama | CE1: French | CF1: Geography | CG1: History | CH1: IT | CI1: Music | CJ1: PE | CK1: Social Studies | CL1: Spanish | CM1: Technology | CN1: Average Residual
B2: 1 | C2: 2 | D2: 3 | E2: 4 | F2: 5 | G2: 6 | H2: 7 | I2: 8 | J2: 9 | K2: 10 | L2: 11 | M2: 12 | N2: 13 | O2: 14 | P2: 15 | Q2: 16 | R2: 17 | S2: 18 | T2: 19 | U2: 20 | V2: 21 | W2: 22 | X2: 23 | Y2: 24 | Z2: 25 | AA2: 26 | AB2: 27 | AC2: 28 | AD2: 29 | AE2: 30 | AF2: 31 | AG2: 32 | AH2: 33 | AI2: 34 | AJ2: 35 | AK2: 36 | AL2: 37 | AM2: 38 | AN2: 39 | AO2: 40 | AP2: 41 | AQ2: 42 | AR2: 43 | AS2: 44 | AT2: 45 | AU2: 46 | AV2: 47 | AW2: 48 | AX2: 49 | AY2: 50 | AZ2: 51 | BA2: 52 | BB2: 53 | BC2: 54 | BD2: 55 | BE2: 56 | BF2: 57 | BG2: 58 | BH2: 59 | BI2: 60 | BJ2: 61 | BK2: 62 | BL2: 63 | BM2: 64 | BN2: 65 | BO2: 66 | BP2: 67 | BQ2: 68 | BR2: 69 | BS2: 70 | BT2: 71 | BU2: 72 | BV2: 73 | BW2: 74 | BX2: 75 | BY2: 76 | BZ2: 77 | CA2: 78 | CB2: 79 | CC2: 80 | CD2: 81 | CE2: 82 | CF2: 83 | CG2: 84 | CH2: 85 | CI2: 86 | CJ2: 87 | CK2: 88 | CL2: 89 | CM2: 90 | CN2: 91
B3: John Smith | C3: F | D3: 9JOl-C | E3: Marie Curie | F3: N | G3: White - English | H3: N | I3: Y | K3: N | L3: 99.3 | N3: 008993 | O3: 96 | P3: 98 | Q3: 96 | R3: 95 | S3: 5c | T3: 5c | U3: 4a | V3: 7c | W3: 7c | X3: 7c | Y3: 7c | Z3: 7c | AA3: 7c | AB3: 7c | AC3: 7c | AD3: 7c | AE3: 7c | AF3: 7c | AG3: Merit | AH3: 7c | AI3: 7c | AJ3: 6b | AK3: 6a | AL3: 6a | AM3: 7c | AN3: 5c | AO3: 5b | AP3: 5b | AQ3: 5c | AR3: 6c | AS3: 5b | AT3: 5a | AU3: Merit | AV3: 5b | AW3: 6b | AX3: 43 | AY3: 43 | AZ3: 43 | BA3: 43 | BB3: 43 | BC3: 43 | BD3: 43 | BE3: 43 | BF3: 43 | BG3: 43 | BH3: 43 | BI3: 46 | BJ3: 43 | BK3: 43 | BL3: 39 | BM3: 41 | BN3: 41 | BO3: 43 | BP3: 31 | BQ3: 33 | BR3: 33 | BS3: 31 | BT3: 37 | BU3: 33 | BV3: 35 | BW3: 46 | BX3: 33 | BY3: 39 | BZ3: =IF(OR(BL3="",AX3=""),"",BL3-AX3) -> -4 | CA3: =IF(OR(BM3="",AY3=""),"",BM3-AY3) -> -2 | CB3: =IF(OR(BN3="",AZ3=""),"",BN3-AZ3) -> -2 | CC3: =IF(OR(BO3="",BA3=""),"",BO3-BA3) -> 0 | CD3: =IF(OR(BP3="",BB3=""),"",BP3-BB3) -> -12 | CE3: =IF(OR(BQ3="",BC3=""),"",BQ3-BC3) -> -10 | CF3: =IF(OR(BR3="",BD3=""),"",BR3-BD3) -> -10 | CG3: =IF(OR(BS3="",BE3=""),"",BS3-BE3) -> -12 | ... CM3: =IF(OR(BY3="",BK3=""),"",BY3-BK3) -> -4 | CN3: =AVERAGE(BZ3:CM3)/2 -> -3.2142857
B4: Name 2 | C4: F | D4: 9DCx-S | E4: Ernest Shackleton | F4: N | G4: White - English | H4: N | I4: Y | K4: N | L4: 93.8 | N4: 009023 | O4: 108 | P4: 98 | Q4: 110 | R4: 117 | S4: 4a | T4: 5b | U4: 5c | V4: 7b | W4: 6a | X4: 7c | Y4: 7c | Z4: 7c | AA4: 7c | AB4: 7c | AC4: 7c | AD4: 7c | AE4: 7c | AF4: 7c | AG4: Dist | AH4: 7c | AI4: 7c | AJ4: 7c | AK4: 6c | AL4: 6a | AM4: 6b | AN4: 7b | AO4: 5c | AP4: 7c | AQ4: 6b | AR4: 6c | AS4: 5b | AT4: 6c | AU4: Dist | AV4: 5b | AW4: 6c | AX4: 45 | AY4: 41 | AZ4: 43 | BA4: 43 | BB4: 43 | BC4: 43 | BD4: 43 | BE4: 43 | BF4: 43 | BG4: 43 | BH4: 43 | BI4: 52 | BJ4: 43 | BK4: 43 | BL4: 43 | BM4: 37 | BN4: 41 | BO4: 39 | BP4: 45 | BQ4: 31 | BR4: 43 | BS4: 39 | BT4: 37 | BU4: 33 | BV4: 37 | BW4: 52 | BX4: 33 | BY4: 37 | BZ4: =IF(OR(BL4="",AX4=""),"",BL4-AX4) -> -2 | CA4: =IF(OR(BM4="",AY4=""),"",BM4-AY4) -> -4 | CB4: =IF(OR(BN4="",AZ4=""),"",BN4-AZ4) -> -2 | CC4: =IF(OR(BO4="",BA4=""),"",BO4-BA4) -> -4 | CD4: =IF(OR(BP4="",BB4=""),"",BP4-BB4) -> 2 | CE4: =IF(OR(BQ4="",BC4=""),"",BQ4-BC4) -> -12 | CF4: =IF(OR(BR4="",BD4=""),"",BR4-BD4) -> 0 | CG4: =IF(OR(BS4="",BE4=""),"",BS4-BE4) -> -4 | ... CM4: =IF(OR(BY4="",BK4=""),"",BY4-BK4) -> -6 | CN4: =AVERAGE(BZ4:CM4)/2 -> -2.2857143
B5: Name 3 | C5: M | D5: 9AGy-B | E5: William Blake | F5: N | G5: White European | H5: S | K5: Y | L5: 88.9 | M5: Moderate Learning Difficulty | N5: 008956 | O5: 67 | P5: 74 | Q5: 63 | R5: 65 | S5: n | T5: n | U5: 3c | V5: 4a | W5: 4a | X5: 4a | Y5: 4a | Z5: 4a | AB5: 4a | AC5: 4a | AD5: 4a | AE5: 4a | AF5: 4a | AG5: Pass | AH5: 4a | AI5: 4a | AJ5: 4c | AK5: 3a | AL5: 3a | AM5: 4c | AN5: 4c | AP5: 4a | AQ5: 3c | AR5: 5c | AS5: 5b | AT5: 5c | AU5: Pass | AV5: 3a | AW5: 4a | AX5: 29 | AY5: 29 | AZ5: 29 | BA5: 29 | BB5: 29 | BD5: 29 | BE5: 29 | BF5: 29 | BG5: 29 | BH5: 29 | BI5: 40 | BJ5: 29 | BK5: 29 | BL5: 25 | BM5: 23 | BN5: 23 | BO5: 25 | BP5: 25 | BR5: 29 | BS5: 19 | BT5: 31 | BU5: 33 | BV5: 31 | BW5: 40 | BX5: 23 | BY5: 29 | BZ5: =IF(OR(BL5="",AX5=""),"",BL5-AX5) -> -4 | CA5: =IF(OR(BM5="",AY5=""),"",BM5-AY5) -> -6 | CB5: =IF(OR(BN5="",AZ5=""),"",BN5-AZ5) -> -6 | CC5: =IF(OR(BO5="",BA5=""),"",BO5-BA5) -> -4 | CD5: =IF(OR(BP5="",BB5=""),"",BP5-BB5) -> -4 | CE5: =IF(OR(BQ5="",BC5=""),"",BQ5-BC5) | CF5: =IF(OR(BR5="",BD5=""),"",BR5-BD5) -> 0 | CG5: =IF(OR(BS5="",BE5=""),"",BS5-BE5) -> -10 | ... CM5: =IF(OR(BY5="",BK5=""),"",BY5-BK5) -> 0 | CN5: =AVERAGE(BZ5:CM5)/2 -> -1.2307692
B6: Name 4 | C6: M | D6: 9JOl-C | E6: Marie Curie | F6: N | G6: White - English | H6: A | K6: N | L6: 92.4 | M6: Specific Learning Difficulty | N6: 008994 | O6: 83 | P6: 89 | Q6: 90 | R6: 69 | S6: 4c | T6: n | U6: 4c | V6: 5c | W6: 6c | X6: 6c | Y6: 6c | Z6: 6c | AB6: 6c | AC6: 6c | AD6: 6c | AE6: 6c | AF6: 6c | AG6: Merit | AH6: 6c | AI6: 6c | AJ6: 4b | AK6: 4b | AL6: 5c | AM6: 6b | AN6: 5a | AP6: 4a | AQ6: 4b | AR6: 5a | AS6: 5b | AT6: 5b | AU6: Merit | AV6: 3b | AW6: 5a | AX6: 31 | AY6: 37 | AZ6: 37 | BA6: 37 | BB6: 37 | BD6: 37 | BE6: 37 | BF6: 37 | BG6: 37 | BH6: 37 | BI6: 46 | BJ6: 37 | BK6: 37 | BL6: 27 | BM6: 27 | BN6: 31 | BO6: 39 | BP6: 35 | BR6: 29 | BS6: 27 | BT6: 35 | BU6: 33 | BV6: 33 | BW6: 46 | BX6: 21 | BY6: 35 | BZ6: =IF(OR(BL6="",AX6=""),"",BL6-AX6) -> -4 | CA6: =IF(OR(BM6="",AY6=""),"",BM6-AY6) -> -10 | CB6: =IF(OR(BN6="",AZ6=""),"",BN6-AZ6) -> -6 | CC6: =IF(OR(BO6="",BA6=""),"",BO6-BA6) -> 2 | CD6: =IF(OR(BP6="",BB6=""),"",BP6-BB6) -> -2 | CE6: =IF(OR(BQ6="",BC6=""),"",BQ6-BC6) | CF6: =IF(OR(BR6="",BD6=""),"",BR6-BD6) -> -8 | CG6: =IF(OR(BS6="",BE6=""),"",BS6-BE6) -> -10 | ... CM6: =IF(OR(BY6="",BK6=""),"",BY6-BK6) -> -2 | CN6: =AVERAGE(BZ6:CM6)/2 -> -2.5384615
B7: Name 5 | C7: M | D7: 9JOl-C | E7: Marie Curie | F7: N | G7: White Other | H7: N | K7: N | L7: 82.6 | N7: 009369 | S7: 4a | T7: 4c | U7: 4c | V7: 6c | W7: 6a | X7: 6b | Y7: 6b | Z7: 6b | AC7: 6b | AD7: 6b | AE7: 6b | AF7: 6b | AG7: Pass | AH7: 6b | AI7: 6c | AJ7: 4a | AK7: 6c | AL7: 4b | AM7: 6c | AN7: 4b | AP7: 4b | AQ7: 3c | AR7: 5b | AS7: 5b | AT7: 5b | AU7: Pass | AV7: 3a | AW7: 5c | AX7: 37 | AY7: 41 | AZ7: 39 | BA7: 39 | BB7: 39 | BE7: 39 | BF7: 39 | BG7: 39 | BH7: 39 | BI7: 40 | BJ7: 39 | BK7: 37 | BL7: 29 | BM7: 37 | BN7: 27 | BO7: 37 | BP7: 27 | BR7: 27 | BS7: 19 | BT7: 33 | BU7: 33 | BV7: 33 | BW7: 40 | BX7: 23 | BY7: 31 | BZ7: =IF(OR(BL7="",AX7=""),"",BL7-AX7) -> -8 | CA7: =IF(OR(BM7="",AY7=""),"",BM7-AY7) -> -4 | CB7: =IF(OR(BN7="",AZ7=""),"",BN7-AZ7) -> -12 | CC7: =IF(OR(BO7="",BA7=""),"",BO7-BA7) -> -2 | CD7: =IF(OR(BP7="",BB7=""),"",BP7-BB7) -> -12 | CE7: =IF(OR(BQ7="",BC7=""),"",BQ7-BC7) | CF7: =IF(OR(BR7="",BD7=""),"",BR7-BD7) | CG7: =IF(OR(BS7="",BE7=""),"",BS7-BE7) -> -20 | ... CM7: =IF(OR(BY7="",BK7=""),"",BY7-BK7) -> -6 | CN7: =AVERAGE(BZ7:CM7)/2 -> -4.0833333
B8: Name 6 | C8: M | D8: 9JOl-C | E8: Marie Curie | F8: N | G8: White - English | H8: N | K8: N | L8: 91.7 | N8: 008995 | O8: 86 | P8: 89 | Q8: 88 | R8: 80 | S8: 4c | T8: 3a | U8: 4c | V8: 5a | W8: 6c | X8: 5a | Y8: 5a | Z8: 5a | AB8: 5a | AC8: 5a | AD8: 5a | AE8: 5a | AF8: 5a | AG8: Pass | AH8: 5a | AI8: 5a | AJ8: 4b | AK8: 5c | AL8: 5c | AM8: 5b | AN8: 6c | AP8: 4c | AQ8: 4a | AR8: 5b | AS8: 5b | AT8: 5a | AU8: Pass | AV8: 4b | AW8: 5c | AX8: 35 | AY8: 37 | AZ8: 35 | BA8: 35 | BB8: 35 | BD8: 35 | BE8: 35 | BF8: 35 | BG8: 35 | BH8: 35 | BI8: 40 | BJ8: 35 | BK8: 35 | BL8: 27 | BM8: 31 | BN8: 31 | BO8: 33 | BP8: 37 | BR8: 25 | BS8: 29 | BT8: 33 | BU8: 33 | BV8: 35 | BW8: 40 | BX8: 27 | BY8: 31 | BZ8: =IF(OR(BL8="",AX8=""),"",BL8-AX8) -> -8 | CA8: =IF(OR(BM8="",AY8=""),"",BM8-AY8) -> -6 | CB8: =IF(OR(BN8="",AZ8=""),"",BN8-AZ8) -> -4 | CC8: =IF(OR(BO8="",BA8=""),"",BO8-BA8) -> -2 | CD8: =IF(OR(BP8="",BB8=""),"",BP8-BB8) -> 2 | CE8: =IF(OR(BQ8="",BC8=""),"",BQ8-BC8) | CF8: =IF(OR(BR8="",BD8=""),"",BR8-BD8) -> -10 | CG8: =IF(OR(BS8="",BE8=""),"",BS8-BE8) -> -6 | ... CM8: =IF(OR(BY8="",BK8=""),"",BY8-BK8) -> -4 | CN8: =AVERAGE(BZ8:CM8)/2 -> -1.9230769
B9: Name 7 | C9: M | D9: 9AJa-F | E9: Elizabeth Fry | F9: N | G9: White - English | H9: A | K9: N | L9: 94.4 | M9: Behaviour, Emotional and Social Difficulty | N9: 009024 | O9: 79 | P9: 78 | Q9: 76 | R9: 83 | S9: 3c | T9: 3c | U9: 4c | V9: 5c | W9: 5c | X9: 5c | Y9: 5c | Z9: 5c | AB9: 5c | AC9: 5c | AD9: 5c | AE9: 5c | AF9: 5c | AG9: Pass | AH9: 5c | AI9: 5c | AJ9: 4a | AK9: 4c | AL9: 4a | AM9: 4b | AN9: 5b | AP9: 4b | AQ9: 4b | AR9: 5c | AS9: 5c | AT9: 5b | AU9: Pass | AV9: 3c | AW9: 4a | AX9: 31 | AY9: 31 | AZ9: 31 | BA9: 31 | BB9: 31 | BD9: 31 | BE9: 31 | BF9: 31 | BG9: 31 | BH9: 31 | BI9: 40 | BJ9: 31 | BK9: 31 | BL9: 29 | BM9: 25 | BN9: 29 | BO9: 27 | BP9: 33 | BR9: 27 | BS9: 27 | BT9: 31 | BU9: 31 | BV9: 33 | BW9: 40 | BX9: 19 | BY9: 29 | BZ9: =IF(OR(BL9="",AX9=""),"",BL9-AX9) -> -2 | CA9: =IF(OR(BM9="",AY9=""),"",BM9-AY9) -> -6 | CB9: =IF(OR(BN9="",AZ9=""),"",BN9-AZ9) -> -2 | CC9: =IF(OR(BO9="",BA9=""),"",BO9-BA9) -> -4 | CD9: =IF(OR(BP9="",BB9=""),"",BP9-BB9) -> 2 | CE9: =IF(OR(BQ9="",BC9=""),"",BQ9-BC9) | CF9: =IF(OR(BR9="",BD9=""),"",BR9-BD9) -> -4 | CG9: =IF(OR(BS9="",BE9=""),"",BS9-BE9) -> -4 | ... CM9: =IF(OR(BY9="",BK9=""),"",BY9-BK9) -> -2 | CN9: =AVERAGE(BZ9:CM9)/2 -> -1.2307692
BZ11: =AVERAGE(BZ3:BZ9)/2 -> -2.2857143 | CA11: =AVERAGE(CA3:CA9)/2 -> -2.7142857 | CB11: =AVERAGE(CB3:CB9)/2 -> -2.4285714 | CC11: =AVERAGE(CC3:CC9)/2 -> -1 | CD11: =AVERAGE(CD3:CD9)/2 -> -1.7142857 | CE11: =AVERAGE(CE3:CE9)/2 -> -5.5 | CF11: =AVERAGE(CF3:CF9)/2 -> -2.6666667 | CG11: =AVERAGE(CG3:CG9)/2 -> -4.7142857 | ... CM11: =AVERAGE(CM3:CM9)/2 -> -1.7142857

Sheet Display Layout
B1: =Data!B1 -> Surname Forename | C1: Name 4
C3: Target Grade | D3: Progress Check | E3: Delta
A4: =HLOOKUP($B4,Data!$B$1:$AI$2,2,FALSE) -> 21 | B4: English | C4: =VLOOKUP($C$1,Data!$B$3:$AI$9,$A4,FALSE) -> 5c | D4: =Data!AJ3 -> 6b | E4: =Data!BZ3 -> -4
A5: =HLOOKUP($B5,Data!$B$1:$AI$2,2,FALSE) -> 22 | B5: Maths | C5: =VLOOKUP($C$1,Data!$B$3:$AI$9,$A5,FALSE) -> 6c | D5: =Data!AK3 -> 6a | E5: =Data!CA3 -> -2
A6: =HLOOKUP($B6,Data!$B$1:$AI$2,2,FALSE) -> 23 | B6: Science | C6: =VLOOKUP($C$1,Data!$B$3:$AI$9,$A6,FALSE) -> 6c | D6: =Data!AL3 -> 6a | E6: =Data!CB3 -> -2
A7: =HLOOKUP($B7,Data!$B$1:$AI$2,2,FALSE) -> 24 | B7: Art | C7: =VLOOKUP($C$1,Data!$B$3:$AI$9,$A7,FALSE) -> 6c | D7: =Data!AM3 -> 7c | E7: =Data!CC3 -> 0
A8: =HLOOKUP($B8,Data!$B$1:$AI$2,2,FALSE) -> 25 | B8: Drama | C8: =VLOOKUP($C$1,Data!$B$3:$AI$9,$A8,FALSE) -> 6c
A9: =HLOOKUP($B9,Data!$B$1:$AI$2,2,FALSE) -> 26 | B9: French | C9: =VLOOKUP($C$1,Data!$B$3:$AI$9,$A9,FALSE)
A10: =HLOOKUP($B10,Data!$B$1:$AI$2,2,FALSE) -> 27 | B10: Geography | C10: =VLOOKUP($C$1,Data!$B$3:$AI$9,$A10,FALSE) -> 6c
A11: =HLOOKUP($B11,Data!$B$1:$AI$2,2,FALSE) -> 28 | B11: History | C11: =VLOOKUP($C$1,Data!$B$3:$AI$9,$A11,FALSE) -> 6c
A12: =HLOOKUP($B12,Data!$B$1:$AI$2,2,FALSE) -> 29 | B12: IT | C12: =VLOOKUP($C$1,Data!$B$3:$AI$9,$A12,FALSE) -> 6c
A13: =HLOOKUP($B13,Data!$B$1:$AI$2,2,FALSE) -> 30 | B13: Music | C13: =VLOOKUP($C$1,Data!$B$3:$AI$9,$A13,FALSE) -> 6c
A14: =HLOOKUP($B14,Data!$B$1:$AI$2,2,FALSE) -> 31 | B14: PE | C14: =VLOOKUP($C$1,Data!$B$3:$AI$9,$A14,FALSE) -> 6c
A15: =HLOOKUP($B15,Data!$B$1:$AI$2,2,FALSE) -> 32 | B15: Social Studies | C15: =VLOOKUP($C$1,Data!$B$3:$AI$9,$A15,FALSE) -> Merit
A16: =HLOOKUP($B16,Data!$B$1:$AI$2,2,FALSE) -> 33 | B16: Spanish | C16: =VLOOKUP($C$1,Data!$B$3:$AI$9,$A16,FALSE) -> 6c
A17: =HLOOKUP($B17,Data!$B$1:$AI$2,2,FALSE) -> 34 | B17: Technology | C17: =VLOOKUP($C$1,Data!$B$3:$AI$9,$A17,FALSE) -> 6c

Sheet Config
