Workbook

Sheet Totals
A1: ICT Budget
B3: Expenditure
B4: 2013-14 | C4: 2014-15 | D4: 2015-16 | E4: 2016-17 | F4: 2017-18 | G4: 2018-19 | M4: Things missing
A5: Hardware Replacement | B5: ='Hardware Replacement Cycle'!D21 -> 45650 | C5: ='Hardware Replacement Cycle'!D40 -> 47150 | D5: ='Hardware Replacement Cycle'!D59 -> 44650 | E5: ='Hardware Replacement Cycle'!D78 -> 46900 | F5: ='Hardware Replacement Cycle'!D97 -> 70650 | G5: ='Hardware Replacement Cycle'!D116 -> 38850
A6: Hardware Maintenance | B6: ='Hardware Maintenance'!D29 -> 10037.5 | C6: ='Hardware Maintenance'!D56 -> 7610 | D6: ='Hardware Maintenance'!D110 -> 6955 | E6: ='Hardware Maintenance'!D110 -> 6955 | F6: ='Hardware Maintenance'!D137 -> 6355 | G6: ='Hardware Maintenance'!D164 -> 8755 | M6: UPS/Batteries
A7: Software Licensing | B7: ='Software Licensing'!B18 -> 35141.16 | C7: ='Software Licensing'!C18 -> 34702.66 | D7: ='Software Licensing'!D18 -> 33540.348 | E7: ='Software Licensing'!E18 -> 33578.223 | F7: ='Software Licensing'!F18 -> 33616.289 | G7: ='Software Licensing'!G18 -> 33654.544 | M7: Library System
A8: School Consumables | B8: ='School Consumables'!D17 -> 5380 | C8: ='School Consumables'!D17 -> 5380 | D8: ='School Consumables'!D17 -> 5380 | E8: ='School Consumables'!D17 -> 5380 | F8: ='School Consumables'!D17 -> 5380 | G8: ='School Consumables'!D17 -> 5380 | M8: Staffing Costs
A9: ICT Department Consumables | B9: ='ICT Department Consumables'!$D$15 -> 1419 | C9: ='ICT Department Consumables'!$D$15 -> 1419 | D9: ='ICT Department Consumables'!$D$15 -> 1419 | E9: ='ICT Department Consumables'!$D$15 -> 1419 | F9: ='ICT Department Consumables'!$D$15 -> 1419 | G9: ='ICT Department Consumables'!$D$15 -> 1419 | M9: Paper Costs (Included in Printing cost?)
A10: ICT Development | M10: Income from sales of old hardware on Ebay
I11: Averages | M11: MFP Contract Costs
A12: Total: | B12: =SUM(B5:B10) -> 97627.66 | C12: =SUM(C5:C10) -> 96261.66 | D12: =SUM(D5:D10) -> 91944.348 | E12: =SUM(E5:E10) -> 94232.223 | F12: =SUM(F5:F10) -> 117420.29 | G12: =SUM(G5:G10) -> 88058.544 | I12: =AVERAGE(B12:G12) -> 97590.787 | M12: Power consumption savings
A13: Per Student Spend | B13: =B12/1210 -> 80.684017 | C13: =C12/1210 -> 79.555091 | D13: =D12/1210 -> 75.987064 | E13: =E12/1210 -> 77.877871 | F13: =F12/1210 -> 97.041561 | G13: =G12/1210 -> 72.775657 | I13: =AVERAGE(B13:G13) -> 80.653543 | M13: Sales of Equipment
M14: Student:PC Ratios (Reductions in provision in case of a fall in numbers)
A15: Deductions | B15: (Costs not currently associated with the ICT Cost Centre) | M15: Core is not replaced (this would be in 2020-2021)
A17: Cashless Catering Costs | B17: ='Software Licensing'!B15 -> 2699.52 | C17: ='Software Licensing'!C15 -> 2699.52 | D17: ='Software Licensing'!D15 -> 2699.52 | E17: ='Software Licensing'!E15 -> 2699.52 | F17: ='Software Licensing'!F15 -> 2699.52 | G17: ='Software Licensing'!G15 -> 2699.52
A18: ParentPay Cost | B18: ='Software Licensing'!B16 -> 1400 | C18: ='Software Licensing'!C16 -> 1400 | D18: ='Software Licensing'!D16 -> 1400 | E18: ='Software Licensing'!E16 -> 1400 | F18: ='Software Licensing'!F16 -> 1400 | G18: ='Software Licensing'!G16 -> 1400
A19: SIMS Cost | B19: ='Software Licensing'!B5 -> 15303.64 | C19: ='Software Licensing'!C5 -> 15303.64 | D19: ='Software Licensing'!D5 -> 15303.64 | E19: ='Software Licensing'!E5 -> 15303.64 | F19: ='Software Licensing'!F5 -> 15303.64 | G19: ='Software Licensing'!G5 -> 15303.64
A20: 50% of Impero Cost | B20: =('Software Licensing'!B9/2) -> 900 | C20: =('Software Licensing'!C9/2) -> 900 | D20: =('Software Licensing'!D9/2) -> 900 | E20: =('Software Licensing'!E9/2) -> 900 | F20: =('Software Licensing'!F9/2) -> 900 | G20: =('Software Licensing'!G9/2) -> 900
A21: RBUSS | B21: ='Software Licensing'!B7 -> 976 | C21: ='Software Licensing'!C7 -> 500 | D21: ='Software Licensing'!D7 -> 500 | E21: ='Software Licensing'!E7 -> 500 | F21: ='Software Licensing'!F7 -> 500 | G21: ='Software Licensing'!G7 -> 500
A22: Sophos | B22: ='Software Licensing'!B6 -> 160 | C22: ='Software Licensing'!C6 -> 160 | D22: ='Software Licensing'!D6 -> 160 | E22: ='Software Licensing'!E6 -> 160 | F22: ='Software Licensing'!F6 -> 160 | G22: ='Software Licensing'!G6 -> 160
A23: Insight Support | B23: 1450 | C23: 1450 | D23: 1450 | E23: 1450 | F23: 1450 | G23: 1450
A24: Library Software
A26: Total deductions: | B26: =SUM(B17:B24) -> 22889.16 | C26: =SUM(C17:C24) -> 22413.16 | D26: =SUM(D17:D24) -> 22413.16 | E26: =SUM(E17:E24) -> 22413.16 | F26: =SUM(F17:F24) -> 22413.16 | G26: =SUM(G17:G24) -> 22413.16
A28: Total budget after deductions: | B28: =B12-B26 -> 74738.5 | C28: =C12-C26 -> 73848.5 | D28: =D12-D26 -> 69531.188 | E28: =E12-E26 -> 71819.063 | F28: =F12-F26 -> 95007.129 | G28: =G12-G26 -> 65645.384 | I28: =AVERAGE(B28:G28) -> 75098.294
A29: Per Student Spend | B29: =B28/1210 -> 61.767355 | C29: =C28/1210 -> 61.031818 | D29: =D28/1210 -> 57.463791 | E29: =E28/1210 -> 59.354598 | F29: =F28/1210 -> 78.518288 | G29: =G28/1210 -> 54.252384 | I29: =AVERAGE(B29:G29) -> 62.064706
A31: Difference from £66k | B31: =B28-66000 -> 8738.5 | C31: =C28-66000 -> 7848.5 | D31: =D28-66000 -> 3531.1875 | E31: =E28-66000 -> 5819.0634 | F31: =F28-66000 -> 29007.129 | G31: =G28-66000 -> -354.6156 | I31: =AVERAGE(B31:G31) -> 9098.294

Sheet Example Budgets
A1: Edugeek Annual Budgets (For non RM Networks and where the bulk of the money is controlled by the ICT Department)
A3: Username | B3: Roll | C3: Budget | D3: Per Student
A4: Jlunn | B4: 1050 | C4: 70000 | D4: =C4/B4 -> 66.666667
A5: Vegas | B5: 890 | C5: 130000 | D5: =C5/B5 -> 146.06742
A6: Alan-D | B6: 1200 | C6: 100000 | D6: =C6/B6 -> 83.333333
A7: CyberNerd | B7: 1800 | C7: 150000 | D7: =C7/B7 -> 83.333333
A8: Pottsey | B8: No info given | D8: 100
A9: j17sparky | B9: 1200 | C9: 90000 | D9: =C9/B9 -> 75
A10: Gibson | B10: 1500 | C10: 100000 | D10: =C10/B10 -> 66.666667 | E10: Excludes Printing, Software Maintenance and Hardware Support
A11: User3204 | B11: 1500 | C11: 125000 | D11: =C11/B11 -> 83.333333 | E11: Includes staffing (percentage withheld - Budget is minus 75k on reported total)
A12: RayFleming | B12: 860 | C12: 68000 | D12: =C12/B12 -> 79.069767 | E12: Averages from 2008 BESA research (RF is a Microsoft Chap)
A13: Backwell School | B13: 1200 | C13: 100000 | D13: =C13/B13 -> 83.333333 | E13: (Stolen from Job Interview Spec! - Don't Worry)
A14: localzuk | B14: 600 | C14: 125000 | D14: =C14/B14 -> 208.33333
A16: Average | D16: =AVERAGE(D4:D14) -> 97.739744
A18: Average excluding localzuk | D18: =AVERAGE(D4:D13) -> 86.680385

Sheet Hardware Replacement Timescales
A1: Hardware Replacement Timescales
A3: Equipment: | B3: Replacement Cycle | C3: IT or Department Cost? | D3: Total Owned | E3: Assumed cost per unit | F3: Total Value
A5: BW Laser Printers | B5: On Failure/Obsolence | C5: IT | D5: 56 | E5: 350 | F5: =E5*D5 -> 19600
A6: Colour Laser Printers | B6: On Failure/Obsolence | C6: IT | D6: 3 | E6: 400 | F6: =E6*D6 -> 1200
A7: MFP's (Large Copiers) | B7: When Lease is due | C7: Leased except DT Department | E7: N/A
A8: Projectors | B8: 5 Years | C8: IT | D8: 66 | E8: 450 | F8: =E8*D8 -> 29700
A9: Monitors | B9: On Failure/Obsolence | C9: IT | D9: 490 | E9: 65 | F9: =E9*D9 -> 31850
A10: ICT Room SmartBoards | B10: 6 Years | C10: IT | D10: 4 | E10: 1200 | F10: =E10*D10 -> 4800
A11: Sound Systems | B11: On Failure/Obsolence | C11: IT | D11: 64 | E11: 200 | F11: =E11*D11 -> 12800
A12: iMacs | B12: 8 Years | C12: IT | D12: 30 | E12: 650 | F12: =E12*D12 -> 19500
A13: Desktop Computers | B13: 6 Years | C13: IT | D13: 453 | E13: 320 | F13: =E13*D13 -> 144960
A14: Laptops | B14: 3 Years | C14: IT | D14: 28 | E14: 450 | F14: =E14*D14 -> 12600
A15: Laptop Equipment (Trolleys) | B15: 4 Years | C15: IT | D15: 1 | E15: 1000 | F15: =E15*D15 -> 1000
A16: Tablets | B16: 4 Years | C16: IT | D16: 0 | E16: 500 | F16: =E16*D16 -> 0
A17: Staff Laptops (SMT Only) | B17: 4 Years | C17: IT | D17: 5 | E17: 450 | F17: =E17*D17 -> 2250
A18: Servers | B18: 5 Years | C18: IT | D18: 18 | E18: 5000 | F18: =E18*D18 -> 90000
A19: SANs (Storage Area Networks) | B19: 5 Years | C19: IT | D19: 2 | E19: 10000 | F19: =E19*D19 -> 20000
... A29: Scanners | B29: On Failure/Obsolence | C29: Department | D29: 9 | E29: 400 | F29: =E29*D29 -> 3600
E32: Total Value: | F32: =SUM(F5:F29) -> 504160
C33: Total Value of IT Responsibility (VITR): | F33: =SUM(F6:F26) -> 423260
C34: VITR Hardware budget on 10 year replacement: | F34: =F33/10 -> 42326
C35: VITR Hardware budget on 5 year replacement: | F35: =F33/5 -> 84652

Sheet Hardware Replacement Cycle
A1: Hardware Replacement Cycle
A3: Year 2013-14
A5: Item | B5: Quantity Replaced | C5: Cost Per Unit (Including Installation) | D5: Total Value
A6: Projectors | B6: 13 | C6: =550 -> 550 | D6: =B6*C6 -> 7150 | F6: A
A7: ICT Room Smartboards | B7: 2 | C7: 1200 | D7: =B7*C7 -> 2400 | F7: Server costs can vary as technology matures.
A8: Sound Systems | B8: 13 | C8: 200 | D8: =B8*C8 -> 2600 | F8: Predictions on costs have been made based on this years expenditure.
A9: Desktop Computers | B9: 75 | C9: 320 | D9: =B9*C9 -> 24000
A10: Laptops | B10: 0 | C10: 450 | D10: =B10*C10 -> 0
A11: Tablets (PE Registration) | B11: 5 | C11: 500 | D11: =B11*C11 -> 2500
A12: Servers | B12: 0 | C12: See Note A | D12: 0
A13: Storage | B13: 0 | C13: See Note A | D13: 0
A14: Backup Storage | B14: 2 | C14: 1000 | D14: =B14*C14 -> 2000
A15: Other Appliances | B15: 0 | C15: See Note B | D15: 0
A16: Core Switch | B16: 0 | C16: 10000 | D16: =B16*C16 -> 0
A17: UPS for Core Switching | B17: 1 | C17: 1000 | D17: 1000
A18: Near Edge Switch | B18: 2 | C18: 1000 | D18: =B18*C18 -> 2000
A19: Edge Switch | B19: 4 | C19: 500 | D19: =B19*C19 -> 2000
C21: Total Cost 2013-2014: | D21: =SUM(D6:D19) -> 45650
A23: Year 2014-15
A25: Item | B25: Quantity Replaced | C25: Cost Per Unit (Including Installation) | D25: Total Value
A26: Projectors | B26: 13 | C26: =550 -> 550 | D26: =B26*C26 -> 7150
A27: ICT Room Smartboards | B27: 2 | C27: 1200 | D27: =B27*C27 -> 2400
A28: Sound Systems | B28: 13 | C28: 200 | D28: =B28*C28 -> 2600
A29: Desktop Computers | B29: 75 | C29: 320 | D29: =B29*C29 -> 24000
A30: Laptops | B30: 0 | C30: 450 | D30: =B30*C30 -> 0
A31: Tablets | B31: 0 | C31: 500 | D31: =B31*C31 -> 0
A32: Servers | B32: 2 | C32: 3500 | D32: =B32*C32 -> 7000
A33: Storage | B33: 0 | C33: See Note A | D33: 0
A34: Backup Storage | B34: 0 | C34: 1000 | D34: =B34*C34 -> 0
A35: Other Appliances | B35: 0 | C35: See Note B | D35: 0
A36: Core Switch | B36: 0 | C36: 10000 | D36: =B36*C36 -> 0
A37: Near Edge Switch | B37: 2 | C37: 1000 | D37: =B37*C37 -> 2000
A38: Edge Switch | B38: 4 | C38: 500 | D38: =B38*C38 -> 2000
C40: Total Cost 2014-2015: | D40: =SUM(D26:D38) -> 47150
A42: Year 2015-16
A44: Item | B44: Quantity Replaced | C44: Cost Per Unit (Including Installation) | D44: Total Value
A45: Projectors | B45: 13 | C45: =550 -> 550 | D45: =B45*C45 -> 7150
A46: ICT Room Smartboards | B46: 2 | C46: 1200 | D46: =B46*C46 -> 2400
A47: Sound Systems | B47: 13 | C47: 200 | D47: =B47*C47 -> 2600
A48: Desktop Computers | B48: 75 | C48: 320 | D48: =B48*C48 -> 24000
...

Sheet Hardware Maintenance
A1: Hardware Maintenance
A3: 2013-2014 | G3: Notes
A5: Assumptions | G5: 1) The Failure rate drops after year 2014-2015
G6: as more machines are under warranty
A7: Failure Rate: | B7: 0.05 | C7: (Estimated)
A8: Total Computers: | B8: 450
A9: Total Monitors: | B9: 450
A11: Repair Totals | B11: (These are the most common failures)
A13: Item | B13: Estimated Quantity | C13: Cost | D13: Total Cost
A14: Power Supply | B14: =B7*B8 -> 22.5 | C14: 15 | D14: =B14*C14 -> 337.5
A15: Hard Disk | B15: =B7*B8 -> 22.5 | C15: 25 | D15: =B15*C15 -> 562.5
A16: Monitors | B16: =B7*B8 -> 22.5 | C16: 55 | D16: =B16*C16 -> 1237.5
A19: Other Maintenance Costs
A21: Item | B21: Quantity | C21: Cost | D21: Total Cost
A22: Server Support Extensions | B22: 0 | C22: 200 | D22: =B22*C22 -> 0
A23: Replacement Disks for Old Servers | B23: 12 | C23: 200 | D23: =B23*C23 -> 2400
A24: Upgrades (RAM) | B24: 0 | C24: 12 | D24: =B24*C24 -> 0
A25: Upgrades (Serial Adaptors for SB's) | B25: 0 | C25: 15 | D25: =B25*C25 -> 0
A26: WEEE Disposal | C26: 1500 | D26: 1500 | E26: Site?
A27: Unidentified Failures & Replacements/Tools | C27: 4000 | D27: =C27 -> 4000 | E27: 75% not commited?
C29: Total Maintainance: | D29: =SUM(D14:D16)+SUM(D22:D27) -> 10037.5
A31: 2014-2015
A33: Assumptions
A35: Failure Rate: | B35: 0.04 | C35: (Estimated)
A36: Total Computers: | B36: 450
A37: Total Monitors: | B37: 450
A39: Repair Totals
A41: Item | B41: Estimated Quantity | C41: Cost | D41: Total Cost
A42: Power Supply | B42: =B35*B36 -> 18 | C42: 15 | D42: =B42*C42 -> 270
A43: Hard Disk | B43: =B35*B36 -> 18 | C43: 25 | D43: =B43*C43 -> 450
A44: Monitors | B44: =B35*B36 -> 18 | C44: 55 | D44: =B44*C44 -> 990
A47: Other Maintenance Costs
A49: Item | B49: Quantity | C49: Cost | D49: Total Cost
A50: Server Support Extensions | B50: 2 | C50: 200 | D50: =B50*C50 -> 400
A51: Replacement Disks for Old Servers | B51: 0 | C51: 200 | D51: =B51*C51 -> 0
A52: Upgrades | B52: 0 | C52: 0 | D52: =B52*C52 -> 0
A53: WEEE Disposal | C53: 1500 | D53: 1500
A54: Unidentified Failures & Replacements/Tools | C54: 4000 | D54: =C54 -> 4000
C56: Total Maintainance: | D56: =SUM(D42:D44)+SUM(D50:D54) -> 7610
A58: 2015-2016
...

Sheet Software Licensing
A1: Software Licensing
A3: Subscription/Service | B3: 2013-14 | C3: 2014-15 | D3: 2015-16 | E3: 2016-17 | F3: 2017-18 | G3: 2018-19
A4: Microsoft OVS-EES | B4: 7500 | C4: =B4*100.5% -> 7537.5 | D4: =C4*100.5% -> 7575.1875 | E4: =D4*100.5% -> 7613.0634 | F4: =E4*100.5% -> 7651.1288 | G4: =F4*100.5% -> 7689.3844 | H4: Inflation of 0.5% Added to this figure
A5: SIMS/FMS/Lesson Mon | B5: 15303.64 | C5: 15303.64 | D5: 15303.64 | E5: 15303.64 | F5: 15303.64 | G5: 15303.64
A6: Sophos | B6: 160 | C6: 160 | D6: 160 | E6: 160 | F6: 160 | G6: 160
A7: RBUSS Backup | B7: 976 | C7: 500 | D7: 500 | E7: 500 | F7: 500 | G7: 500 | H7: Halved as exchange is not being backed up
A8: Room Booking | B8: 624 | C8: 624 | D8: 624 | E8: 624 | F8: 624 | G8: 624
A9: Impero | B9: 1800 | C9: 1800 | D9: 1800 | E9: 1800 | F9: 1800 | G9: 1800
A10: Eclipse Library System
A11: SpecOps Deploy | B11: 3000 | C11: 3000 | D11: 1800 | E11: 1800 | F11: 1800 | G11: 1800
A12: Papercut | B12: 178 | C12: 178 | D12: 178 | E12: 178 | F12: 178 | G12: 178
A13: Dovestones | B13: 50 | C13: 50 | D13: 50 | E13: 50 | F13: 50 | G13: 50
A14: Insight Parent Portal | B14: 1450 | C14: 1450 | D14: 1450 | E14: 1450 | F14: 1450 | G14: 1450
A15: Cunninghams | B15: 2699.52 | C15: 2699.52 | D15: 2699.52 | E15: 2699.52 | F15: 2699.52 | G15: 2699.52
A16: ParentPay | B16: 1400 | C16: 1400 | D16: 1400 | E16: 1400 | F16: 1400 | G16: 1400
B17: 2013-14 | C17: 2014-15 | D17: 2015-16 | E17: 2016-17 | F17: 2017-18 | G17: 2018-19
A18: Total | B18: =SUM(B4:B16) -> 35141.16 | C18: =SUM(C4:C16) -> 34702.66 | D18: =SUM(D4:D16) -> 33540.348 | E18: =SUM(E4:E16) -> 33578.223 | F18: =SUM(F4:F16) -> 33616.289 | G18: =SUM(G4:G16) -> 33654.544
B21: These figures are based on last years expenditure
B22: with the exception of the Microsoft OVS (an estimate)

Sheet School Consumables
A1: School Consumables
A3: Printing Allocations:
A5: Monetry Value | B5: 3 | C5: 4 | D5: 4.5
A6: Students in group | B6: 580 | C6: 390 | D6: 240
A7: Total | B7: 1740 | C7: 1560 | D7: 960
A9: Consumables:
A11: Item | B11: Approx Quantity | C11: Cost | D11: Cost Per Year
A12: Student Printing Allocation | D12: =SUM(B7:D7) -> 4260
A13: Projector Bulbs | B13: 10 | C13: 170 | D13: =(B13*C13)/2 -> 850 | E13: Total is divided by two with departments
A14: Mice | B14: 50 | C14: 4 | D14: =B14*C14 -> 200
A15: Keyboards | B15: 10 | C15: 7 | D15: =B15*C15 -> 70
C17: Total | D17: =SUM(D12:D15) -> 5380

Sheet ICT Department Consumables
A1: ICT Department Consumables
A3: Item | B3: Quantity | C3: Cost | D3: Total | G3: Other includes items such as cable ties
A4: Asset Labels | B4: 3 | C4: 18 | D4: =B4*C4 -> 54
A5: Printing | C5: 100 | D5: =C5 -> 100
A6: CD & DVD's (50 Packs) | B6: 4 | C6: 10 | D6: =B6*C6 -> 40
A7: Dynamo Labels | B7: 2 | C7: 30 | D7: =B7*C7 -> 60
A8: Security Marking | B8: 1 | C8: 300 | D8: =B8*C8 -> 300
A9: Pre Printed Labels | B9: 2 | C9: 20 | D9: =B9*C9 -> 40
A10: Clothing | B10: 15 | C10: 13 | D10: =B10*C10 -> 195
A11: Data Contracts | B11: 3 | C11: 120 | D11: =B11*C11 -> 360
A12: Identity Consumables | C12: 120 | D12: 120
A13: Other | B13: 1 | C13: 150 | D13: =B13*C13 -> 150
C15: Total: | D15: =SUM(D4:D13) -> 1419

Sheet ICT Development
A16: ICT Department Consumables
A18: This is intentionally empty!
A20: Server Room Elecrical Works
A21: New Fibre to DT, FT and Sports
