Workbook

Sheet Staff Client Codes
A1: NAME | B1: CODE
A2: User1 | B2: 13016 | C2: =VLOOKUP(B2,Budgets!$A$2:$B$275,2,FALSE) -> Budget25
A3: User2 | B3: 13023 | C3: =VLOOKUP(B3,Budgets!$A$2:$B$275,2,FALSE) -> Budget32
A4: User3 | B4: 13041A | C4: =VLOOKUP(B4,Budgets!$A$2:$B$275,2,FALSE) -> Budget272
A5: User4 | B5: 13024 | C5: =VLOOKUP(B5,Budgets!$A$2:$B$275,2,FALSE) -> Budget33
A6: User5 | B6: 13024 | C6: =VLOOKUP(B6,Budgets!$A$2:$B$275,2,FALSE) -> Budget33
A7: User6 | B7: 13008 | C7: =VLOOKUP(B7,Budgets!$A$2:$B$275,2,FALSE) -> Budget17
A8: User7 | B8: 13013 | C8: =VLOOKUP(B8,Budgets!$A$2:$B$275,2,FALSE) -> Budget22
A9: User8 | B9: 13024 | C9: =VLOOKUP(B9,Budgets!$A$2:$B$275,2,FALSE) -> Budget33
A10: User9 | B10: 22026 | C10: =VLOOKUP(B10,Budgets!$A$2:$B$275,2,FALSE) -> Budget179
A11: User10 | B11: 13081 | C11: =VLOOKUP(B11,Budgets!$A$2:$B$275,2,FALSE) -> Budget81
A12: User11 | B12: 13024 | C12: =VLOOKUP(B12,Budgets!$A$2:$B$275,2,FALSE) -> Budget33
A13: User12 | B13: 22026 | C13: =VLOOKUP(B13,Budgets!$A$2:$B$275,2,FALSE) -> Budget179
A14: User13 | B14: 13003 | C14: =VLOOKUP(B14,Budgets!$A$2:$B$275,2,FALSE) -> Budget12
A15: User14 | B15: 13135 | C15: =VLOOKUP(B15,Budgets!$A$2:$B$275,2,FALSE) -> Budget119
A16: User15 | B16: 13054 | C16: =VLOOKUP(B16,Budgets!$A$2:$B$275,2,FALSE) -> Budget59
A17: User16 | B17: 13023 | C17: =VLOOKUP(B17,Budgets!$A$2:$B$275,2,FALSE) -> Budget32
A18: User17 | B18: 13041A | C18: =VLOOKUP(B18,Budgets!$A$2:$B$275,2,FALSE) -> Budget272
A19: User18 | B19: 41017 | C19: =VLOOKUP(B19,Budgets!$A$2:$B$275,2,FALSE) -> Budget249
A20: User19 | B20: 13016 | C20: =VLOOKUP(B20,Budgets!$A$2:$B$275,2,FALSE) -> Budget25
A21: User20 | B21: 41017 | C21: =VLOOKUP(B21,Budgets!$A$2:$B$275,2,FALSE) -> Budget249
A22: User21 | B22: 13024 | C22: =VLOOKUP(B22,Budgets!$A$2:$B$275,2,FALSE) -> Budget33
A23: User22 | B23: 13023 | C23: =VLOOKUP(B23,Budgets!$A$2:$B$275,2,FALSE) -> Budget32
A24: User23 | B24: 13060 | C24: =VLOOKUP(B24,Budgets!$A$2:$B$275,2,FALSE) -> Budget64
A25: User24 | B25: 13024 | C25: =VLOOKUP(B25,Budgets!$A$2:$B$275,2,FALSE) -> Budget33
A26: User25 | B26: 13003 | C26: =VLOOKUP(B26,Budgets!$A$2:$B$275,2,FALSE) -> Budget12
A27: User26 | B27: 22030 | C27: =VLOOKUP(B27,Budgets!$A$2:$B$275,2,FALSE) -> Budget183
A28: User27 | B28: 22026 | C28: =VLOOKUP(B28,Budgets!$A$2:$B$275,2,FALSE) -> Budget179
A29: User28 | B29: 41017 | C29: =VLOOKUP(B29,Budgets!$A$2:$B$275,2,FALSE) -> Budget249
A30: User29 | B30: 41017 | C30: =VLOOKUP(B30,Budgets!$A$2:$B$275,2,FALSE) -> Budget249
... A89: User88 | B89: 13001 | C89: =VLOOKUP(B89,Budgets!$A$2:$B$275,2,FALSE) -> Budget10
A90: User89 | B90: 13054a | C90: =VLOOKUP(B90,Budgets!$A$2:$B$275,2,FALSE) -> Budget273
A91: User90 | B91: 13058 | C91: =VLOOKUP(B91,Budgets!$A$2:$B$275,2,FALSE) -> Budget63
A92: User91 | B92: 13023 | C92: =VLOOKUP(B92,Budgets!$A$2:$B$275,2,FALSE) -> Budget32
A93: User92 | B93: 13081 | C93: =VLOOKUP(B93,Budgets!$A$2:$B$275,2,FALSE) -> Budget81
A94: User93 | B94: 13024 | C94: =VLOOKUP(B94,Budgets!$A$2:$B$275,2,FALSE) -> Budget33
A95: User94 | B95: 13073 | C95: =VLOOKUP(B95,Budgets!$A$2:$B$275,2,FALSE) -> Budget75
A96: User95 | B96: 13081 | C96: =VLOOKUP(B96,Budgets!$A$2:$B$275,2,FALSE) -> Budget81
A97: User96 | B97: 13024 | C97: =VLOOKUP(B97,Budgets!$A$2:$B$275,2,FALSE) -> Budget33
A98: User97 | B98: 13116 | C98: =VLOOKUP(B98,Budgets!$A$2:$B$275,2,FALSE) -> Budget104
...

Sheet Budgets
A1: Code | B1: Description
A2: 11019 | B2: Budget1
A3: 11028 | B3: Budget2
A4: 11030 | B4: Budget3
A5: 11033 | B5: Budget4
A6: 11037 | B6: Budget5
A7: 12015 | B7: Budget6
A8: 12020 | B8: Budget7
A9: 12029 | B9: Budget8
A10: 13000 | B10: Budget9
A11: 13001 | B11: Budget10
A12: 13002 | B12: Budget11
A13: 13003 | B13: Budget12
... A270: 81004 | B270: Budget269
A271: 12004B | B271: Budget270
A272: 13019A | B272: Budget271
A273: 13041A | B273: Budget272
A274: 13054a | B274: Budget273
A275: 22012a | B275: Budget274
