Workbook

Sheet Staff Client Codes
A1: NAME | B1: CODE
A2: User1 | B2: 13016 | C2: =VLOOKUP(B2,Budgets!$A$2:$B$275,2,FALSE) -> Budget25
A3: User2 | B3: 13023 | C3: =VLOOKUP(B3,Budgets!$A$2:$B$275,2,FALSE) -> Budget32
A4: User3 | B4: 13041A | C4: =VLOOKUP(B4,Budgets!$A$2:$B$275,2,FALSE) -> Budget272
A5: User4 | B5: 13024 | C5: =VLOOKUP(B5,Budgets!$A$2:$B$275,2,FALSE) -> Budget33
A6: User5 | B6: 13024 | C6: =VLOOKUP(B6,Budgets!$A$2:$B$275,2,FALSE) -> Budget33
A7: User6 | B7: 13008 | C7: =VLOOKUP(B7,Budgets!$A$2:$B$275,2,FALSE) -> Budget17
A8: User7 | B8: 13013 | C8: =VLOOKUP(B8,Budgets!$A$2:$B$275,2,FALSE) -> Budget22
A9: User8 | B9: 13024 | C9: =VLOOKUP(B9,Budgets!$A$2:$B$275,2,FALSE) -> Budget33
A10: User9 | B10: 22026 | C10: =VLOOKUP(B10,Budgets!$A$2:$B$275,2,FALSE) -> Budget179
A11: User10 | B11: 13081 | C11: =VLOOKUP(B11,Budgets!$A$2:$B$275,2,FALSE) -> Budget81
A12: User11 | B12: 13024 | C12: =VLOOKUP(B12,Budgets!$A$2:$B$275,2,FALSE) -> Budget33
A13: User12 | B13: 22026 | C13: =VLOOKUP(B13,Budgets!$A$2:$B$275,2,FALSE) -> Budget179
A14: User13 | B14: 13003 | C14: =VLOOKUP(B14,Budgets!$A$2:$B$275,2,FALSE) -> Budget12
A15: User14 | B15: 13135 | C15: =VLOOKUP(B15,Budgets!$A$2:$B$275,2,FALSE) -> Budget119
A16: User15 | B16: 13054 | C16: =VLOOKUP(B16,Budgets!$A$2:$B$275,2,FALSE) -> Budget59
A17: User16 | B17: 13023 | C17: =VLOOKUP(B17,Budgets!$A$2:$B$275,2,FALSE) -> Budget32
A18: User17 | B18: 13041A | C18: =VLOOKUP(B18,Budgets!$A$2:$B$275,2,FALSE) -> Budget272
A19: User18 | B19: 41017 | C19: =VLOOKUP(B19,Budgets!$A$2:$B$275,2,FALSE) -> Budget249
A20: User19 | B20: 13016 | C20: =VLOOKUP(B20,Budgets!$A$2:$B$275,2,FALSE) -> Budget25
A21: User20 | B21: 41017 | C21: =VLOOKUP(B21,Budgets!$A$2:$B$275,2,FALSE) -> Budget249
A22: User21 | B22: 13024 | C22: =VLOOKUP(B22,Budgets!$A$2:$B$275,2,FALSE) -> Budget33
A23: User22 | B23: 13023 | C23: =VLOOKUP(B23,Budgets!$A$2:$B$275,2,FALSE) -> Budget32
A24: User23 | B24: 13060 | C24: =VLOOKUP(B24,Budgets!$A$2:$B$275,2,FALSE) -> Budget64
A25: User24 | B25: 13024 | C25: =VLOOKUP(B25,Budgets!$A$2:$B$275,2,FALSE) -> Budget33
A26: User25 | B26: 13003 | C26: =VLOOKUP(B26,Budgets!$A$2:$B$275,2,FALSE) -> Budget12
A27: User26 | B27: 22030 | C27: =VLOOKUP(B27,Budgets!$A$2:$B$275,2,FALSE) -> Budget183
A28: User27 | B28: 22026 | C28: =VLOOKUP(B28,Budgets!$A$2:$B$275,2,FALSE) -> Budget179
A29: User28 | B29: 41017 | C29: =VLOOKUP(B29,Budgets!$A$2:$B$275,2,FALSE) -> Budget249
A30: User29 | B30: 41017 | C30: =VLOOKUP(B30,Budgets!$A$2:$B$275,2,FALSE) -> Budget249
... A89: User88 | B89: 13001 | C89: =VLOOKUP(B89,Budgets!$A$2:$B$275,2,FALSE) -> Budget10
A90: User89 | B90: 13054a | C90: =VLOOKUP(B90,Budgets!$A$2:$B$275,2,FALSE) -> Budget273
A91: User90 | B91: 13058 | C91: =VLOOKUP(B91,Budgets!$A$2:$B$275,2,FALSE) -> Budget63
A92: User91 | B92: 13023 | C92: =VLOOKUP(B92,Budgets!$A$2:$B$275,2,FALSE) -> Budget32
A93: User92 | B93: 13081 | C93: =VLOOKUP(B93,Budgets!$A$2:$B$275,2,FALSE) -> Budget81
A94: User93 | B94: 13024 | C94: =VLOOKUP(B94,Budgets!$A$2:$B$275,2,FALSE) -> Budget33
A95: User94 | B95: 13073 | C95: =VLOOKUP(B95,Budgets!$A$2:$B$275,2,FALSE) -> Budget75
A96: User95 | B96: 13081 | C96: =VLOOKUP(B96,Budgets!$A$2:$B$275,2,FALSE) -> Budget81
A97: User96 | B97: 13024 | C97: =VLOOKUP(B97,Budgets!$A$2:$B$275,2,FALSE) -> Budget33
A98: User97 | B98: 13116 | C98: =VLOOKUP(B98,Budgets!$A$2:$B$275,2,FALSE) -> Budget104
A99: User98 | B99: 13023 | C99: =VLOOKUP(B99,Budgets!$A$2:$B$275,2,FALSE) -> Budget32
A100: User99 | B100: 13116 | C100: =VLOOKUP(B100,Budgets!$A$2:$B$275,2,FALSE) -> Budget104
A101: User100 | B101: 13003 | C101: =VLOOKUP(B101,Budgets!$A$2:$B$275,2,FALSE) -> Budget12
A102: User101 | B102: 13116 | C102: =VLOOKUP(B102,Budgets!$A$2:$B$275,2,FALSE) -> Budget104
... A104: User103 | B104: 13023 | C104: =VLOOKUP(B104,Budgets!$A$2:$B$275,2,FALSE) -> Budget32
A105: User104 | B105: 13023A | C105: =VLOOKUP(B105,Budgets!$A$2:$B$275,2,FALSE) -> #N/A
A106: User105 | B106: 13010 | C106: =VLOOKUP(B106,Budgets!$A$2:$B$275,2,FALSE) -> Budget19
A107: User106 | B107: 13021 | C107: =VLOOKUP(B107,Budgets!$A$2:$B$275,2,FALSE) -> Budget30
A108: User107 | B108: 13024 | C108: =VLOOKUP(B108,Budgets!$A$2:$B$275,2,FALSE) -> Budget33
A109: User108 | B109: 13016 | C109: =VLOOKUP(B109,Budgets!$A$2:$B$275,2,FALSE) -> Budget25
A110: User109 | B110: 13021 | C110: =VLOOKUP(B110,Budgets!$A$2:$B$275,2,FALSE) -> Budget30
A111: User110 | B111: 13013 | C111: =VLOOKUP(B111,Budgets!$A$2:$B$275,2,FALSE) -> Budget22
A112: User111 | B112: 41017 | C112: =VLOOKUP(B112,Budgets!$A$2:$B$275,2,FALSE) -> Budget249
A113: User112 | B113: 13016 | C113: =VLOOKUP(B113,Budgets!$A$2:$B$275,2,FALSE) -> Budget25
A114: User113 | B114: 41017 | C114: =VLOOKUP(B114,Budgets!$A$2:$B$275,2,FALSE) -> Budget249
A115: User114 | B115: 13002 | C115: =VLOOKUP(B115,Budgets!$A$2:$B$275,2,FALSE) -> Budget11
A116: User115 | B116: 13062 | C116: =VLOOKUP(B116,Budgets!$A$2:$B$275,2,FALSE) -> Budget65
A117: User116 | B117: 13056 | C117: =VLOOKUP(B117,Budgets!$A$2:$B$275,2,FALSE) -> Budget61
... A213: User212 | B213: 13016 | C213: =VLOOKUP(B213,Budgets!$A$2:$B$275,2,FALSE) -> Budget25
A214: User213 | B214: 13054a | C214: =VLOOKUP(B214,Budgets!$A$2:$B$275,2,FALSE) -> Budget273
A215: User214 | B215: 13057 | C215: =VLOOKUP(B215,Budgets!$A$2:$B$275,2,FALSE) -> Budget62
A216: User215 | B216: 13053 | C216: =VLOOKUP(B216,Budgets!$A$2:$B$275,2,FALSE) -> Budget58
A217: User216 | B217: 13019 | C217: =VLOOKUP(B217,Budgets!$A$2:$B$275,2,FALSE) -> Budget28
A218: User217 | B218: 13006 | C218: =VLOOKUP(B218,Budgets!$A$2:$B$275,2,FALSE) -> Budget15
A219: User218 | B219: 13024 | C219: =VLOOKUP(B219,Budgets!$A$2:$B$275,2,FALSE) -> Budget33
A220: User219 | B220: 13206 | C220: =VLOOKUP(B220,Budgets!$A$2:$B$275,2,FALSE) -> Budget123
A221: User220 | B221: 13011 | C221: =VLOOKUP(B221,Budgets!$A$2:$B$275,2,FALSE) -> Budget20
A222: User221 | B222: 13093 | C222: =VLOOKUP(B222,Budgets!$A$2:$B$275,2,FALSE) -> Budget89
A223: User222 | B223: 13041A | C223: =VLOOKUP(B223,Budgets!$A$2:$B$275,2,FALSE) -> Budget272
A224: User223 | B224: 13077 | C224: =VLOOKUP(B224,Budgets!$A$2:$B$275,2,FALSE) -> Budget78
A225: User224 | B225: 13058 | C225: =VLOOKUP(B225,Budgets!$A$2:$B$275,2,FALSE) -> Budget63
A226: User225 | B226: 13024 | C226: =VLOOKUP(B226,Budgets!$A$2:$B$275,2,FALSE) -> Budget33
A227: User226 | B227: 13024 | C227: =VLOOKUP(B227,Budgets!$A$2:$B$275,2,FALSE) -> Budget33
A228: User227 | B228: 41017 | C228: =VLOOKUP(B228,Budgets!$A$2:$B$275,2,FALSE) -> Budget249
A229: User228 | B229: 13062 | C229: =VLOOKUP(B229,Budgets!$A$2:$B$275,2,FALSE) -> Budget65
A230: User229 | B230: 13117 | C230: =VLOOKUP(B230,Budgets!$A$2:$B$275,2,FALSE) -> Budget105
A231: User230 | B231: 13005 | C231: =VLOOKUP(B231,Budgets!$A$2:$B$275,2,FALSE) -> Budget14
A232: User231 | B232: 13042 | C232: =VLOOKUP(B232,Budgets!$A$2:$B$275,2,FALSE) -> Budget48
A233: User232 | B233: 13034 | C233: =VLOOKUP(B233,Budgets!$A$2:$B$275,2,FALSE) -> Budget41
A234: User233 | B234: 13040 | C234: =VLOOKUP(B234,Budgets!$A$2:$B$275,2,FALSE) -> Budget47
A235: User234 | B235: 13125 | C235: =VLOOKUP(B235,Budgets!$A$2:$B$275,2,FALSE) -> Budget110
... A241: User240 | B241: 13024 | C241: =VLOOKUP(B241,Budgets!$A$2:$B$275,2,FALSE) -> Budget33
A242: User241 | B242: 13041A | C242: =VLOOKUP(B242,Budgets!$A$2:$B$275,2,FALSE) -> Budget272
A243: User242 | B243: 13008 | C243: =VLOOKUP(B243,Budgets!$A$2:$B$275,2,FALSE) -> Budget17
A244: User243 | B244: 13008 | C244: =VLOOKUP(B244,Budgets!$A$2:$B$275,2,FALSE) -> Budget17
A245: User244 | B245: 13024 | C245: =VLOOKUP(B245,Budgets!$A$2:$B$275,2,FALSE) -> Budget33
A246: User245 | B246: 13024 | C246: =VLOOKUP(B246,Budgets!$A$2:$B$275,2,FALSE) -> Budget33
A247: User246 | B247: 13080 | C247: =VLOOKUP(B247,Budgets!$A$2:$B$275,2,FALSE) -> Budget80
A248: User247 | B248: 13023 | C248: =VLOOKUP(B248,Budgets!$A$2:$B$275,2,FALSE) -> Budget32
A249: User248 | B249: 13072 | C249: =VLOOKUP(B249,Budgets!$A$2:$B$275,2,FALSE) -> Budget74
A250: User249 | B250: 13024 | C250: =VLOOKUP(B250,Budgets!$A$2:$B$275,2,FALSE) -> Budget33
A251: User250 | B251: 13134 | C251: =VLOOKUP(B251,Budgets!$A$2:$B$275,2,FALSE) -> Budget118
A252: User251 | B252: 13024 | C252: =VLOOKUP(B252,Budgets!$A$2:$B$275,2,FALSE) -> Budget33
A253: User252 | B253: 13003 | C253: =VLOOKUP(B253,Budgets!$A$2:$B$275,2,FALSE) -> Budget12
A254: User253 | B254: 41017 | C254: =VLOOKUP(B254,Budgets!$A$2:$B$275,2,FALSE) -> Budget249
... A267: User266 | B267: 13024 | C267: =VLOOKUP(B267,Budgets!$A$2:$B$275,2,FALSE) -> Budget33
A268: User267 | B268: 13041A | C268: =VLOOKUP(B268,Budgets!$A$2:$B$275,2,FALSE) -> Budget272
A269: User268 | B269: 13019 | C269: =VLOOKUP(B269,Budgets!$A$2:$B$275,2,FALSE) -> Budget28
A270: User269 | B270: 13134 | C270: =VLOOKUP(B270,Budgets!$A$2:$B$275,2,FALSE) -> Budget118
A271: User270 | B271: 13024 | C271: =VLOOKUP(B271,Budgets!$A$2:$B$275,2,FALSE) -> Budget33
...

Sheet Budgets
A1: Code | B1: Description
A2: 11019 | B2: Budget1
A3: 11028 | B3: Budget2
A4: 11030 | B4: Budget3
A5: 11033 | B5: Budget4
A6: 11037 | B6: Budget5
A7: 12015 | B7: Budget6
A8: 12020 | B8: Budget7
A9: 12029 | B9: Budget8
A10: 13000 | B10: Budget9
A11: 13001 | B11: Budget10
A12: 13002 | B12: Budget11
A13: 13003 | B13: Budget12
... A270: 81004 | B270: Budget269
A271: 12004B | B271: Budget270
A272: 13019A | B272: Budget271
A273: 13041A | B273: Budget272
A274: 13054a | B274: Budget273
A275: 22012a | B275: Budget274
